PDS_VERSION_ID = PDS3
/* FILE DATA ELEMENTS */
RECORD_TYPE = UNDEFINED
/* POINTERS TO DATA OBJECTS */
^IMAGE = ("H6416_0000_S14.TIF")
/* IDENTIFICATION DATA ELEMENTS */
DATA_SET_ID = "MEX-M-HRSC-4-REFDR-MAPPROJECT-EXT2-V4.0"
DATA_SET_NAME = "MARS EXPRESS HRSC MAP PROJECTED REFDR EXTENSION2 V4.0"
DETECTOR_ID = MEX_HRSC_S1
EVENT_TYPE = "MARS-REGIONAL-MAPPING-Te-Im-Fl"
INSTRUMENT_HOST_ID = MEX
INSTRUMENT_HOST_NAME = "MARS EXPRESS"
INSTRUMENT_ID = HRSC
INSTRUMENT_NAME = "HIGH RESOLUTION STEREO CAMERA"
MISSION_NAME = "MARS EXPRESS"
MISSION_PHASE_NAME = ME_Phase_15
PROCESSING_LEVEL_ID = 4
PRODUCT_CREATION_TIME = 2023-02-05T03:41:04.000Z
PRODUCT_ID = "H6416_0000_S14.TIF"
RELEASE_ID = 0006
REVISION_ID = 0000
/* QUALITY DATA ELEMENTS */
DATA_QUALITY_ID = 1
DATA_QUALITY_DESC = "Data calculated based on original SPICE kernels"
/* TIME DATA ELEMENTS */
SPACECRAFT_CLOCK_START_COUNT = "1/0178788733.07282"
SPACECRAFT_CLOCK_STOP_COUNT = "1/0178789128.62173"
START_TIME = 2008-12-31T07:33:32.720Z
STOP_TIME = 2008-12-31T07:38:50.467Z
/* ORBITAL DATA ELEMENTS */
ASCENDING_NODE_LONGITUDE = 95.53
MAXIMUM_RESOLUTION = 0.0361
FOOTPRINT_POINT_LATITUDE = (-27.4472,-27.4257,-27.4072,-27.3884, -27.3878,-27.3966,-26.6818,-26.101, -25.5156,-24.773,-24.0173,-23.7103, -23.252,-22.939,-22.6298,-22.3155, -22.0016,-21.6817,-21.3626,-21.0381, -20.7185,-20.3901,-19.8948,-19.5593, -19.2385,-18.9025,-18.5514,-18.211, -17.8671,-17.5138,-17.1729,-16.8157, -16.2793,-15.9183,-15.5657,-15.2025, -14.6404,-14.268,-13.8924,-13.5136, -13.1323,-12.747,-12.3589,-11.9691, -11.5751,-11.1767,-10.7776,-10.5773, -10.5423,-10.5424,-10.544,-10.5486, -10.5531,-10.5573,-10.562,-10.5623, -10.5625,-10.9667,-11.3672,-11.7646, -12.1577,-12.5474,-12.9334,-13.3218, -13.6968,-14.0757,-14.4543,-14.8257, -15.3798,-15.7448,-16.106,-16.4655, -16.9999,-17.5271,-17.876,-18.3996, -18.738,-19.0775,-19.4118,-19.7427, -20.0753,-20.4052,-20.7397,-21.0616, -21.3869,-21.7077,-22.1875,-22.5028, -22.8179,-23.1281,-23.4389,-24.0533, -24.65,-24.9549,-25.3972,-25.9865, -26.7184,-27.2926,-27.4363,-27.4472)
FOOTPRINT_POINT_LONGITUDE = (41.8814,41.2452,40.7202,40.2039, 40.1879,40.183,40.1712,40.1609,40.1496, 40.1343,40.1175,40.1104,40.0993,40.0916 ,40.0836,40.0753,40.0668,40.058,40.049, 40.0396,40.0299,40.02,40.0046,39.9941, 39.9826,39.9713,39.96,39.948,39.9357, 39.9229,39.9095,39.8963,39.8757,39.8615 ,39.8462,39.831,39.8082,39.7919,39.7753 ,39.7582,39.7407,39.7227,39.7042, 39.6851,39.6655,39.6454,39.6246,39.6139 ,39.612,40.0686,40.4554,40.8443,41.4076 ,41.7779,42.1012,42.1261,42.1348, 42.1267,42.1187,42.111,42.1031,42.0953, 42.0873,42.0827,42.0726,42.0669,42.0628 ,42.0562,42.0485,42.0428,42.0367,42.032 ,42.0247,42.017,42.0124,42.0056,41.999, 41.9946,41.9881,41.9818,41.9768,41.9735 ,41.9729,41.9676,41.9638,41.9608,41.956 ,41.9522,41.9488,41.9451,41.941,41.9352 ,41.9225,41.9209,41.9139,41.9061, 41.8999,41.8937,41.8919,41.8814)
ORBIT_NUMBER = 6416
ORBITAL_ECCENTRICITY = 0.575
ORBITAL_INCLINATION = 86.76
ORBITAL_SEMIMAJOR_AXIS = 8679.74
PERIAPSIS_ALTITUDE = 306.2
PERIAPSIS_ARGUMENT_ANGLE = 310.29
PERIAPSIS_TIME = 2008-12-31T07:27:12.000Z
SPACECRAFT_ORIENTATION = (0.0,1.0,0.0)
^MEX_ORIENTATION_DESC = "MEX_ORIENTATION_DESC.TXT"
SPACECRAFT_POINTING_MODE = ACROSSTRACK
^MEX_POINTING_DESC = "MEX_POINTING_DESC.TXT"
RIGHT_ASCENSION = -1e+32
DECLINATION = -1e+32
OFFSET_ANGLE = -0.8
SPACECRAFT_SOLAR_DISTANCE = 2.18278e+08
TARGET_NAME = MARS
/* CAMERA DATA ELEMENTS */
DETECTOR_TEMPERATURE = 16.9432
FOCAL_PLANE_TEMPERATURE = 7.5638
INST_CMPRS_NAME = "DISCRETE COSINE TRANSFORMATION (DCT)"
INST_CMPRS_RATIO = 11.2917
INST_CMPRS_QUALITY = 0
INST_CMPRS_QUANTZ_TBL_ID = 0
INSTRUMENT_TEMPERATURE = 10.8262
LENS_TEMPERATURE = 8.1755
MACROPIXEL_SIZE = 2
MISSING_FRAMES = 1
PIXEL_SUBSAMPLING_FLAG = N
SIGNAL_CHAIN_ID = 1
/* RADIOMETRIC DATA ELEMENTS */
BANDWIDTH = 180.0
CENTER_FILTER_WAVELENGTH = 677.0
RADIANCE_OFFSET = 4.93126
RADIANCE_SCALING_FACTOR = 0.0164193
REFLECTANCE_SCALING_FACTOR = 0.000408145
MEX:REFLECTANCE_OFFSET = 0.122579
/* IMAGE OBJECT DEFINITIONS */
OBJECT = IMAGE
  INTERCHANGE_FORMAT = BINARY
  LINES = 40058
  LINE_SAMPLES = 5181
  SAMPLE_TYPE = UNSIGNED_INTEGER
  SAMPLE_BITS = 8
  BANDS = 1
  BAND_STORAGE_TYPE = BAND_SEQUENTIAL
  MAXIMUM = 255
  MEAN = 94.8094
  MINIMUM = 1
  STANDARD_DEVIATION = 35.9106
END_OBJECT = IMAGE
/* MAP OBJECT DEFINITIONS */
OBJECT = IMAGE_MAP_PROJECTION
  ^DATA_SET_MAP_PROJECTION_CATALOG= "DSMAP.CAT"
  A_AXIS_RADIUS = 3396.0
  B_AXIS_RADIUS = 3396.0
  C_AXIS_RADIUS = 3396.0
  CENTER_LATITUDE = 0.0
  CENTER_LONGITUDE = 41.0
  COORDINATE_SYSTEM_NAME = PLANETOGRAPHIC
  COORDINATE_SYSTEM_TYPE = "BODY-FIXED ROTATING"
  EASTERNMOST_LONGITUDE = 42.1348
  FIRST_STANDARD_PARALLEL = "N/A"
  LINE_FIRST_PIXEL = 1
  LINE_LAST_PIXEL = 40058
  LINE_PROJECTION_OFFSET = -25030.25
  MAP_PROJECTION_ROTATION = 0.0
  MAP_PROJECTION_TYPE = SINUSOIDAL
  MAP_RESOLUTION = 2370.85521546667
  MAP_SCALE = 0.025
  MAXIMUM_LATITUDE = -10.5423
  MINIMUM_LATITUDE = -27.4472
  POSITIVE_LONGITUDE_DIRECTION = EAST
  REFERENCE_LATITUDE = "N/A"
  REFERENCE_LONGITUDE = "N/A"
  SAMPLE_FIRST_PIXEL = 1
  SAMPLE_LAST_PIXEL = 5181
  SAMPLE_PROJECTION_OFFSET = 2933.25
  SECOND_STANDARD_PARALLEL = "N/A"
  WESTERNMOST_LONGITUDE = 39.612
END_OBJECT = IMAGE_MAP_PROJECTION
END
