PDS_VERSION_ID = PDS3
/* FILE DATA ELEMENTS */
RECORD_TYPE = UNDEFINED
/* POINTERS TO DATA OBJECTS */
^IMAGE = ("H6416_0000_P24.TIF")
/* IDENTIFICATION DATA ELEMENTS */
DATA_SET_ID = "MEX-M-HRSC-4-REFDR-MAPPROJECT-EXT2-V4.0"
DATA_SET_NAME = "MARS EXPRESS HRSC MAP PROJECTED REFDR EXTENSION2 V4.0"
DETECTOR_ID = MEX_HRSC_P2
EVENT_TYPE = "MARS-REGIONAL-MAPPING-Te-Im-Fl"
INSTRUMENT_HOST_ID = MEX
INSTRUMENT_HOST_NAME = "MARS EXPRESS"
INSTRUMENT_ID = HRSC
INSTRUMENT_NAME = "HIGH RESOLUTION STEREO CAMERA"
MISSION_NAME = "MARS EXPRESS"
MISSION_PHASE_NAME = ME_Phase_15
PROCESSING_LEVEL_ID = 4
PRODUCT_CREATION_TIME = 2023-02-05T03:41:04.000Z
PRODUCT_ID = "H6416_0000_P24.TIF"
RELEASE_ID = 0006
REVISION_ID = 0000
/* QUALITY DATA ELEMENTS */
DATA_QUALITY_ID = 1
DATA_QUALITY_DESC = "Data calculated based on original SPICE kernels"
/* TIME DATA ELEMENTS */
SPACECRAFT_CLOCK_START_COUNT = "1/0178788733.07282"
SPACECRAFT_CLOCK_STOP_COUNT = "1/0178789128.62173"
START_TIME = 2008-12-31T07:32:28.569Z
STOP_TIME = 2008-12-31T07:36:55.463Z
/* ORBITAL DATA ELEMENTS */
ASCENDING_NODE_LONGITUDE = 95.53
MAXIMUM_RESOLUTION = 0.0318
FOOTPRINT_POINT_LATITUDE = (-27.4499,-27.4693,-27.4825,-27.4931, -27.4934,-27.4863,-26.7595,-26.1804, -25.6015,-25.158,-24.862,-24.5665, -24.1152,-23.8133,-23.5097,-23.2027, -22.8939,-22.5812,-22.2707,-21.9545, -21.6388,-21.3204,-20.8328,-20.3458, -20.0178,-19.6917,-19.3478,-19.0107, -18.5075,-18.1659,-17.8181,-17.2983, -16.7661,-16.2293,-15.8692,-15.4989, -15.1315,-14.5798,-14.2048,-13.8259, -13.4433,-13.0588,-12.4687,-12.0762, -11.4785,-10.8716,-10.6651,-10.6307, -10.6146,-10.6034,-10.5866,-10.5742, -10.5571,-10.5562,-10.5566,-10.9663, -11.3714,-11.7737,-12.1718,-12.5651, -12.9582,-13.3413,-13.9188,-14.2962, -14.6709,-15.0429,-15.4097,-15.7759, -16.1375,-16.4972,-16.8519,-17.2071, -17.5556,-18.0773,-18.5882,-18.9326, -19.4376,-19.7727,-20.1033,-20.4313, -20.9162,-21.2386,-21.5589,-21.8746, -22.1902,-22.6586,-22.9681,-23.4328, -23.7373,-24.037,-24.4951,-24.9398, -25.2378,-25.5329,-26.1123,-26.5462, -26.9781,-27.2712,-27.4175,-27.4499)
FOOTPRINT_POINT_LONGITUDE = (41.7947,41.2156,40.7381,40.2689, 40.2544,40.2504,40.242,40.2345,40.2264, 40.2197,40.215,40.2102,40.2024,40.197, 40.1915,40.1857,40.1797,40.1736,40.1671 ,40.1604,40.1536,40.1465,40.1354, 40.1238,40.1158,40.1075,40.0988,40.09, 40.0764,40.0669,40.0571,40.042,40.0261, 40.0096,39.9983,39.9862,39.9741,39.9558 ,39.943,39.9297,39.9161,39.9022,39.8801 ,39.8654,39.8423,39.8183,39.8098, 39.8083,40.4081,40.7306,41.1779,41.4851 ,41.8778,41.8986,41.9061,41.9034, 41.9001,41.8971,41.8944,41.8918,41.8883 ,41.888,41.8812,41.881,41.8776,41.8762, 41.8745,41.8723,41.8699,41.8687,41.8667 ,41.865,41.8631,41.8601,41.8596,41.8538 ,41.8501,41.8468,41.8439,41.8437, 41.8422,41.8412,41.8398,41.8386,41.8379 ,41.8353,41.8339,41.8307,41.8273, 41.8291,41.8216,41.8188,41.8156,41.8149 ,41.8111,41.8094,41.8106,41.8062, 41.8043,41.7947)
ORBIT_NUMBER = 6416
ORBITAL_ECCENTRICITY = 0.575
ORBITAL_INCLINATION = 86.76
ORBITAL_SEMIMAJOR_AXIS = 8679.74
PERIAPSIS_ALTITUDE = 306.2
PERIAPSIS_ARGUMENT_ANGLE = 310.29
PERIAPSIS_TIME = 2008-12-31T07:27:12.000Z
SPACECRAFT_ORIENTATION = (0.0,1.0,0.0)
^MEX_ORIENTATION_DESC = "MEX_ORIENTATION_DESC.TXT"
SPACECRAFT_POINTING_MODE = ACROSSTRACK
^MEX_POINTING_DESC = "MEX_POINTING_DESC.TXT"
RIGHT_ASCENSION = -1e+32
DECLINATION = -1e+32
OFFSET_ANGLE = -0.8
SPACECRAFT_SOLAR_DISTANCE = 2.18278e+08
TARGET_NAME = MARS
/* CAMERA DATA ELEMENTS */
DETECTOR_TEMPERATURE = 18.1666
FOCAL_PLANE_TEMPERATURE = 7.5638
INST_CMPRS_NAME = "DISCRETE COSINE TRANSFORMATION (DCT)"
INST_CMPRS_RATIO = 6.87573
INST_CMPRS_QUALITY = 0
INST_CMPRS_QUANTZ_TBL_ID = 0
INSTRUMENT_TEMPERATURE = 10.8262
LENS_TEMPERATURE = 8.1755
MACROPIXEL_SIZE = 2
MISSING_FRAMES = 0
PIXEL_SUBSAMPLING_FLAG = N
SIGNAL_CHAIN_ID = 3
/* RADIOMETRIC DATA ELEMENTS */
BANDWIDTH = 177.0
CENTER_FILTER_WAVELENGTH = 676.5
RADIANCE_OFFSET = 4.32143
RADIANCE_SCALING_FACTOR = 0.0160053
REFLECTANCE_SCALING_FACTOR = 0.000404332
MEX:REFLECTANCE_OFFSET = 0.10917
/* IMAGE OBJECT DEFINITIONS */
OBJECT = IMAGE
  INTERCHANGE_FORMAT = BINARY
  LINES = 40058
  LINE_SAMPLES = 5181
  SAMPLE_TYPE = UNSIGNED_INTEGER
  SAMPLE_BITS = 8
  BANDS = 1
  BAND_STORAGE_TYPE = BAND_SEQUENTIAL
  MAXIMUM = 255
  MEAN = 93.1245
  MINIMUM = 1
  STANDARD_DEVIATION = 35.2421
END_OBJECT = IMAGE
/* MAP OBJECT DEFINITIONS */
OBJECT = IMAGE_MAP_PROJECTION
  ^DATA_SET_MAP_PROJECTION_CATALOG= "DSMAP.CAT"
  A_AXIS_RADIUS = 3396.0
  B_AXIS_RADIUS = 3396.0
  C_AXIS_RADIUS = 3396.0
  CENTER_LATITUDE = 0.0
  CENTER_LONGITUDE = 41.0
  COORDINATE_SYSTEM_NAME = PLANETOGRAPHIC
  COORDINATE_SYSTEM_TYPE = "BODY-FIXED ROTATING"
  EASTERNMOST_LONGITUDE = 41.9061
  FIRST_STANDARD_PARALLEL = "N/A"
  LINE_FIRST_PIXEL = 1
  LINE_LAST_PIXEL = 40058
  LINE_PROJECTION_OFFSET = -25030.25
  MAP_PROJECTION_ROTATION = 0.0
  MAP_PROJECTION_TYPE = SINUSOIDAL
  MAP_RESOLUTION = 2370.85521546667
  MAP_SCALE = 0.025
  MAXIMUM_LATITUDE = -10.5562
  MINIMUM_LATITUDE = -27.4934
  POSITIVE_LONGITUDE_DIRECTION = EAST
  REFERENCE_LATITUDE = "N/A"
  REFERENCE_LONGITUDE = "N/A"
  SAMPLE_FIRST_PIXEL = 1
  SAMPLE_LAST_PIXEL = 5181
  SAMPLE_PROJECTION_OFFSET = 2933.25
  SECOND_STANDARD_PARALLEL = "N/A"
  WESTERNMOST_LONGITUDE = 39.8083
END_OBJECT = IMAGE_MAP_PROJECTION
END
