PDS_VERSION_ID = PDS3
/* FILE DATA ELEMENTS */
RECORD_TYPE = UNDEFINED
/* POINTERS TO DATA OBJECTS */
^IMAGE = ("H6416_0000_IR4.TIF")
/* IDENTIFICATION DATA ELEMENTS */
DATA_SET_ID = "MEX-M-HRSC-4-REFDR-MAPPROJECT-EXT2-V4.0"
DATA_SET_NAME = "MARS EXPRESS HRSC MAP PROJECTED REFDR EXTENSION2 V4.0"
DETECTOR_ID = MEX_HRSC_IR
EVENT_TYPE = "MARS-REGIONAL-MAPPING-Te-Im-Fl"
INSTRUMENT_HOST_ID = MEX
INSTRUMENT_HOST_NAME = "MARS EXPRESS"
INSTRUMENT_ID = HRSC
INSTRUMENT_NAME = "HIGH RESOLUTION STEREO CAMERA"
MISSION_NAME = "MARS EXPRESS"
MISSION_PHASE_NAME = ME_Phase_15
PROCESSING_LEVEL_ID = 4
PRODUCT_CREATION_TIME = 2023-02-05T03:41:04.000Z
PRODUCT_ID = "H6416_0000_IR4.TIF"
RELEASE_ID = 0006
REVISION_ID = 0000
/* QUALITY DATA ELEMENTS */
DATA_QUALITY_ID = 1
DATA_QUALITY_DESC = "Data calculated based on original SPICE kernels"
/* TIME DATA ELEMENTS */
SPACECRAFT_CLOCK_START_COUNT = "1/0178788733.07282"
SPACECRAFT_CLOCK_STOP_COUNT = "1/0178789128.62173"
START_TIME = 2008-12-31T07:33:25.421Z
STOP_TIME = 2008-12-31T07:38:35.910Z
/* ORBITAL DATA ELEMENTS */
ASCENDING_NODE_LONGITUDE = 95.53
MAXIMUM_RESOLUTION = 0.0702
FOOTPRINT_POINT_LATITUDE = (-27.4485,-27.4302,-27.4156,-27.4005, -27.4,-27.4068,-26.8358,-26.2599, -25.6747,-25.0838,-24.7852,-24.3344, -24.0301,-23.574,-23.1089,-22.7981, -22.4861,-22.1733,-21.8548,-21.3756, -21.0523,-20.7311,-20.4041,-19.9074, -19.5733,-19.2491,-18.9132,-18.5631, -18.2222,-17.8779,-17.5295,-17.1852, -16.6498,-16.2924,-15.9317,-15.3949, -15.0287,-14.6525,-14.0899,-13.7117, -13.3303,-12.9462,-12.5588,-12.1683, -11.7747,-11.3769,-10.7735,-10.574, -10.5543,-10.5525,-10.5535,-10.5561, -10.5585,-10.5612,-10.5643,-10.5643, -10.5658,-10.9712,-11.3734,-11.7722, -12.167,-12.5577,-12.9447,-13.3327, -13.7099,-14.0912,-14.4692,-14.8408, -15.2114,-15.5793,-15.9415,-16.4826, -17.0174,-17.5451,-17.8943,-18.2398, -18.7521,-19.0921,-19.4266,-19.7597, -20.0908,-20.4233,-20.7543,-21.239, -21.563,-21.8822,-22.36,-22.6736, -22.9883,-23.2967,-23.7571,-24.0654, -24.37,-24.9665,-25.2627,-25.9997, -26.7278,-27.3045,-27.4462,-27.4485)
FOOTPRINT_POINT_LONGITUDE = (41.8666,41.2002,40.7027,40.2131, 40.1979,40.1944,40.1855,40.1758,40.1652 ,40.1538,40.1477,40.1382,40.1315, 40.1212,40.1102,40.1027,40.0948,40.0868 ,40.0784,40.0654,40.0563,40.047,40.0374 ,40.0225,40.0123,40.0012,39.9903, 39.9794,39.9678,39.9559,39.9436,39.9308 ,39.9116,39.898,39.8843,39.8622,39.8474 ,39.8325,39.8091,39.7927,39.776,39.7588 ,39.7412,39.7231,39.7043,39.6852, 39.6555,39.645,39.644,40.093,40.4097, 40.7736,41.3005,41.6699,42.0652,42.0885 ,42.0962,42.0887,42.0816,42.0748, 42.0678,42.0608,42.0538,42.0497,42.0403 ,42.0357,42.0319,42.0261,42.0215, 42.0166,42.0111,42.0044,41.998,41.9912, 41.987,41.9822,41.9749,41.9709,41.9648, 41.9598,41.9546,41.9534,41.9517,41.9448 ,41.9412,41.9385,41.9343,41.9309, 41.9277,41.9243,41.9166,41.9171,41.914, 41.904,41.8977,41.8899,41.8836,41.8786, 41.8769,41.8666)
ORBIT_NUMBER = 6416
ORBITAL_ECCENTRICITY = 0.575
ORBITAL_INCLINATION = 86.76
ORBITAL_SEMIMAJOR_AXIS = 8679.74
PERIAPSIS_ALTITUDE = 306.2
PERIAPSIS_ARGUMENT_ANGLE = 310.29
PERIAPSIS_TIME = 2008-12-31T07:27:12.000Z
SPACECRAFT_ORIENTATION = (0.0,1.0,0.0)
^MEX_ORIENTATION_DESC = "MEX_ORIENTATION_DESC.TXT"
SPACECRAFT_POINTING_MODE = ACROSSTRACK
^MEX_POINTING_DESC = "MEX_POINTING_DESC.TXT"
RIGHT_ASCENSION = -1e+32
DECLINATION = -1e+32
OFFSET_ANGLE = -0.8
SPACECRAFT_SOLAR_DISTANCE = 2.18278e+08
TARGET_NAME = MARS
/* CAMERA DATA ELEMENTS */
DETECTOR_TEMPERATURE = 16.9432
FOCAL_PLANE_TEMPERATURE = 7.5638
INST_CMPRS_NAME = "DISCRETE COSINE TRANSFORMATION (DCT)"
INST_CMPRS_RATIO = 16.525
INST_CMPRS_QUALITY = 0
INST_CMPRS_QUANTZ_TBL_ID = 0
INSTRUMENT_TEMPERATURE = 10.8262
LENS_TEMPERATURE = 8.1755
MACROPIXEL_SIZE = 4
MISSING_FRAMES = 0
PIXEL_SUBSAMPLING_FLAG = N
SIGNAL_CHAIN_ID = 2
/* RADIOMETRIC DATA ELEMENTS */
BANDWIDTH = 81.0
CENTER_FILTER_WAVELENGTH = 955.5
RADIANCE_OFFSET = 0.994064
RADIANCE_SCALING_FACTOR = 0.00482413
REFLECTANCE_SCALING_FACTOR = 0.000495866
MEX:REFLECTANCE_OFFSET = 0.102178
/* IMAGE OBJECT DEFINITIONS */
OBJECT = IMAGE
  INTERCHANGE_FORMAT = BINARY
  LINES = 20029
  LINE_SAMPLES = 2591
  SAMPLE_TYPE = UNSIGNED_INTEGER
  SAMPLE_BITS = 8
  BANDS = 1
  BAND_STORAGE_TYPE = BAND_SEQUENTIAL
  MAXIMUM = 255
  MEAN = 77.9164
  MINIMUM = 1
  STANDARD_DEVIATION = 39.2319
END_OBJECT = IMAGE
/* MAP OBJECT DEFINITIONS */
OBJECT = IMAGE_MAP_PROJECTION
  ^DATA_SET_MAP_PROJECTION_CATALOG= "DSMAP.CAT"
  A_AXIS_RADIUS = 3396.0
  B_AXIS_RADIUS = 3396.0
  C_AXIS_RADIUS = 3396.0
  CENTER_LATITUDE = 0.0
  CENTER_LONGITUDE = 41.0
  COORDINATE_SYSTEM_NAME = PLANETOGRAPHIC
  COORDINATE_SYSTEM_TYPE = "BODY-FIXED ROTATING"
  EASTERNMOST_LONGITUDE = 42.0962
  FIRST_STANDARD_PARALLEL = "N/A"
  LINE_FIRST_PIXEL = 1
  LINE_LAST_PIXEL = 20029
  LINE_PROJECTION_OFFSET = -12515.375
  MAP_PROJECTION_ROTATION = 0.0
  MAP_PROJECTION_TYPE = SINUSOIDAL
  MAP_RESOLUTION = 1185.42760773333
  MAP_SCALE = 0.05
  MAXIMUM_LATITUDE = -10.5525
  MINIMUM_LATITUDE = -27.4485
  POSITIVE_LONGITUDE_DIRECTION = EAST
  REFERENCE_LATITUDE = "N/A"
  REFERENCE_LONGITUDE = "N/A"
  SAMPLE_FIRST_PIXEL = 1
  SAMPLE_LAST_PIXEL = 2591
  SAMPLE_PROJECTION_OFFSET = 1466.375
  SECOND_STANDARD_PARALLEL = "N/A"
  WESTERNMOST_LONGITUDE = 39.644
END_OBJECT = IMAGE_MAP_PROJECTION
END
