PDS_VERSION_ID = PDS3
/* FILE DATA ELEMENTS */
RECORD_TYPE = UNDEFINED
/* POINTERS TO DATA OBJECTS */
^IMAGE = ("H6408_0000_RE4.TIF")
/* IDENTIFICATION DATA ELEMENTS */
DATA_SET_ID = "MEX-M-HRSC-4-REFDR-MAPPROJECT-EXT2-V4.0"
DATA_SET_NAME = "MARS EXPRESS HRSC MAP PROJECTED REFDR EXTENSION2 V4.0"
DETECTOR_ID = MEX_HRSC_RED
EVENT_TYPE = "MARS-REGIONAL-MAPPING-Vo-Im"
INSTRUMENT_HOST_ID = MEX
INSTRUMENT_HOST_NAME = "MARS EXPRESS"
INSTRUMENT_ID = HRSC
INSTRUMENT_NAME = "HIGH RESOLUTION STEREO CAMERA"
MISSION_NAME = "MARS EXPRESS"
MISSION_PHASE_NAME = ME_Phase_15
PROCESSING_LEVEL_ID = 4
PRODUCT_CREATION_TIME = 2023-02-05T03:41:04.000Z
PRODUCT_ID = "H6408_0000_RE4.TIF"
RELEASE_ID = 0006
REVISION_ID = 0000
/* QUALITY DATA ELEMENTS */
DATA_QUALITY_ID = 1
DATA_QUALITY_DESC = "Data calculated based on original SPICE kernels"
/* TIME DATA ELEMENTS */
SPACECRAFT_CLOCK_START_COUNT = "1/0178591190.09039"
SPACECRAFT_CLOCK_STOP_COUNT = "1/0178591585.07250"
START_TIME = 2008-12-29T00:39:58.338Z
STOP_TIME = 2008-12-29T00:45:17.395Z
/* ORBITAL DATA ELEMENTS */
ASCENDING_NODE_LONGITUDE = 95.69
MAXIMUM_RESOLUTION = 0.101
FOOTPRINT_POINT_LATITUDE = (-48.0353,-48.0267,-48.0064,-48.006, -47.9597,-47.5661,-47.1727,-46.7784, -46.384,-45.7918,-45.3972,-44.8053, -44.406,-43.8147,-43.2179,-42.8214, -42.4248,-42.0273,-41.4338,-41.0329, -40.6361,-40.2387,-39.8409,-39.4427, -39.0304,-38.412,-37.9996,-37.5872, -36.9693,-36.5592,-36.1347,-35.7081, -35.2819,-34.8557,-34.2165,-33.559, -33.1191,-32.68,-32.2406,-31.8015, -31.1434,-30.485,-30.0467,-29.6088, -29.171,-28.6788,-28.1574,-27.6365, -27.1168,-26.8574,-26.7872,-26.7875, -26.7831,-26.783,-26.7849,-27.3044, -27.8258,-28.3471,-29.1115,-29.5496, -30.208,-30.8666,-31.3062,-31.965, -32.4056,-32.8447,-33.2878,-33.728, -34.1674,-34.5928,-35.0194,-35.4464, -36.0866,-36.7172,-37.3366,-37.7498, -38.1627,-38.7829,-39.3988,-39.9979, -40.3979,-40.7994,-41.1917,-41.5954, -41.9924,-42.3901,-42.9867,-43.3843, -43.7817,-44.1803,-44.5785,-44.9766, -45.3706,-45.7664,-46.161,-46.5562, -46.9566,-47.7454,-47.9394,-48.0353)
FOOTPRINT_POINT_LONGITUDE = (121.726,121.118,120.215,120.201, 120.183,120.212,120.24,120.268,120.294, 120.332,120.356,120.392,120.413,120.445 ,120.475,120.494,120.513,120.53,120.556 ,120.571,120.587,120.601,120.615, 120.629,120.642,120.66,120.672,120.683, 120.698,120.709,120.717,120.726,120.734 ,120.741,120.752,120.761,120.767, 120.772,120.776,120.78,120.785,120.789, 120.79,120.792,120.793,120.793,120.793, 120.792,120.791,120.79,120.79,121.406, 122.236,122.25,122.259,122.253,122.246, 122.24,122.229,122.223,122.213,122.203, 122.196,122.186,122.179,122.172,122.163 ,122.155,122.148,122.141,122.133, 122.124,122.112,122.099,122.085,122.076 ,122.067,122.052,122.039,122.024, 122.013,122.0,121.994,121.979,121.968, 121.957,121.939,121.927,121.914,121.9, 121.886,121.872,121.86,121.846,121.832, 121.818,121.799,121.768,121.762, 121.726)
ORBIT_NUMBER = 6408
ORBITAL_ECCENTRICITY = 0.575
ORBITAL_INCLINATION = 86.75
ORBITAL_SEMIMAJOR_AXIS = 8683.04
PERIAPSIS_ALTITUDE = 306.1
PERIAPSIS_ARGUMENT_ANGLE = 311.66
PERIAPSIS_TIME = 2008-12-29T00:40:16.000Z
SPACECRAFT_ORIENTATION = (0.0,1.0,0.0)
^MEX_ORIENTATION_DESC = "MEX_ORIENTATION_DESC.TXT"
SPACECRAFT_POINTING_MODE = ACROSSTRACK
^MEX_POINTING_DESC = "MEX_POINTING_DESC.TXT"
RIGHT_ASCENSION = -1e+32
DECLINATION = -1e+32
OFFSET_ANGLE = -0.2
SPACECRAFT_SOLAR_DISTANCE = 2.18694e+08
TARGET_NAME = MARS
/* CAMERA DATA ELEMENTS */
DETECTOR_TEMPERATURE = 18.5744
FOCAL_PLANE_TEMPERATURE = 8.5833
INST_CMPRS_NAME = "DISCRETE COSINE TRANSFORMATION (DCT)"
INST_CMPRS_RATIO = 11.0081
INST_CMPRS_QUALITY = 0
INST_CMPRS_QUANTZ_TBL_ID = 0
INSTRUMENT_TEMPERATURE = 11.234
LENS_TEMPERATURE = 8.9911
MACROPIXEL_SIZE = 8
MISSING_FRAMES = 0
PIXEL_SUBSAMPLING_FLAG = N
SIGNAL_CHAIN_ID = 2
/* RADIOMETRIC DATA ELEMENTS */
BANDWIDTH = 48.0
CENTER_FILTER_WAVELENGTH = 748.0
RADIANCE_OFFSET = 0.632822
RADIANCE_SCALING_FACTOR = 0.00609624
REFLECTANCE_SCALING_FACTOR = 0.000665366
MEX:REFLECTANCE_OFFSET = 0.0690685
/* IMAGE OBJECT DEFINITIONS */
OBJECT = IMAGE
  INTERCHANGE_FORMAT = BINARY
  LINES = 12584
  LINE_SAMPLES = 1012
  SAMPLE_TYPE = UNSIGNED_INTEGER
  SAMPLE_BITS = 8
  BANDS = 1
  BAND_STORAGE_TYPE = BAND_SEQUENTIAL
  MAXIMUM = 255
  MEAN = 128.244
  MINIMUM = 1
  STANDARD_DEVIATION = 33.7096
END_OBJECT = IMAGE
/* MAP OBJECT DEFINITIONS */
OBJECT = IMAGE_MAP_PROJECTION
  ^DATA_SET_MAP_PROJECTION_CATALOG= "DSMAP.CAT"
  A_AXIS_RADIUS = 3396.0
  B_AXIS_RADIUS = 3396.0
  C_AXIS_RADIUS = 3396.0
  CENTER_LATITUDE = 0.0
  CENTER_LONGITUDE = 121.0
  COORDINATE_SYSTEM_NAME = PLANETOGRAPHIC
  COORDINATE_SYSTEM_TYPE = "BODY-FIXED ROTATING"
  EASTERNMOST_LONGITUDE = 122.259
  FIRST_STANDARD_PARALLEL = "N/A"
  LINE_FIRST_PIXEL = 1
  LINE_LAST_PIXEL = 12584
  LINE_PROJECTION_OFFSET = -15857.4375
  MAP_PROJECTION_ROTATION = 0.0
  MAP_PROJECTION_TYPE = SINUSOIDAL
  MAP_RESOLUTION = 592.713803866667
  MAP_SCALE = 0.1
  MAXIMUM_LATITUDE = -26.783
  MINIMUM_LATITUDE = -48.0353
  POSITIVE_LONGITUDE_DIRECTION = EAST
  REFERENCE_LATITUDE = "N/A"
  REFERENCE_LONGITUDE = "N/A"
  SAMPLE_FIRST_PIXEL = 1
  SAMPLE_LAST_PIXEL = 1012
  SAMPLE_PROJECTION_OFFSET = 328.9375
  SECOND_STANDARD_PARALLEL = "N/A"
  WESTERNMOST_LONGITUDE = 120.183
END_OBJECT = IMAGE_MAP_PROJECTION
END
