PDS_VERSION_ID = PDS3
/* FILE DATA ELEMENTS */
RECORD_TYPE = UNDEFINED
/* POINTERS TO DATA OBJECTS */
^IMAGE = ("H6408_0000_IR4.TIF")
/* IDENTIFICATION DATA ELEMENTS */
DATA_SET_ID = "MEX-M-HRSC-4-REFDR-MAPPROJECT-EXT2-V4.0"
DATA_SET_NAME = "MARS EXPRESS HRSC MAP PROJECTED REFDR EXTENSION2 V4.0"
DETECTOR_ID = MEX_HRSC_IR
EVENT_TYPE = "MARS-REGIONAL-MAPPING-Vo-Im"
INSTRUMENT_HOST_ID = MEX
INSTRUMENT_HOST_NAME = "MARS EXPRESS"
INSTRUMENT_ID = HRSC
INSTRUMENT_NAME = "HIGH RESOLUTION STEREO CAMERA"
MISSION_NAME = "MARS EXPRESS"
MISSION_PHASE_NAME = ME_Phase_15
PROCESSING_LEVEL_ID = 4
PRODUCT_CREATION_TIME = 2023-02-05T03:41:04.000Z
PRODUCT_ID = "H6408_0000_IR4.TIF"
RELEASE_ID = 0006
REVISION_ID = 0000
/* QUALITY DATA ELEMENTS */
DATA_QUALITY_ID = 1
DATA_QUALITY_DESC = "Data calculated based on original SPICE kernels"
/* TIME DATA ELEMENTS */
SPACECRAFT_CLOCK_START_COUNT = "1/0178591190.09039"
SPACECRAFT_CLOCK_STOP_COUNT = "1/0178591585.07250"
START_TIME = 2008-12-29T00:40:43.452Z
STOP_TIME = 2008-12-29T00:46:19.361Z
/* ORBITAL DATA ELEMENTS */
ASCENDING_NODE_LONGITUDE = 95.69
MAXIMUM_RESOLUTION = 0.1019
FOOTPRINT_POINT_LATITUDE = (-47.9164,-47.8939,-47.8664,-47.8659, -47.9091,-47.5159,-47.1224,-46.73, -46.1399,-45.553,-45.1626,-44.3849, -43.99,-43.2149,-42.4382,-42.0376, -41.4351,-40.8385,-40.4394,-40.0415, -39.6447,-39.2382,-38.8292,-38.2165, -37.809,-37.4024,-36.984,-36.5632, -35.9399,-35.5237,-35.1082,-34.6938, -34.28,-33.8677,-33.4562,-33.0455, -32.6358,-32.1719,-31.6861,-31.2016, -30.7191,-30.2378,-29.7581,-29.2805, -28.8041,-28.3295,-27.6138,-27.1304, -26.8895,-26.711,-26.7204,-26.7243, -26.7244,-26.7265,-27.4565,-27.9399, -28.4146,-28.891,-29.3685,-29.8473, -30.5685,-31.0509,-31.7789,-32.2658, -32.7188,-33.1278,-33.5389,-33.9498, -34.3665,-34.7812,-35.1965,-35.8212, -36.2387,-36.6573,-37.0769,-37.4933, -37.9007,-38.3072,-38.7174,-39.1259, -39.7422,-40.1383,-40.7328,-41.1387, -41.7339,-42.1359,-42.5358,-42.9244, -43.3134,-43.7027,-44.2852,-44.8694, -45.2637,-45.6556,-46.0494,-46.4429, -47.0284,-47.6166,-47.8178,-47.9164)
FOOTPRINT_POINT_LONGITUDE = (121.74,121.002,120.227,120.213,120.188 ,120.216,120.243,120.269,120.307, 120.342,120.364,120.405,120.427,120.463 ,120.498,120.514,120.539,120.56,120.574 ,120.587,120.6,120.612,120.623,120.64, 120.65,120.659,120.668,120.678,120.688, 120.695,120.702,120.708,120.713,120.718 ,120.722,120.726,120.729,120.732, 120.735,120.737,120.738,120.738,120.738 ,120.738,120.736,120.734,120.731, 120.727,120.725,120.724,121.644,122.312 ,122.328,122.338,122.326,122.317, 122.309,122.301,122.293,122.284,122.27, 122.261,122.247,122.237,122.228,122.219 ,122.21,122.201,122.194,122.185,122.176 ,122.161,122.152,122.142,122.132, 122.121,122.111,122.099,122.089,122.078 ,122.064,122.052,122.032,122.025, 122.003,121.991,121.978,121.965,121.952 ,121.939,121.917,121.894,121.881, 121.866,121.852,121.837,121.809,121.782 ,121.777,121.74)
ORBIT_NUMBER = 6408
ORBITAL_ECCENTRICITY = 0.575
ORBITAL_INCLINATION = 86.75
ORBITAL_SEMIMAJOR_AXIS = 8683.04
PERIAPSIS_ALTITUDE = 306.1
PERIAPSIS_ARGUMENT_ANGLE = 311.66
PERIAPSIS_TIME = 2008-12-29T00:40:16.000Z
SPACECRAFT_ORIENTATION = (0.0,1.0,0.0)
^MEX_ORIENTATION_DESC = "MEX_ORIENTATION_DESC.TXT"
SPACECRAFT_POINTING_MODE = ACROSSTRACK
^MEX_POINTING_DESC = "MEX_POINTING_DESC.TXT"
RIGHT_ASCENSION = -1e+32
DECLINATION = -1e+32
OFFSET_ANGLE = -0.2
SPACECRAFT_SOLAR_DISTANCE = 2.18694e+08
TARGET_NAME = MARS
/* CAMERA DATA ELEMENTS */
DETECTOR_TEMPERATURE = 17.5549
FOCAL_PLANE_TEMPERATURE = 8.5833
INST_CMPRS_NAME = "DISCRETE COSINE TRANSFORMATION (DCT)"
INST_CMPRS_RATIO = 10.9772
INST_CMPRS_QUALITY = 0
INST_CMPRS_QUANTZ_TBL_ID = 0
INSTRUMENT_TEMPERATURE = 11.234
LENS_TEMPERATURE = 8.9911
MACROPIXEL_SIZE = 8
MISSING_FRAMES = 0
PIXEL_SUBSAMPLING_FLAG = N
SIGNAL_CHAIN_ID = 2
/* RADIOMETRIC DATA ELEMENTS */
BANDWIDTH = 81.0
CENTER_FILTER_WAVELENGTH = 955.5
RADIANCE_OFFSET = 0.530267
RADIANCE_SCALING_FACTOR = 0.00584234
REFLECTANCE_SCALING_FACTOR = 0.000602823
MEX:REFLECTANCE_OFFSET = 0.0547138
/* IMAGE OBJECT DEFINITIONS */
OBJECT = IMAGE
  INTERCHANGE_FORMAT = BINARY
  LINES = 12584
  LINE_SAMPLES = 1012
  SAMPLE_TYPE = UNSIGNED_INTEGER
  SAMPLE_BITS = 8
  BANDS = 1
  BAND_STORAGE_TYPE = BAND_SEQUENTIAL
  MAXIMUM = 255
  MEAN = 124.746
  MINIMUM = 1
  STANDARD_DEVIATION = 38.5076
END_OBJECT = IMAGE
/* MAP OBJECT DEFINITIONS */
OBJECT = IMAGE_MAP_PROJECTION
  ^DATA_SET_MAP_PROJECTION_CATALOG= "DSMAP.CAT"
  A_AXIS_RADIUS = 3396.0
  B_AXIS_RADIUS = 3396.0
  C_AXIS_RADIUS = 3396.0
  CENTER_LATITUDE = 0.0
  CENTER_LONGITUDE = 121.0
  COORDINATE_SYSTEM_NAME = PLANETOGRAPHIC
  COORDINATE_SYSTEM_TYPE = "BODY-FIXED ROTATING"
  EASTERNMOST_LONGITUDE = 122.338
  FIRST_STANDARD_PARALLEL = "N/A"
  LINE_FIRST_PIXEL = 1
  LINE_LAST_PIXEL = 12584
  LINE_PROJECTION_OFFSET = -15857.4375
  MAP_PROJECTION_ROTATION = 0.0
  MAP_PROJECTION_TYPE = SINUSOIDAL
  MAP_RESOLUTION = 592.713803866667
  MAP_SCALE = 0.1
  MAXIMUM_LATITUDE = -26.711
  MINIMUM_LATITUDE = -47.9164
  POSITIVE_LONGITUDE_DIRECTION = EAST
  REFERENCE_LATITUDE = "N/A"
  REFERENCE_LONGITUDE = "N/A"
  SAMPLE_FIRST_PIXEL = 1
  SAMPLE_LAST_PIXEL = 1012
  SAMPLE_PROJECTION_OFFSET = 328.9375
  SECOND_STANDARD_PARALLEL = "N/A"
  WESTERNMOST_LONGITUDE = 120.188
END_OBJECT = IMAGE_MAP_PROJECTION
END
