PDS_VERSION_ID = PDS3
/* FILE DATA ELEMENTS */
RECORD_TYPE = UNDEFINED
/* POINTERS TO DATA OBJECTS */
^IMAGE = ("H6405_0000_P14.TIF")
/* IDENTIFICATION DATA ELEMENTS */
DATA_SET_ID = "MEX-M-HRSC-4-REFDR-MAPPROJECT-EXT2-V4.0"
DATA_SET_NAME = "MARS EXPRESS HRSC MAP PROJECTED REFDR EXTENSION2 V4.0"
DETECTOR_ID = MEX_HRSC_P1
EVENT_TYPE = "MARS-REGIONAL-MAPPING-Te-Im-Fl"
INSTRUMENT_HOST_ID = MEX
INSTRUMENT_HOST_NAME = "MARS EXPRESS"
INSTRUMENT_ID = HRSC
INSTRUMENT_NAME = "HIGH RESOLUTION STEREO CAMERA"
MISSION_NAME = "MARS EXPRESS"
MISSION_PHASE_NAME = ME_Phase_15
PROCESSING_LEVEL_ID = 4
PRODUCT_CREATION_TIME = 2023-02-05T03:41:04.000Z
PRODUCT_ID = "H6405_0000_P14.TIF"
RELEASE_ID = 0006
REVISION_ID = 0000
/* QUALITY DATA ELEMENTS */
DATA_QUALITY_ID = 1
DATA_QUALITY_DESC = "Data calculated based on original SPICE kernels"
/* TIME DATA ELEMENTS */
SPACECRAFT_CLOCK_START_COUNT = "1/0178517650.09041"
SPACECRAFT_CLOCK_STOP_COUNT = "1/0178518215.17634"
START_TIME = 2008-12-28T04:15:27.205Z
STOP_TIME = 2008-12-28T04:22:47.489Z
/* ORBITAL DATA ELEMENTS */
ASCENDING_NODE_LONGITUDE = 95.75
MAXIMUM_RESOLUTION = 0.04
FOOTPRINT_POINT_LATITUDE = (-19.7731,-19.7678,-19.7627,-19.7571, -19.7569,-19.7635,-19.2369,-18.5255, -17.9835,-17.2505,-16.5027,-15.748, -14.9752,-14.3904,-13.9975,-13.5978, -13.1963,-12.7918,-12.3832,-11.9693, -11.3405,-10.919,-10.4929,-10.0618, -9.40598,-8.96574,-8.29337,-7.84478, -7.38357,-6.92568,-6.45612,-5.9845, -5.50974,-5.02895,-4.54121,-4.05088, -3.5531,-3.05132,-2.54407,-2.0317, -1.51167,-0.987133,-0.456177,0.0814299, 0.624453,1.17352,2.01009,2.29082, 2.29261,2.30806,2.31818,2.32736,2.33425 ,2.34001,2.34518,2.3454,2.34458,1.50163 ,0.947662,0.399836,-0.147062,-0.679169, -1.20833,-1.73383,-2.25301,-2.76572, -3.27251,-3.77274,-4.26738,-4.76291, -5.24861,-5.724,-6.43594,-6.904, -7.36732,-7.83013,-8.28233,-8.95403, -9.39675,-9.83565,-10.273,-10.7012, -11.1273,-11.5494,-11.9678,-12.382, -12.7907,-13.4024,-13.7997,-14.1973, -14.5919,-14.9819,-15.5653,-16.3325, -17.0757,-18.1776,-18.8976,-19.605, -19.78,-19.7731)
FOOTPRINT_POINT_LONGITUDE = (63.307,62.6312,62.0698,61.5142,61.4969 ,61.4903,61.4759,61.4555,61.4395, 61.4168,61.3933,61.3673,61.3395,61.3177 ,61.3025,61.2871,61.271,61.2545,61.2377 ,61.2204,61.1936,61.1747,61.1553, 61.1354,61.1046,61.083,61.0502,61.0264, 61.0034,60.9781,60.9534,60.9274,60.9004 ,60.8725,60.8442,60.8147,60.7844, 60.7531,60.7207,60.6872,60.653,60.6175, 60.581,60.5434,60.5044,60.4641,60.4015, 60.3801,60.38,61.0169,61.5601,62.0407, 62.5556,63.0725,63.6571,63.6897,63.7014 ,63.6773,63.6615,63.6464,63.6353,63.619 ,63.6056,63.5939,63.5822,63.5708, 63.5594,63.5481,63.5366,63.5299,63.5205 ,63.5075,63.4947,63.486,63.4778,63.4728 ,63.464,63.4529,63.4458,63.4393,63.435, 63.4272,63.4211,63.4151,63.4091,63.4033 ,63.3971,63.3909,63.3833,63.3783, 63.3732,63.368,63.36,63.3552,63.3427, 63.3304,63.3233,63.3152,63.3138,63.307)
ORBIT_NUMBER = 6405
ORBITAL_ECCENTRICITY = 0.575
ORBITAL_INCLINATION = 86.77
ORBITAL_SEMIMAJOR_AXIS = 8682.5
PERIAPSIS_ALTITUDE = 305.91
PERIAPSIS_ARGUMENT_ANGLE = 312.2
PERIAPSIS_TIME = 2008-12-28T04:07:42.000Z
SPACECRAFT_ORIENTATION = (0.0,1.0,0.0)
^MEX_ORIENTATION_DESC = "MEX_ORIENTATION_DESC.TXT"
SPACECRAFT_POINTING_MODE = ACROSSTRACK
^MEX_POINTING_DESC = "MEX_POINTING_DESC.TXT"
RIGHT_ASCENSION = -1e+32
DECLINATION = -1e+32
OFFSET_ANGLE = -0.6
SPACECRAFT_SOLAR_DISTANCE = 2.1885e+08
TARGET_NAME = MARS
/* CAMERA DATA ELEMENTS */
DETECTOR_TEMPERATURE = 17.7588
FOCAL_PLANE_TEMPERATURE = 8.3794
INST_CMPRS_NAME = "DISCRETE COSINE TRANSFORMATION (DCT)"
INST_CMPRS_RATIO = 12.2371
INST_CMPRS_QUALITY = 0
INST_CMPRS_QUANTZ_TBL_ID = 0
INSTRUMENT_TEMPERATURE = 11.4379
LENS_TEMPERATURE = 8.1755
MACROPIXEL_SIZE = 2
MISSING_FRAMES = 1
PIXEL_SUBSAMPLING_FLAG = N
SIGNAL_CHAIN_ID = 3
/* RADIOMETRIC DATA ELEMENTS */
BANDWIDTH = 174.0
CENTER_FILTER_WAVELENGTH = 675.0
RADIANCE_OFFSET = 3.55257
RADIANCE_SCALING_FACTOR = 0.0142189
REFLECTANCE_SCALING_FACTOR = 0.000366305
MEX:REFLECTANCE_OFFSET = 0.0915207
/* IMAGE OBJECT DEFINITIONS */
OBJECT = IMAGE
  INTERCHANGE_FORMAT = BINARY
  LINES = 52463
  LINE_SAMPLES = 7050
  SAMPLE_TYPE = UNSIGNED_INTEGER
  SAMPLE_BITS = 8
  BANDS = 1
  BAND_STORAGE_TYPE = BAND_SEQUENTIAL
  MAXIMUM = 255
  MEAN = 129.609
  MINIMUM = 1
  STANDARD_DEVIATION = 33.9449
END_OBJECT = IMAGE
/* MAP OBJECT DEFINITIONS */
OBJECT = IMAGE_MAP_PROJECTION
  ^DATA_SET_MAP_PROJECTION_CATALOG= "DSMAP.CAT"
  A_AXIS_RADIUS = 3396.0
  B_AXIS_RADIUS = 3396.0
  C_AXIS_RADIUS = 3396.0
  CENTER_LATITUDE = 0.0
  CENTER_LONGITUDE = 62.0
  COORDINATE_SYSTEM_NAME = PLANETOGRAPHIC
  COORDINATE_SYSTEM_TYPE = "BODY-FIXED ROTATING"
  EASTERNMOST_LONGITUDE = 63.7014
  FIRST_STANDARD_PARALLEL = "N/A"
  LINE_FIRST_PIXEL = 1
  LINE_LAST_PIXEL = 52463
  LINE_PROJECTION_OFFSET = 5489.75
  MAP_PROJECTION_ROTATION = 0.0
  MAP_PROJECTION_TYPE = SINUSOIDAL
  MAP_RESOLUTION = 2370.85521546667
  MAP_SCALE = 0.025
  MAXIMUM_LATITUDE = 2.3454
  MINIMUM_LATITUDE = -19.78
  POSITIVE_LONGITUDE_DIRECTION = EAST
  REFERENCE_LATITUDE = "N/A"
  REFERENCE_LONGITUDE = "N/A"
  SAMPLE_FIRST_PIXEL = 1
  SAMPLE_LAST_PIXEL = 7050
  SAMPLE_PROJECTION_OFFSET = 3457.25
  SECOND_STANDARD_PARALLEL = "N/A"
  WESTERNMOST_LONGITUDE = 60.38
END_OBJECT = IMAGE_MAP_PROJECTION
END
