PDS_VERSION_ID = PDS3
/* FILE DATA ELEMENTS */
RECORD_TYPE = UNDEFINED
/* POINTERS TO DATA OBJECTS */
^IMAGE = ("H6393_0000_ND4.TIF")
/* IDENTIFICATION DATA ELEMENTS */
DATA_SET_ID = "MEX-M-HRSC-4-REFDR-MAPPROJECT-EXT2-V4.0"
DATA_SET_NAME = "MARS EXPRESS HRSC MAP PROJECTED REFDR EXTENSION2 V4.0"
DETECTOR_ID = MEX_HRSC_NADIR
EVENT_TYPE = "MARS-REGIONAL-MAPPING-Te-Mw"
INSTRUMENT_HOST_ID = MEX
INSTRUMENT_HOST_NAME = "MARS EXPRESS"
INSTRUMENT_ID = HRSC
INSTRUMENT_NAME = "HIGH RESOLUTION STEREO CAMERA"
MISSION_NAME = "MARS EXPRESS"
MISSION_PHASE_NAME = ME_Phase_15
PROCESSING_LEVEL_ID = 4
PRODUCT_CREATION_TIME = 2023-02-05T01:11:29.000Z
PRODUCT_ID = "H6393_0000_ND4.TIF"
RELEASE_ID = 0005
REVISION_ID = 0000
/* QUALITY DATA ELEMENTS */
DATA_QUALITY_ID = 1
DATA_QUALITY_DESC = "Data calculated based on original SPICE kernels"
/* TIME DATA ELEMENTS */
SPACECRAFT_CLOCK_START_COUNT = "1/0178221488.08251"
SPACECRAFT_CLOCK_STOP_COUNT = "1/0178221745.07766"
START_TIME = 2008-12-24T17:58:40.079Z
STOP_TIME = 2008-12-24T18:01:50.067Z
/* ORBITAL DATA ELEMENTS */
ASCENDING_NODE_LONGITUDE = 95.99
MAXIMUM_RESOLUTION = 0.0125
FOOTPRINT_POINT_LATITUDE = (-40.0993,-40.085,-40.0682,-40.0462, -40.0456,-40.0422,-39.3421,-38.8756, -38.4093,-37.9434,-37.5857,-37.345, -37.1044,-36.864,-36.6238,-36.3834, -36.1429,-35.9028,-35.4229,-34.9435, -34.5752,-34.3279,-34.0808,-33.8339, -33.587,-33.3401,-33.0936,-32.8472, -32.601,-32.3552,-32.1092,-31.8634, -31.6178,-31.3724,-31.1272,-30.8822, -30.6374,-30.3928,-30.1483,-29.9041, -29.6601,-29.4163,-29.1726,-28.7557, -28.4656,-28.176,-27.8866,-27.742, -27.7234,-27.7341,-27.7456,-27.7513, -27.7515,-27.7518,-28.0417,-28.3318, -28.6223,-28.9131,-29.1884,-29.4325, -29.6768,-29.9214,-30.1661,-30.411, -30.6561,-30.9014,-31.147,-31.3927, -31.6385,-31.8846,-32.1308,-32.3772, -32.6237,-32.8704,-33.1173,-33.3644, -33.6116,-33.859,-34.1065,-34.3542, -34.602,-34.9717,-35.2119,-35.4522, -35.6927,-35.9332,-36.1739,-36.4148, -36.6557,-36.8967,-37.1377,-37.3789, -37.6202,-37.9793,-38.4463,-38.9138, -39.3815,-39.9662,-40.0832,-40.0993)
FOOTPRINT_POINT_LONGITUDE = (182.284,181.834,181.367,180.82,180.805 ,180.736,180.785,180.814,180.841, 180.868,180.889,180.904,180.917,180.932 ,180.952,180.961,180.967,180.98,181.003 ,181.026,181.044,181.054,181.066, 181.078,181.087,181.094,181.102,181.112 ,181.12,181.139,181.144,181.149,181.154 ,181.162,181.169,181.176,181.183,181.19 ,181.197,181.203,181.21,181.215,181.221 ,181.23,181.236,181.244,181.252,181.255 ,181.255,181.735,182.369,182.76,182.774 ,182.781,182.772,182.763,182.754, 182.744,182.735,182.727,182.719,182.711 ,182.703,182.695,182.685,182.677, 182.669,182.661,182.651,182.642,182.632 ,182.621,182.611,182.6,182.59,182.58, 182.569,182.558,182.548,182.537,182.527 ,182.511,182.501,182.49,182.48,182.469, 182.459,182.45,182.44,182.427,182.414, 182.402,182.39,182.372,182.349,182.326, 182.302,182.264,182.256,182.284)
ORBIT_NUMBER = 6393
ORBITAL_ECCENTRICITY = 0.575
ORBITAL_INCLINATION = 86.76
ORBITAL_SEMIMAJOR_AXIS = 8682.37
PERIAPSIS_ALTITUDE = 306.77
PERIAPSIS_ARGUMENT_ANGLE = 314.27
PERIAPSIS_TIME = 2008-12-24T17:57:17.000Z
SPACECRAFT_ORIENTATION = (0.0,1.0,0.0)
^MEX_ORIENTATION_DESC = "MEX_ORIENTATION_DESC.TXT"
SPACECRAFT_POINTING_MODE = ACROSSTRACK
^MEX_POINTING_DESC = "MEX_POINTING_DESC.TXT"
RIGHT_ASCENSION = -1e+32
DECLINATION = -1e+32
OFFSET_ANGLE = 1.3
SPACECRAFT_SOLAR_DISTANCE = 2.19483e+08
TARGET_NAME = MARS
/* CAMERA DATA ELEMENTS */
DETECTOR_TEMPERATURE = 17.9627
FOCAL_PLANE_TEMPERATURE = 7.7677
INST_CMPRS_NAME = "DISCRETE COSINE TRANSFORMATION (DCT)"
INST_CMPRS_RATIO = 7.03994
INST_CMPRS_QUALITY = 0
INST_CMPRS_QUANTZ_TBL_ID = 0
INSTRUMENT_TEMPERATURE = 10.8262
LENS_TEMPERATURE = 8.3794
MACROPIXEL_SIZE = 1
MISSING_FRAMES = 0
PIXEL_SUBSAMPLING_FLAG = N
SIGNAL_CHAIN_ID = 0
/* RADIOMETRIC DATA ELEMENTS */
BANDWIDTH = 177.0
CENTER_FILTER_WAVELENGTH = 677.5
RADIANCE_OFFSET = 2.85273
RADIANCE_SCALING_FACTOR = 0.0147898
REFLECTANCE_SCALING_FACTOR = 0.000378484
MEX:REFLECTANCE_OFFSET = 0.0730036
/* IMAGE OBJECT DEFINITIONS */
OBJECT = IMAGE
  INTERCHANGE_FORMAT = BINARY
  LINES = 58678
  LINE_SAMPLES = 7869
  SAMPLE_TYPE = UNSIGNED_INTEGER
  SAMPLE_BITS = 8
  BANDS = 1
  BAND_STORAGE_TYPE = BAND_SEQUENTIAL
  MAXIMUM = 255
  MEAN = 115.533
  MINIMUM = 1
  STANDARD_DEVIATION = 31.0927
END_OBJECT = IMAGE
/* MAP OBJECT DEFINITIONS */
OBJECT = IMAGE_MAP_PROJECTION
  ^DATA_SET_MAP_PROJECTION_CATALOG= "DSMAP.CAT"
  A_AXIS_RADIUS = 3396.0
  B_AXIS_RADIUS = 3396.0
  C_AXIS_RADIUS = 3396.0
  CENTER_LATITUDE = 0.0
  CENTER_LONGITUDE = 182.0
  COORDINATE_SYSTEM_NAME = PLANETOGRAPHIC
  COORDINATE_SYSTEM_TYPE = "BODY-FIXED ROTATING"
  EASTERNMOST_LONGITUDE = 182.781
  FIRST_STANDARD_PARALLEL = "N/A"
  LINE_FIRST_PIXEL = 1
  LINE_LAST_PIXEL = 58678
  LINE_PROJECTION_OFFSET = -131462.0
  MAP_PROJECTION_ROTATION = 0.0
  MAP_PROJECTION_TYPE = SINUSOIDAL
  MAP_RESOLUTION = 4741.71043093333
  MAP_SCALE = 0.0125
  MAXIMUM_LATITUDE = -27.7234
  MINIMUM_LATITUDE = -40.0993
  POSITIVE_LONGITUDE_DIRECTION = EAST
  REFERENCE_LATITUDE = "N/A"
  REFERENCE_LONGITUDE = "N/A"
  SAMPLE_FIRST_PIXEL = 1
  SAMPLE_LAST_PIXEL = 7869
  SAMPLE_PROJECTION_OFFSET = 4583.0
  SECOND_STANDARD_PARALLEL = "N/A"
  WESTERNMOST_LONGITUDE = 180.736
END_OBJECT = IMAGE_MAP_PROJECTION
END
