PDS_VERSION_ID = PDS3
/* FILE DATA ELEMENTS */
RECORD_TYPE = UNDEFINED
/* POINTERS TO DATA OBJECTS */
^IMAGE = ("H6392_0000_GR4.TIF")
/* IDENTIFICATION DATA ELEMENTS */
DATA_SET_ID = "MEX-M-HRSC-4-REFDR-MAPPROJECT-EXT2-V4.0"
DATA_SET_NAME = "MARS EXPRESS HRSC MAP PROJECTED REFDR EXTENSION2 V4.0"
DETECTOR_ID = MEX_HRSC_GREEN
EVENT_TYPE = "MARS-REGIONAL-MAPPING-Te-Im-Fl"
INSTRUMENT_HOST_ID = MEX
INSTRUMENT_HOST_NAME = "MARS EXPRESS"
INSTRUMENT_ID = HRSC
INSTRUMENT_NAME = "HIGH RESOLUTION STEREO CAMERA"
MISSION_NAME = "MARS EXPRESS"
MISSION_PHASE_NAME = ME_Phase_15
PROCESSING_LEVEL_ID = 4
PRODUCT_CREATION_TIME = 2023-02-05T01:11:29.000Z
PRODUCT_ID = "H6392_0000_GR4.TIF"
RELEASE_ID = 0005
REVISION_ID = 0000
/* QUALITY DATA ELEMENTS */
DATA_QUALITY_ID = 1
DATA_QUALITY_DESC = "Data calculated based on original SPICE kernels"
/* TIME DATA ELEMENTS */
SPACECRAFT_CLOCK_START_COUNT = "1/0178196870.09046"
SPACECRAFT_CLOCK_STOP_COUNT = "1/0178197184.15029"
START_TIME = 2008-12-24T11:08:26.731Z
STOP_TIME = 2008-12-24T11:12:30.482Z
/* ORBITAL DATA ELEMENTS */
ASCENDING_NODE_LONGITUDE = 96.01
MAXIMUM_RESOLUTION = 0.0501
FOOTPRINT_POINT_LATITUDE = (-37.8634,-37.8568,-37.8487,-37.8356, -37.8352,-37.8366,-37.4169,-36.8578, -36.2997,-35.7262,-35.0067,-34.4255, -33.8519,-33.5588,-33.2632,-32.9677, -32.6724,-32.3774,-32.0826,-31.788, -31.4934,-31.1987,-30.906,-30.4669, -30.1754,-29.8836,-29.5918,-29.1544, -28.8635,-28.5726,-28.0542,-27.7086, -27.3634,-27.0187,-26.6744,-26.1513, -25.8084,-25.4662,-25.1246,-24.7835, -24.443,-24.1031,-23.7639,-23.4195, -23.0724,-22.5518,-22.3745,-22.3068, -22.3081,-22.3087,-22.3087,-22.3074, -22.3074,-22.3084,-22.662,-23.0089, -23.3567,-23.7032,-24.043,-24.3833, -24.7243,-25.0659,-25.4081,-25.7509, -26.0942,-26.6181,-26.9629,-27.3081, -27.654,-28.0001,-28.3467,-28.8209, -29.1122,-29.4036,-29.6957,-29.9881, -30.2809,-30.574,-30.8675,-31.1611, -31.455,-31.7495,-32.0456,-32.3408, -32.6344,-32.93,-33.2266,-33.5234, -33.8184,-34.3929,-34.6873,-35.1193, -35.4076,-35.8402,-36.1293,-36.6936, -37.1121,-37.6727,-37.8129,-37.8634)
FOOTPRINT_POINT_LONGITUDE = (283.145,282.739,282.323,281.764,281.75 ,281.731,281.752,281.779,281.803, 281.827,281.854,281.873,281.892,281.9, 281.908,281.916,281.925,281.934,281.942 ,281.95,281.96,281.972,281.974,281.98, 281.979,281.981,281.985,281.992,281.995 ,282.0,282.006,282.008,282.011,282.014, 282.017,282.02,282.022,282.024,282.025, 282.026,282.027,282.027,282.027,282.027 ,282.026,282.024,282.024,282.023, 282.443,282.782,283.118,283.58,283.594, 283.599,283.591,283.584,283.577,283.569 ,283.562,283.554,283.546,283.539, 283.531,283.523,283.514,283.502,283.493 ,283.485,283.476,283.467,283.458, 283.445,283.438,283.43,283.422,283.414, 283.406,283.397,283.389,283.38,283.372, 283.363,283.352,283.343,283.335,283.326 ,283.316,283.305,283.296,283.276, 283.266,283.25,283.24,283.224,283.212, 283.189,283.173,283.15,283.144,283.145)
ORBIT_NUMBER = 6392
ORBITAL_ECCENTRICITY = 0.575
ORBITAL_INCLINATION = 86.75
ORBITAL_SEMIMAJOR_AXIS = 8686.22
PERIAPSIS_ALTITUDE = 306.51
PERIAPSIS_ARGUMENT_ANGLE = 314.44
PERIAPSIS_TIME = 2008-12-24T11:06:27.000Z
SPACECRAFT_ORIENTATION = (0.0,1.0,0.0)
^MEX_ORIENTATION_DESC = "MEX_ORIENTATION_DESC.TXT"
SPACECRAFT_POINTING_MODE = ACROSSTRACK
^MEX_POINTING_DESC = "MEX_POINTING_DESC.TXT"
RIGHT_ASCENSION = -1e+32
DECLINATION = -1e+32
OFFSET_ANGLE = 0.8
SPACECRAFT_SOLAR_DISTANCE = 2.19536e+08
TARGET_NAME = MARS
/* CAMERA DATA ELEMENTS */
DETECTOR_TEMPERATURE = 17.7588
FOCAL_PLANE_TEMPERATURE = 7.7677
INST_CMPRS_NAME = "DISCRETE COSINE TRANSFORMATION (DCT)"
INST_CMPRS_RATIO = 13.0372
INST_CMPRS_QUALITY = 0
INST_CMPRS_QUANTZ_TBL_ID = 0
INSTRUMENT_TEMPERATURE = 10.8262
LENS_TEMPERATURE = 8.3794
MACROPIXEL_SIZE = 4
PIXEL_SUBSAMPLING_FLAG = N
SIGNAL_CHAIN_ID = 2
/* RADIOMETRIC DATA ELEMENTS */
BANDWIDTH = 88.0
CENTER_FILTER_WAVELENGTH = 538.0
RADIANCE_OFFSET = 0.70067
RADIANCE_SCALING_FACTOR = 0.0050375
REFLECTANCE_SCALING_FACTOR = 0.000209032
MEX:REFLECTANCE_OFFSET = 0.0290745
/* IMAGE OBJECT DEFINITIONS */
OBJECT = IMAGE
  INTERCHANGE_FORMAT = BINARY
  LINES = 18463
  LINE_SAMPLES = 1841
  SAMPLE_TYPE = UNSIGNED_INTEGER
  SAMPLE_BITS = 8
  BANDS = 1
  BAND_STORAGE_TYPE = BAND_SEQUENTIAL
  MAXIMUM = 255
  MEAN = 142.176
  MINIMUM = 1
  STANDARD_DEVIATION = 23.6544
END_OBJECT = IMAGE
/* MAP OBJECT DEFINITIONS */
OBJECT = IMAGE_MAP_PROJECTION
  ^DATA_SET_MAP_PROJECTION_CATALOG= "DSMAP.CAT"
  A_AXIS_RADIUS = 3396.0
  B_AXIS_RADIUS = 3396.0
  C_AXIS_RADIUS = 3396.0
  CENTER_LATITUDE = 0.0
  CENTER_LONGITUDE = 283.0
  COORDINATE_SYSTEM_NAME = PLANETOGRAPHIC
  COORDINATE_SYSTEM_TYPE = "BODY-FIXED ROTATING"
  EASTERNMOST_LONGITUDE = 283.599
  FIRST_STANDARD_PARALLEL = "N/A"
  LINE_FIRST_PIXEL = 1
  LINE_LAST_PIXEL = 18463
  LINE_PROJECTION_OFFSET = -26443.375
  MAP_PROJECTION_ROTATION = 0.0
  MAP_PROJECTION_TYPE = SINUSOIDAL
  MAP_RESOLUTION = 1185.42760773333
  MAP_SCALE = 0.05
  MAXIMUM_LATITUDE = -22.3068
  MINIMUM_LATITUDE = -37.8634
  POSITIVE_LONGITUDE_DIRECTION = EAST
  REFERENCE_LATITUDE = "N/A"
  REFERENCE_LONGITUDE = "N/A"
  SAMPLE_FIRST_PIXEL = 1
  SAMPLE_LAST_PIXEL = 1841
  SAMPLE_PROJECTION_OFFSET = 1192.125
  SECOND_STANDARD_PARALLEL = "N/A"
  WESTERNMOST_LONGITUDE = 281.731
END_OBJECT = IMAGE_MAP_PROJECTION
END
