PDS_VERSION_ID = PDS3
/* FILE DATA ELEMENTS */
RECORD_TYPE = UNDEFINED
/* POINTERS TO DATA OBJECTS */
^IMAGE = ("H6251_0000_P24.TIF")
/* IDENTIFICATION DATA ELEMENTS */
DATA_SET_ID = "MEX-M-HRSC-4-REFDR-MAPPROJECT-EXT2-V4.0"
DATA_SET_NAME = "MARS EXPRESS HRSC MAP PROJECTED REFDR EXTENSION2 V4.0"
DETECTOR_ID = MEX_HRSC_P2
EVENT_TYPE = "MARS-REGIONAL-MAPPING-Im-Fl"
INSTRUMENT_HOST_ID = MEX
INSTRUMENT_HOST_NAME = "MARS EXPRESS"
INSTRUMENT_ID = HRSC
INSTRUMENT_NAME = "HIGH RESOLUTION STEREO CAMERA"
MISSION_NAME = "MARS EXPRESS"
MISSION_PHASE_NAME = ME_Phase_15
PROCESSING_LEVEL_ID = 4
PRODUCT_CREATION_TIME = 2023-02-05T01:11:29.000Z
PRODUCT_ID = "H6251_0000_P24.TIF"
RELEASE_ID = 0005
REVISION_ID = 0000
/* QUALITY DATA ELEMENTS */
DATA_QUALITY_ID = 1
DATA_QUALITY_DESC = "Data calculated based on original SPICE kernels"
/* TIME DATA ELEMENTS */
SPACECRAFT_CLOCK_START_COUNT = "1/0174721392.08253"
SPACECRAFT_CLOCK_STOP_COUNT = "1/0174721848.15520"
START_TIME = 2008-11-14T05:43:35.293Z
STOP_TIME = 2008-11-14T05:47:23.440Z
/* ORBITAL DATA ELEMENTS */
ASCENDING_NODE_LONGITUDE = 98.83
MAXIMUM_RESOLUTION = 0.0501
FOOTPRINT_POINT_LATITUDE = (18.254,18.2511,18.2457,18.2424,18.2394 ,18.2359,18.2324,18.2322,18.2517, 18.5919,19.0492,19.6275,20.0959,20.6886 ,21.1685,21.7773,22.1475,22.3944, 22.6437,22.894,23.1464,23.4002,23.785, 24.1719,24.4323,24.6945,24.9572,25.2233 ,25.6235,25.8917,26.1634,26.5729, 26.8461,27.1218,27.4001,27.6798,27.9625 ,28.2486,28.6783,28.9657,29.2554, 29.5483,29.8424,30.1385,30.6105,30.9146 ,31.2153,31.3673,31.4218,31.4277, 31.4309,31.4357,31.4381,31.4402,31.443, 31.4439,31.4438,31.4436,31.4426,31.1384 ,30.835,30.5332,30.0678,29.7734,29.4793 ,29.1845,28.7473,28.4613,28.0349, 27.7529,27.4761,27.1982,26.9163,26.6409 ,26.3665,26.1008,25.8281,25.425,25.1596 ,24.7647,24.5009,24.2407,23.9818, 23.7249,23.4689,23.2149,22.9622,22.7113 ,22.4609,22.2128,21.7208,21.2343, 20.6335,20.1586,19.6898,19.2241,18.7682 ,18.4283,18.3111,18.254)
FOOTPRINT_POINT_LONGITUDE = (5.66211,5.33774,4.77679,4.43158, 4.12974,3.78441,3.46005,3.43841,3.42228 ,3.40641,3.385,3.35738,3.33459,3.30545, 3.28157,3.25022,3.23047,3.21803,3.20481 ,3.19172,3.17808,3.16441,3.14277, 3.12125,3.10632,3.09144,3.07636,3.06086 ,3.03763,3.02189,3.00568,2.981,2.96495, 2.94867,2.93155,2.91421,2.89641,2.87725 ,2.8495,2.83112,2.81265,2.79317,2.77361 ,2.75361,2.72151,2.69917,2.67979, 2.66925,2.66545,3.17751,3.51918,4.06457 ,4.43948,4.95107,5.39472,5.70204, 6.14682,6.181,6.19328,6.17602,6.15861, 6.14146,6.11866,6.10388,6.08817,6.07161 ,6.0482,6.03479,6.01462,6.00165,5.99057 ,5.97849,5.96369,5.95141,5.93959, 5.93083,5.91848,5.90178,5.89125,5.87631 ,5.86574,5.85574,5.84627,5.83688, 5.82764,5.81865,5.80998,5.80147,5.79288 ,5.78461,5.76891,5.75372,5.73555, 5.72141,5.70823,5.69483,5.68438,5.67551 ,5.67086,5.66211)
ORBIT_NUMBER = 6251
ORBITAL_ECCENTRICITY = 0.575
ORBITAL_INCLINATION = 86.74
ORBITAL_SEMIMAJOR_AXIS = 8719.8
PERIAPSIS_ALTITUDE = 312.79
PERIAPSIS_ARGUMENT_ANGLE = 338.96
PERIAPSIS_TIME = 2008-11-14T05:33:46.000Z
SPACECRAFT_ORIENTATION = (0.0,1.0,0.0)
^MEX_ORIENTATION_DESC = "MEX_ORIENTATION_DESC.TXT"
SPACECRAFT_POINTING_MODE = NADIR
^MEX_POINTING_DESC = "MEX_POINTING_DESC.TXT"
RIGHT_ASCENSION = -1e+32
DECLINATION = -1e+32
OFFSET_ANGLE = -1e+32
SPACECRAFT_SOLAR_DISTANCE = 2.273e+08
TARGET_NAME = MARS
/* CAMERA DATA ELEMENTS */
DETECTOR_TEMPERATURE = 18.5744
FOCAL_PLANE_TEMPERATURE = 7.5638
INST_CMPRS_NAME = "DISCRETE COSINE TRANSFORMATION (DCT)"
INST_CMPRS_RATIO = 6.14303
INST_CMPRS_QUALITY = 0
INST_CMPRS_QUANTZ_TBL_ID = 0
INSTRUMENT_TEMPERATURE = 11.234
LENS_TEMPERATURE = 7.9716
MACROPIXEL_SIZE = 2
PIXEL_SUBSAMPLING_FLAG = N
SIGNAL_CHAIN_ID = 3
/* RADIOMETRIC DATA ELEMENTS */
BANDWIDTH = 177.0
CENTER_FILTER_WAVELENGTH = 676.5
RADIANCE_OFFSET = 2.27861
RADIANCE_SCALING_FACTOR = 0.00915368
REFLECTANCE_SCALING_FACTOR = 0.000250755
MEX:REFLECTANCE_OFFSET = 0.06242
/* IMAGE OBJECT DEFINITIONS */
OBJECT = IMAGE
  INTERCHANGE_FORMAT = BINARY
  LINES = 15640
  LINE_SAMPLES = 3872
  SAMPLE_TYPE = UNSIGNED_INTEGER
  SAMPLE_BITS = 8
  BANDS = 1
  BAND_STORAGE_TYPE = BAND_SEQUENTIAL
  MAXIMUM = 255
  MEAN = 100.138
  MINIMUM = 1
  STANDARD_DEVIATION = 23.0324
END_OBJECT = IMAGE
/* MAP OBJECT DEFINITIONS */
OBJECT = IMAGE_MAP_PROJECTION
  ^DATA_SET_MAP_PROJECTION_CATALOG= "DSMAP.CAT"
  A_AXIS_RADIUS = 3396.0
  B_AXIS_RADIUS = 3396.0
  C_AXIS_RADIUS = 3396.0
  CENTER_LATITUDE = 0.0
  CENTER_LONGITUDE = 4.0
  COORDINATE_SYSTEM_NAME = PLANETOGRAPHIC
  COORDINATE_SYSTEM_TYPE = "BODY-FIXED ROTATING"
  EASTERNMOST_LONGITUDE = 6.19328
  FIRST_STANDARD_PARALLEL = "N/A"
  LINE_FIRST_PIXEL = 1
  LINE_LAST_PIXEL = 15640
  LINE_PROJECTION_OFFSET = 37249.25
  MAP_PROJECTION_ROTATION = 0.0
  MAP_PROJECTION_TYPE = SINUSOIDAL
  MAP_RESOLUTION = 1185.42760773333
  MAP_SCALE = 0.05
  MAXIMUM_LATITUDE = 31.4439
  MINIMUM_LATITUDE = 18.2322
  POSITIVE_LONGITUDE_DIRECTION = EAST
  REFERENCE_LATITUDE = "N/A"
  REFERENCE_LONGITUDE = "N/A"
  SAMPLE_FIRST_PIXEL = 1
  SAMPLE_LAST_PIXEL = 3872
  SAMPLE_PROJECTION_OFFSET = 1494.25
  SECOND_STANDARD_PARALLEL = "N/A"
  WESTERNMOST_LONGITUDE = 2.66545
END_OBJECT = IMAGE_MAP_PROJECTION
END
