PDS_VERSION_ID = PDS3
/* FILE DATA ELEMENTS */
RECORD_TYPE = UNDEFINED
/* POINTERS TO DATA OBJECTS */
^IMAGE = ("H6235_0000_IR4.TIF")
/* IDENTIFICATION DATA ELEMENTS */
DATA_SET_ID = "MEX-M-HRSC-4-REFDR-MAPPROJECT-EXT2-V4.0"
DATA_SET_NAME = "MARS EXPRESS HRSC MAP PROJECTED REFDR EXTENSION2 V4.0"
DETECTOR_ID = MEX_HRSC_IR
EVENT_TYPE = "MARS-REGIONAL-MAPPING-Vo"
INSTRUMENT_HOST_ID = MEX
INSTRUMENT_HOST_NAME = "MARS EXPRESS"
INSTRUMENT_ID = HRSC
INSTRUMENT_NAME = "HIGH RESOLUTION STEREO CAMERA"
MISSION_NAME = "MARS EXPRESS"
MISSION_PHASE_NAME = ME_Phase_15
PROCESSING_LEVEL_ID = 4
PRODUCT_CREATION_TIME = 2023-02-05T01:11:29.000Z
PRODUCT_ID = "H6235_0000_IR4.TIF"
RELEASE_ID = 0005
REVISION_ID = 0000
/* QUALITY DATA ELEMENTS */
DATA_QUALITY_ID = 1
DATA_QUALITY_DESC = "Data calculated based on original SPICE kernels"
/* TIME DATA ELEMENTS */
SPACECRAFT_CLOCK_START_COUNT = "1/0174326774.09033"
SPACECRAFT_CLOCK_STOP_COUNT = "1/0174326941.64430"
START_TIME = 2008-11-09T16:07:18.453Z
STOP_TIME = 2008-11-09T16:08:56.234Z
/* ORBITAL DATA ELEMENTS */
ASCENDING_NODE_LONGITUDE = 99.15
MAXIMUM_RESOLUTION = 0.0635
FOOTPRINT_POINT_LATITUDE = (-2.38538,-2.39154,-2.39785,-2.40434, -2.41105,-2.41799,-2.42516,-2.42975, -2.43021,-2.44855,-2.33245,-2.21643, -2.10048,-1.9846,-1.86883,-1.75314, -1.63756,-1.52206,-1.2913,-1.06093, -0.830905,-0.601244,-0.371982,-0.143084 ,0.0854614,0.313662,0.541502,0.768948, 0.996036,1.22273,1.3969,1.51301,1.62901 ,1.74492,1.86073,1.97644,2.09204, 2.20752,2.38404,2.50235,2.62053,2.7386, 2.85658,2.97443,3.09218,3.20982,3.33037 ,3.39059,3.42471,3.43009,3.43434, 3.43849,3.44648,3.45411,3.46134,3.46824 ,3.47485,3.47525,3.47438,3.35381, 3.23379,3.11602,2.99814,2.88018,2.76207 ,2.64385,2.52553,2.40711,2.28885, 2.17326,2.05756,1.94177,1.82587,1.7099, 1.5938,1.4776,1.36132,1.2458,1.01886, 0.791508,0.563772,0.335668,0.107215, -0.121621,-0.350783,-0.580337,-0.810246 ,-1.04055,-1.2712,-1.38663,-1.50218, -1.6178,-1.73351,-1.84932,-1.96521, -2.08119,-2.19724,-2.31337,-2.37147, -2.38538)
FOOTPRINT_POINT_LONGITUDE = (166.516,166.322,166.126,165.929, 165.731,165.532,165.331,165.205,165.192 ,165.176,165.174,165.171,165.169, 165.167,165.165,165.162,165.16,165.158, 165.153,165.148,165.143,165.138,165.133 ,165.128,165.123,165.118,165.112, 165.107,165.101,165.096,165.091,165.089 ,165.086,165.083,165.08,165.077,165.074 ,165.071,165.066,165.063,165.06,165.056 ,165.053,165.05,165.047,165.043,165.04, 165.038,165.037,165.182,165.298,165.413 ,165.643,165.871,166.099,166.325,166.55 ,166.564,166.568,166.567,166.566, 166.564,166.563,166.562,166.561,166.56, 166.558,166.557,166.556,166.555,166.554 ,166.553,166.552,166.551,166.549, 166.548,166.547,166.546,166.544,166.542 ,166.54,166.538,166.536,166.535,166.533 ,166.531,166.529,166.527,166.526, 166.525,166.524,166.523,166.522,166.522 ,166.521,166.52,166.519,166.518,166.518 ,166.516)
ORBIT_NUMBER = 6235
ORBITAL_ECCENTRICITY = 0.575
ORBITAL_INCLINATION = 86.75
ORBITAL_SEMIMAJOR_AXIS = 8719.15
PERIAPSIS_ALTITUDE = 313.9
PERIAPSIS_ARGUMENT_ANGLE = 341.78
PERIAPSIS_TIME = 2008-11-09T16:02:48.000Z
SPACECRAFT_ORIENTATION = (0.0,1.0,0.0)
^MEX_ORIENTATION_DESC = "MEX_ORIENTATION_DESC.TXT"
SPACECRAFT_POINTING_MODE = ACROSSTRACK
^MEX_POINTING_DESC = "MEX_POINTING_DESC.TXT"
RIGHT_ASCENSION = -1e+32
DECLINATION = -1e+32
OFFSET_ANGLE = 0.55
SPACECRAFT_SOLAR_DISTANCE = 2.2819e+08
TARGET_NAME = MARS
/* CAMERA DATA ELEMENTS */
DETECTOR_TEMPERATURE = 16.9432
FOCAL_PLANE_TEMPERATURE = 7.5638
INST_CMPRS_NAME = "DISCRETE COSINE TRANSFORMATION (DCT)"
INST_CMPRS_RATIO = 7.17985
INST_CMPRS_QUALITY = 0
INST_CMPRS_QUANTZ_TBL_ID = 0
INSTRUMENT_TEMPERATURE = 11.0301
LENS_TEMPERATURE = 8.1755
MACROPIXEL_SIZE = 4
MISSING_FRAMES = 0
PIXEL_SUBSAMPLING_FLAG = N
SIGNAL_CHAIN_ID = 2
/* RADIOMETRIC DATA ELEMENTS */
BANDWIDTH = 81.0
CENTER_FILTER_WAVELENGTH = 955.5
RADIANCE_OFFSET = 0.551375
RADIANCE_SCALING_FACTOR = 0.0014483
REFLECTANCE_SCALING_FACTOR = 0.000162697
MEX:REFLECTANCE_OFFSET = 0.0619393
/* IMAGE OBJECT DEFINITIONS */
OBJECT = IMAGE
  INTERCHANGE_FORMAT = BINARY
  LINES = 6992
  LINE_SAMPLES = 1728
  SAMPLE_TYPE = UNSIGNED_INTEGER
  SAMPLE_BITS = 8
  BANDS = 1
  BAND_STORAGE_TYPE = BAND_SEQUENTIAL
  MAXIMUM = 255
  MEAN = 124.7
  MINIMUM = 1
  STANDARD_DEVIATION = 44.9741
END_OBJECT = IMAGE
/* MAP OBJECT DEFINITIONS */
OBJECT = IMAGE_MAP_PROJECTION
  ^DATA_SET_MAP_PROJECTION_CATALOG= "DSMAP.CAT"
  A_AXIS_RADIUS = 3396.0
  B_AXIS_RADIUS = 3396.0
  C_AXIS_RADIUS = 3396.0
  CENTER_LATITUDE = 0.0
  CENTER_LONGITUDE = 166.0
  COORDINATE_SYSTEM_NAME = PLANETOGRAPHIC
  COORDINATE_SYSTEM_TYPE = "BODY-FIXED ROTATING"
  EASTERNMOST_LONGITUDE = 166.568
  FIRST_STANDARD_PARALLEL = "N/A"
  LINE_FIRST_PIXEL = 1
  LINE_LAST_PIXEL = 6992
  LINE_PROJECTION_OFFSET = 4112.875
  MAP_PROJECTION_ROTATION = 0.0
  MAP_PROJECTION_TYPE = SINUSOIDAL
  MAP_RESOLUTION = 1185.42760773333
  MAP_SCALE = 0.05
  MAXIMUM_LATITUDE = 3.47525
  MINIMUM_LATITUDE = -2.44855
  POSITIVE_LONGITUDE_DIRECTION = EAST
  REFERENCE_LATITUDE = "N/A"
  REFERENCE_LONGITUDE = "N/A"
  SAMPLE_FIRST_PIXEL = 1
  SAMPLE_LAST_PIXEL = 1728
  SAMPLE_PROJECTION_OFFSET = 1097.375
  SECOND_STANDARD_PARALLEL = "N/A"
  WESTERNMOST_LONGITUDE = 165.037
END_OBJECT = IMAGE_MAP_PROJECTION
END
