PDS_VERSION_ID = PDS3
/* FILE DATA ELEMENTS */
RECORD_TYPE = UNDEFINED
/* POINTERS TO DATA OBJECTS */
^IMAGE = ("H6235_0000_BL4.TIF")
/* IDENTIFICATION DATA ELEMENTS */
DATA_SET_ID = "MEX-M-HRSC-4-REFDR-MAPPROJECT-EXT2-V4.0"
DATA_SET_NAME = "MARS EXPRESS HRSC MAP PROJECTED REFDR EXTENSION2 V4.0"
DETECTOR_ID = MEX_HRSC_BLUE
EVENT_TYPE = "MARS-REGIONAL-MAPPING-Vo"
INSTRUMENT_HOST_ID = MEX
INSTRUMENT_HOST_NAME = "MARS EXPRESS"
INSTRUMENT_ID = HRSC
INSTRUMENT_NAME = "HIGH RESOLUTION STEREO CAMERA"
MISSION_NAME = "MARS EXPRESS"
MISSION_PHASE_NAME = ME_Phase_15
PROCESSING_LEVEL_ID = 4
PRODUCT_CREATION_TIME = 2023-02-05T01:11:29.000Z
PRODUCT_ID = "H6235_0000_BL4.TIF"
RELEASE_ID = 0005
REVISION_ID = 0000
/* QUALITY DATA ELEMENTS */
DATA_QUALITY_ID = 1
DATA_QUALITY_DESC = "Data calculated based on original SPICE kernels"
/* TIME DATA ELEMENTS */
SPACECRAFT_CLOCK_START_COUNT = "1/0174326774.09033"
SPACECRAFT_CLOCK_STOP_COUNT = "1/0174326941.64430"
START_TIME = 2008-11-09T16:06:44.086Z
STOP_TIME = 2008-11-09T16:08:16.155Z
/* ORBITAL DATA ELEMENTS */
ASCENDING_NODE_LONGITUDE = 99.15
MAXIMUM_RESOLUTION = 0.0585
FOOTPRINT_POINT_LATITUDE = (-2.41966,-2.41971,-2.41972,-2.41968, -2.41957,-2.4194,-2.4192,-2.41904, -2.41902,-2.41391,-2.15809,-1.95359, -1.74921,-1.54496,-1.31109,-1.18935, -1.06766,-0.946009,-0.824411,-0.702863, -0.581359,-0.459906,-0.338493,-0.217137 ,-0.0958287,0.0254287,0.14663,0.267782, 0.388879,0.509926,0.630921,0.751867, 0.872757,0.993595,1.11438,1.23511, 1.35579,1.47641,1.59698,1.71749,1.83795 ,1.95835,2.19899,2.4394,2.67956,2.9195, 3.1592,3.39867,3.4585,3.46448,3.46485, 3.46546,3.46603,3.46659,3.46715,3.4677, 3.46822,3.46825,3.46727,3.22769,2.98786 ,2.74781,2.50752,2.26699,2.02624, 1.90578,1.78526,1.66468,1.54406,1.42337 ,1.30263,1.18184,1.06099,0.940094, 0.819143,0.698142,0.577086,0.455978, 0.334819,0.213607,0.0923364,-0.0289722, -0.15034,-0.271758,-0.393229,-0.514748, -0.636308,-0.757923,-0.879586,-1.00129, -1.12305,-1.24485,-1.36671,-1.54063, -1.74504,-1.94956,-2.15423,-2.35901, -2.41023,-2.41966)
FOOTPRINT_POINT_LONGITUDE = (166.49,166.305,166.118,165.93,165.74, 165.55,165.358,165.237,165.225,165.209, 165.205,165.202,165.198,165.194,165.19, 165.188,165.186,165.183,165.181,165.179 ,165.177,165.174,165.172,165.169, 165.167,165.165,165.162,165.16,165.157, 165.155,165.152,165.15,165.147,165.145, 165.142,165.139,165.137,165.134,165.131 ,165.129,165.126,165.123,165.118, 165.112,165.106,165.101,165.095,165.089 ,165.088,165.087,165.223,165.441, 165.657,165.871,166.085,166.297,166.509 ,166.522,166.526,166.524,166.523, 166.521,166.519,166.517,166.516,166.515 ,166.514,166.513,166.513,166.512, 166.511,166.51,166.51,166.509,166.508, 166.507,166.507,166.506,166.505,166.504 ,166.504,166.503,166.502,166.502, 166.501,166.5,166.5,166.499,166.498, 166.498,166.497,166.497,166.496,166.495 ,166.494,166.493,166.492,166.491, 166.491,166.49)
ORBIT_NUMBER = 6235
ORBITAL_ECCENTRICITY = 0.575
ORBITAL_INCLINATION = 86.75
ORBITAL_SEMIMAJOR_AXIS = 8719.15
PERIAPSIS_ALTITUDE = 313.9
PERIAPSIS_ARGUMENT_ANGLE = 341.78
PERIAPSIS_TIME = 2008-11-09T16:02:48.000Z
SPACECRAFT_ORIENTATION = (0.0,1.0,0.0)
^MEX_ORIENTATION_DESC = "MEX_ORIENTATION_DESC.TXT"
SPACECRAFT_POINTING_MODE = ACROSSTRACK
^MEX_POINTING_DESC = "MEX_POINTING_DESC.TXT"
RIGHT_ASCENSION = -1e+32
DECLINATION = -1e+32
OFFSET_ANGLE = 0.55
SPACECRAFT_SOLAR_DISTANCE = 2.2819e+08
TARGET_NAME = MARS
/* CAMERA DATA ELEMENTS */
DETECTOR_TEMPERATURE = 18.1666
FOCAL_PLANE_TEMPERATURE = 7.5638
INST_CMPRS_NAME = "DISCRETE COSINE TRANSFORMATION (DCT)"
INST_CMPRS_RATIO = 3.53505
INST_CMPRS_QUALITY = 0
INST_CMPRS_QUANTZ_TBL_ID = 0
INSTRUMENT_TEMPERATURE = 11.0301
LENS_TEMPERATURE = 8.1755
MACROPIXEL_SIZE = 4
MISSING_FRAMES = 0
PIXEL_SUBSAMPLING_FLAG = N
SIGNAL_CHAIN_ID = 2
/* RADIOMETRIC DATA ELEMENTS */
BANDWIDTH = 76.0
CENTER_FILTER_WAVELENGTH = 444.0
RADIANCE_OFFSET = 0.339212
RADIANCE_SCALING_FACTOR = 0.000992232
REFLECTANCE_SCALING_FACTOR = 5.30837e-05
MEX:REFLECTANCE_OFFSET = 0.0181476
/* IMAGE OBJECT DEFINITIONS */
OBJECT = IMAGE
  INTERCHANGE_FORMAT = BINARY
  LINES = 6992
  LINE_SAMPLES = 1728
  SAMPLE_TYPE = UNSIGNED_INTEGER
  SAMPLE_BITS = 8
  BANDS = 1
  BAND_STORAGE_TYPE = BAND_SEQUENTIAL
  MAXIMUM = 255
  MEAN = 136.678
  MINIMUM = 2
  STANDARD_DEVIATION = 39.2206
END_OBJECT = IMAGE
/* MAP OBJECT DEFINITIONS */
OBJECT = IMAGE_MAP_PROJECTION
  ^DATA_SET_MAP_PROJECTION_CATALOG= "DSMAP.CAT"
  A_AXIS_RADIUS = 3396.0
  B_AXIS_RADIUS = 3396.0
  C_AXIS_RADIUS = 3396.0
  CENTER_LATITUDE = 0.0
  CENTER_LONGITUDE = 166.0
  COORDINATE_SYSTEM_NAME = PLANETOGRAPHIC
  COORDINATE_SYSTEM_TYPE = "BODY-FIXED ROTATING"
  EASTERNMOST_LONGITUDE = 166.526
  FIRST_STANDARD_PARALLEL = "N/A"
  LINE_FIRST_PIXEL = 1
  LINE_LAST_PIXEL = 6992
  LINE_PROJECTION_OFFSET = 4112.875
  MAP_PROJECTION_ROTATION = 0.0
  MAP_PROJECTION_TYPE = SINUSOIDAL
  MAP_RESOLUTION = 1185.42760773333
  MAP_SCALE = 0.05
  MAXIMUM_LATITUDE = 3.46825
  MINIMUM_LATITUDE = -2.41972
  POSITIVE_LONGITUDE_DIRECTION = EAST
  REFERENCE_LATITUDE = "N/A"
  REFERENCE_LONGITUDE = "N/A"
  SAMPLE_FIRST_PIXEL = 1
  SAMPLE_LAST_PIXEL = 1728
  SAMPLE_PROJECTION_OFFSET = 1097.375
  SECOND_STANDARD_PARALLEL = "N/A"
  WESTERNMOST_LONGITUDE = 165.087
END_OBJECT = IMAGE_MAP_PROJECTION
END
