PDS_VERSION_ID = PDS3
/* FILE DATA ELEMENTS */
RECORD_TYPE = UNDEFINED
/* POINTERS TO DATA OBJECTS */
^IMAGE = ("H6007_0000_GR4.TIF")
/* IDENTIFICATION DATA ELEMENTS */
DATA_SET_ID = "MEX-M-HRSC-4-REFDR-MAPPROJECT-EXT2-V4.0"
DATA_SET_NAME = "MARS EXPRESS HRSC MAP PROJECTED REFDR EXTENSION2 V4.0"
DETECTOR_ID = MEX_HRSC_GREEN
EVENT_TYPE = "MARS-REGIONAL-VARIABLE-Gl-La-Ot"
INSTRUMENT_HOST_ID = MEX
INSTRUMENT_HOST_NAME = "MARS EXPRESS"
INSTRUMENT_ID = HRSC
INSTRUMENT_NAME = "HIGH RESOLUTION STEREO CAMERA"
MISSION_NAME = "MARS EXPRESS"
MISSION_PHASE_NAME = ME_Phase_14
PROCESSING_LEVEL_ID = 4
PRODUCT_CREATION_TIME = 2023-02-04T19:55:08.000Z
PRODUCT_ID = "H6007_0000_GR4.TIF"
RELEASE_ID = 0004
REVISION_ID = 0000
/* QUALITY DATA ELEMENTS */
DATA_QUALITY_ID = 1
DATA_QUALITY_DESC = "Data calculated based on original SPICE kernels"
/* TIME DATA ELEMENTS */
SPACECRAFT_CLOCK_START_COUNT = "1/0168709246.09057"
SPACECRAFT_CLOCK_STOP_COUNT = "1/0168710357.46962"
START_TIME = 2008-09-05T15:43:23.522Z
STOP_TIME = 2008-09-05T15:51:13.501Z
/* ORBITAL DATA ELEMENTS */
ASCENDING_NODE_LONGITUDE = 103.74
MAXIMUM_RESOLUTION = 0.0946
FOOTPRINT_POINT_LATITUDE = (79.8526,80.0581,80.2613,80.4195, 80.5511,80.6426,80.6919,80.7004,80.7004 ,80.6743,81.2701,81.6645,82.0565, 82.4465,82.8343,83.2198,83.603,83.9834, 84.3616,84.7371,85.1111,85.4817,85.8503 ,86.2162,86.5791,86.9475,87.3039, 87.6563,88.0038,88.3444,88.6746,88.9862 ,89.2584,89.425,88.9678,88.3503,87.7046 ,87.0545,86.4064,85.7626,85.1244, 84.4923,83.8659,83.2462,82.6326,82.0254 ,81.8745,81.8252,81.9053,81.9255, 81.9137,81.8704,81.7964,81.6927,81.5608 ,81.3797,81.192,80.9808,80.7476,80.427, 80.3933,80.3818,80.8958,81.4048,81.9065 ,82.3977,82.8746,83.3319,83.7632, 84.1602,84.513,84.8095,85.0365,85.1808, 85.2315,85.1819,85.1194,85.032,84.9205, 84.7862,84.6282,84.3547,84.152,83.9323, 83.6972,83.4482,83.1864,82.9129,82.6286 ,82.3344,82.0311,81.7193,81.3993, 81.0725,80.7387,80.3978,80.0519,79.8763 ,79.8526)
FOOTPRINT_POINT_LONGITUDE = (329.077,326.186,322.736,319.362,315.64 ,311.805,307.879,305.644,305.394, 304.809,304.562,304.382,304.185,303.975 ,303.749,303.498,303.221,302.898, 302.539,302.125,301.678,301.133,300.511 ,299.776,298.884,297.776,296.399, 294.615,292.228,288.863,283.829,275.636 ,260.964,198.672,159.707,147.171, 141.625,138.574,136.632,135.28,134.307, 133.561,132.946,132.461,132.048,131.699 ,131.62,131.595,126.613,122.951,119.307 ,115.702,112.16,108.703,105.349,101.71, 98.6175,95.6638,92.8535,89.5345,89.2146 ,89.0978,87.3284,85.3176,83.0133, 80.3599,77.2979,73.7472,69.6291,64.8514 ,59.3418,53.0519,46.0003,38.3007, 30.1824,21.9612,17.9222,13.9821,10.1748 ,6.5272,3.05387,358.146,355.168,352.385 ,349.79,347.375,345.132,343.05,341.117, 339.322,337.656,336.107,334.668,333.327 ,332.078,330.914,329.825,329.308, 329.077)
ORBIT_NUMBER = 6007
ORBITAL_ECCENTRICITY = 0.572
ORBITAL_INCLINATION = 86.76
ORBITAL_SEMIMAJOR_AXIS = 8716.09
PERIAPSIS_ALTITUDE = 333.66
PERIAPSIS_ARGUMENT_ANGLE = 21.82
PERIAPSIS_TIME = 2008-09-05T15:25:47.000Z
SPACECRAFT_ORIENTATION = (0.0,1.0,0.0)
^MEX_ORIENTATION_DESC = "MEX_ORIENTATION_DESC.TXT"
SPACECRAFT_POINTING_MODE = ACROSSTRACK
^MEX_POINTING_DESC = "MEX_POINTING_DESC.TXT"
RIGHT_ASCENSION = -1e+32
DECLINATION = -1e+32
OFFSET_ANGLE = 1.08
SPACECRAFT_SOLAR_DISTANCE = 2.39799e+08
TARGET_NAME = MARS
/* CAMERA DATA ELEMENTS */
DETECTOR_TEMPERATURE = 18.1666
FOCAL_PLANE_TEMPERATURE = 7.7677
INST_CMPRS_NAME = "DISCRETE COSINE TRANSFORMATION (DCT)"
INST_CMPRS_RATIO = 11.0534
INST_CMPRS_QUALITY = 0
INST_CMPRS_QUANTZ_TBL_ID = 0
INSTRUMENT_TEMPERATURE = 10.6223
LENS_TEMPERATURE = 8.3794
MACROPIXEL_SIZE = 2
MISSING_FRAMES = 1
PIXEL_SUBSAMPLING_FLAG = N
SIGNAL_CHAIN_ID = 2
/* RADIOMETRIC DATA ELEMENTS */
BANDWIDTH = 88.0
CENTER_FILTER_WAVELENGTH = 538.0
RADIANCE_OFFSET = 0.669072
RADIANCE_SCALING_FACTOR = 0.014185
REFLECTANCE_SCALING_FACTOR = 0.000702278
MEX:REFLECTANCE_OFFSET = 0.0331248
/* IMAGE OBJECT DEFINITIONS */
OBJECT = IMAGE
  INTERCHANGE_FORMAT = BINARY
  LINES = 8313
  LINE_SAMPLES = 10212
  SAMPLE_TYPE = UNSIGNED_INTEGER
  SAMPLE_BITS = 8
  BANDS = 1
  BAND_STORAGE_TYPE = BAND_SEQUENTIAL
  MAXIMUM = 255
  MEAN = 111.531
  MINIMUM = 1
  STANDARD_DEVIATION = 58.1747
END_OBJECT = IMAGE
/* MAP OBJECT DEFINITIONS */
OBJECT = IMAGE_MAP_PROJECTION
  ^DATA_SET_MAP_PROJECTION_CATALOG= "DSMAP.CAT"
  A_AXIS_RADIUS = 3396.0
  B_AXIS_RADIUS = 3396.0
  C_AXIS_RADIUS = 3396.0
  CENTER_LATITUDE = 90.0
  CENTER_LONGITUDE = 0.0
  COORDINATE_SYSTEM_NAME = PLANETOGRAPHIC
  COORDINATE_SYSTEM_TYPE = "BODY-FIXED ROTATING"
  EASTERNMOST_LONGITUDE = 360.0
  FIRST_STANDARD_PARALLEL = "N/A"
  LINE_FIRST_PIXEL = 1
  LINE_LAST_PIXEL = 8313
  LINE_PROJECTION_OFFSET = 3149.75
  MAP_PROJECTION_ROTATION = 0.0
  MAP_PROJECTION_TYPE = STEREOGRAPHIC
  MAP_RESOLUTION = 592.713803866667
  MAP_SCALE = 0.1
  MAXIMUM_LATITUDE = 90.0
  MINIMUM_LATITUDE = 79.8526
  POSITIVE_LONGITUDE_DIRECTION = EAST
  REFERENCE_LATITUDE = "N/A"
  REFERENCE_LONGITUDE = "N/A"
  SAMPLE_FIRST_PIXEL = 1
  SAMPLE_LAST_PIXEL = 10212
  SAMPLE_PROJECTION_OFFSET = 4525.25
  SECOND_STANDARD_PARALLEL = "N/A"
  WESTERNMOST_LONGITUDE = 0.0
END_OBJECT = IMAGE_MAP_PROJECTION
END
