PDS_VERSION_ID = PDS3
/* FILE DATA ELEMENTS */
RECORD_TYPE = UNDEFINED
/* POINTERS TO DATA OBJECTS */
^IMAGE = ("H5848_0000_S14.TIF")
/* IDENTIFICATION DATA ELEMENTS */
DATA_SET_ID = "MEX-M-HRSC-4-REFDR-MAPPROJECT-EXT2-V4.0"
DATA_SET_NAME = "MARS EXPRESS HRSC MAP PROJECTED REFDR EXTENSION2 V4.0"
DETECTOR_ID = MEX_HRSC_S1
EVENT_TYPE = "MARS-REGIONAL-MAPPING-Im-Pf-Eo"
INSTRUMENT_HOST_ID = MEX
INSTRUMENT_HOST_NAME = "MARS EXPRESS"
INSTRUMENT_ID = HRSC
INSTRUMENT_NAME = "HIGH RESOLUTION STEREO CAMERA"
MISSION_NAME = "MARS EXPRESS"
MISSION_PHASE_NAME = ME_Phase_14
PROCESSING_LEVEL_ID = 4
PRODUCT_CREATION_TIME = 2023-02-04T19:55:08.000Z
PRODUCT_ID = "H5848_0000_S14.TIF"
RELEASE_ID = 0004
REVISION_ID = 0000
/* QUALITY DATA ELEMENTS */
DATA_QUALITY_ID = 1
DATA_QUALITY_DESC = "Data calculated based on original SPICE kernels"
/* TIME DATA ELEMENTS */
SPACECRAFT_CLOCK_START_COUNT = "1/0164791030.09047"
SPACECRAFT_CLOCK_STOP_COUNT = "1/0164791618.21489"
START_TIME = 2008-07-22T07:20:44.165Z
STOP_TIME = 2008-07-22T07:26:59.978Z
/* ORBITAL DATA ELEMENTS */
ASCENDING_NODE_LONGITUDE = 106.93
MAXIMUM_RESOLUTION = 0.0869
FOOTPRINT_POINT_LATITUDE = (80.9467,81.133,81.2614,81.3835,81.5681 ,81.6729,81.7706,81.8609,81.9438,82.019 ,82.0862,82.1841,82.1901,82.3655, 82.0753,81.7862,81.4989,81.2129,80.9278 ,80.6438,80.3614,80.0804,79.801,79.523, 79.2466,78.9718,78.6979,78.4249,78.1536 ,77.8838,77.616,77.3487,77.0817,76.8176 ,76.2967,75.7803,75.3754,74.868,74.3673 ,73.8718,73.3827,72.8995,72.4219, 71.9499,71.4837,71.0227,70.5675,70.1176 ,69.6735,69.5638,69.549,69.5519,69.5516 ,69.5444,69.5308,69.4935,69.4624, 69.4239,69.367,69.3276,69.2691,69.1958, 69.1421,69.0845,69.0746,69.0715,69.4937 ,69.9214,70.3537,70.7917,71.2353,71.684 ,72.1374,72.5962,73.06,73.5289,74.0029, 74.4818,74.9858,75.4744,75.9673,76.4646 ,76.9658,77.2174,77.4703,77.7235, 77.9777,78.2322,78.4874,78.743,78.999, 79.2554,79.5122,79.7686,80.0249,80.281, 80.5367,80.9189,81.0459,80.9467)
FOOTPRINT_POINT_LONGITUDE = (168.036,170.121,171.687,173.296,176.0, 177.719,179.477,181.272,183.106,184.977 ,186.883,190.292,190.539,190.797, 191.304,191.773,192.208,192.613,192.99, 193.342,193.672,193.982,194.273,194.548 ,194.807,195.053,195.285,195.504, 195.712,195.911,196.1,196.28,196.45, 196.614,196.924,197.208,197.417,197.663 ,197.891,198.104,198.303,198.49,198.666 ,198.832,198.989,199.137,199.279, 199.413,199.542,199.573,199.577,198.666 ,197.903,196.533,195.318,193.353, 192.148,190.947,189.449,188.554,187.364 ,186.031,185.146,184.263,184.116, 184.063,183.857,183.635,183.399,183.144 ,182.869,182.573,182.256,181.913, 181.542,181.141,180.705,180.232,179.695 ,179.131,178.515,177.839,177.096, 176.699,176.278,175.839,175.375,174.888 ,174.373,173.831,173.258,172.652,172.01 ,171.332,170.612,169.847,169.034, 167.715,167.247,168.036)
ORBIT_NUMBER = 5848
ORBITAL_ECCENTRICITY = 0.57
ORBITAL_INCLINATION = 86.75
ORBITAL_SEMIMAJOR_AXIS = 8677.33
PERIAPSIS_ALTITUDE = 349.88
PERIAPSIS_ARGUMENT_ANGLE = 49.79
PERIAPSIS_TIME = 2008-07-22T07:05:23.000Z
SPACECRAFT_ORIENTATION = (0.0,1.0,0.0)
^MEX_ORIENTATION_DESC = "MEX_ORIENTATION_DESC.TXT"
SPACECRAFT_POINTING_MODE = NADIR
^MEX_POINTING_DESC = "MEX_POINTING_DESC.TXT"
RIGHT_ASCENSION = -1e+32
DECLINATION = -1e+32
OFFSET_ANGLE = -1e+32
SPACECRAFT_SOLAR_DISTANCE = 2.4562e+08
TARGET_NAME = MARS
/* CAMERA DATA ELEMENTS */
DETECTOR_TEMPERATURE = 17.351
FOCAL_PLANE_TEMPERATURE = 7.3599
INST_CMPRS_NAME = "DISCRETE COSINE TRANSFORMATION (DCT)"
INST_CMPRS_RATIO = 10.0469
INST_CMPRS_QUALITY = 0
INST_CMPRS_QUANTZ_TBL_ID = 0
INSTRUMENT_TEMPERATURE = 11.0301
LENS_TEMPERATURE = 8.1755
MACROPIXEL_SIZE = 2
MISSING_FRAMES = 4
PIXEL_SUBSAMPLING_FLAG = N
SIGNAL_CHAIN_ID = 1
/* RADIOMETRIC DATA ELEMENTS */
BANDWIDTH = 180.0
CENTER_FILTER_WAVELENGTH = 677.0
RADIANCE_OFFSET = 2.3704
RADIANCE_SCALING_FACTOR = 0.0361102
REFLECTANCE_SCALING_FACTOR = 0.00113657
MEX:REFLECTANCE_OFFSET = 0.0746086
/* IMAGE OBJECT DEFINITIONS */
OBJECT = IMAGE
  INTERCHANGE_FORMAT = BINARY
  LINES = 15744
  LINE_SAMPLES = 7404
  SAMPLE_TYPE = UNSIGNED_INTEGER
  SAMPLE_BITS = 8
  BANDS = 1
  BAND_STORAGE_TYPE = BAND_SEQUENTIAL
  MAXIMUM = 255
  MEAN = 74.4891
  MINIMUM = 1
  STANDARD_DEVIATION = 36.2627
END_OBJECT = IMAGE
/* MAP OBJECT DEFINITIONS */
OBJECT = IMAGE_MAP_PROJECTION
  ^DATA_SET_MAP_PROJECTION_CATALOG= "DSMAP.CAT"
  A_AXIS_RADIUS = 3396.0
  B_AXIS_RADIUS = 3396.0
  C_AXIS_RADIUS = 3396.0
  CENTER_LATITUDE = 0.0
  CENTER_LONGITUDE = 188.0
  COORDINATE_SYSTEM_NAME = PLANETOGRAPHIC
  COORDINATE_SYSTEM_TYPE = "BODY-FIXED ROTATING"
  EASTERNMOST_LONGITUDE = 199.577
  FIRST_STANDARD_PARALLEL = "N/A"
  LINE_FIRST_PIXEL = 1
  LINE_LAST_PIXEL = 15744
  LINE_PROJECTION_OFFSET = 97566.75
  MAP_PROJECTION_ROTATION = 0.0
  MAP_PROJECTION_TYPE = SINUSOIDAL
  MAP_RESOLUTION = 1185.42760773333
  MAP_SCALE = 0.05
  MAXIMUM_LATITUDE = 82.3655
  MINIMUM_LATITUDE = 69.0715
  POSITIVE_LONGITUDE_DIRECTION = EAST
  REFERENCE_LATITUDE = "N/A"
  REFERENCE_LONGITUDE = "N/A"
  SAMPLE_FIRST_PIXEL = 1
  SAMPLE_LAST_PIXEL = 7404
  SAMPLE_PROJECTION_OFFSET = 3530.25
  SECOND_STANDARD_PARALLEL = "N/A"
  WESTERNMOST_LONGITUDE = 167.247
END_OBJECT = IMAGE_MAP_PROJECTION
END
