PDS_VERSION_ID = PDS3
/* FILE DATA ELEMENTS */
RECORD_TYPE = UNDEFINED
/* POINTERS TO DATA OBJECTS */
^IMAGE = ("H5838_0000_BL4.TIF")
/* IDENTIFICATION DATA ELEMENTS */
DATA_SET_ID = "MEX-M-HRSC-4-REFDR-MAPPROJECT-EXT2-V4.0"
DATA_SET_NAME = "MARS EXPRESS HRSC MAP PROJECTED REFDR EXTENSION2 V4.0"
DETECTOR_ID = MEX_HRSC_BLUE
EVENT_TYPE = "MARS-REGIONAL-MAPPING-Im-Pf-La"
INSTRUMENT_HOST_ID = MEX
INSTRUMENT_HOST_NAME = "MARS EXPRESS"
INSTRUMENT_ID = HRSC
INSTRUMENT_NAME = "HIGH RESOLUTION STEREO CAMERA"
MISSION_NAME = "MARS EXPRESS"
MISSION_PHASE_NAME = ME_Phase_14
PROCESSING_LEVEL_ID = 4
PRODUCT_CREATION_TIME = 2023-02-04T19:55:08.000Z
PRODUCT_ID = "H5838_0000_BL4.TIF"
RELEASE_ID = 0004
REVISION_ID = 0000
/* QUALITY DATA ELEMENTS */
DATA_QUALITY_ID = 1
DATA_QUALITY_DESC = "Data calculated based on original SPICE kernels"
/* TIME DATA ELEMENTS */
SPACECRAFT_CLOCK_START_COUNT = "1/0164544582.09047"
SPACECRAFT_CLOCK_STOP_COUNT = "1/0164545129.18194"
START_TIME = 2008-07-19T10:50:51.802Z
STOP_TIME = 2008-07-19T10:55:07.787Z
/* ORBITAL DATA ELEMENTS */
ASCENDING_NODE_LONGITUDE = 107.13
MAXIMUM_RESOLUTION = 0.1273
FOOTPRINT_POINT_LATITUDE = (81.8282,82.0187,82.2101,82.3649, 82.5606,82.7154,82.8591,82.9536,82.9603 ,82.9462,82.7006,82.4532,82.2033,81.952 ,81.6985,81.4427,81.1854,80.9262, 80.6646,80.272,80.0106,79.7497,79.4892, 79.229,78.9693,78.71,78.4512,78.1928, 77.9349,77.6776,77.4207,77.1644,76.9087 ,76.6534,76.3988,76.1447,75.8912, 75.6382,75.3858,74.8828,74.3822,73.884, 73.3882,72.8949,72.404,71.9157,71.4298, 70.9464,70.4655,70.3457,70.3423,70.3112 ,70.2758,70.2472,70.1922,70.1531, 70.1099,70.0503,69.9494,69.8185,69.8102 ,69.8091,70.2776,70.7486,71.2213, 71.6959,72.1725,72.651,73.1314,73.6134, 74.097,74.5819,75.0683,75.5558,76.0443, 76.2888,76.5335,76.7783,77.0232,77.2682 ,77.5133,77.7582,78.003,78.2478,78.4923 ,78.7366,78.9806,79.2241,79.4673, 79.7099,79.9514,80.1897,80.4252,80.6583 ,80.8882,81.1149,81.339,81.6693,81.777, 81.8282)
FOOTPRINT_POINT_LONGITUDE = (88.0848,90.1878,92.5479,94.6848, 97.7826,100.666,103.864,106.394,106.591 ,107.063,107.651,108.205,108.725, 109.214,109.673,110.109,110.519,110.909 ,111.278,111.794,112.115,112.417, 112.702,112.973,113.23,113.475,113.708, 113.93,114.14,114.342,114.534,114.718, 114.894,115.062,115.223,115.377,115.525 ,115.667,115.804,116.062,116.3,116.522, 116.728,116.92,117.099,117.266,117.423, 117.57,117.708,117.741,117.742,116.152, 114.878,114.034,112.668,111.831,110.997 ,109.96,108.415,106.68,106.579,106.544, 106.291,106.021,105.732,105.424,105.094 ,104.74,104.361,103.955,103.517,103.046 ,102.537,101.988,101.392,101.076, 100.746,100.402,100.043,99.6681,99.2764 ,98.8666,98.4377,97.9889,97.5183, 97.0249,96.5071,95.9631,95.3914,94.7899 ,94.1574,93.4977,92.8078,92.0852, 91.3299,90.5404,89.7103,88.3908,87.9305 ,88.0848)
ORBIT_NUMBER = 5838
ORBITAL_ECCENTRICITY = 0.569
ORBITAL_INCLINATION = 86.76
ORBITAL_SEMIMAJOR_AXIS = 8670.03
PERIAPSIS_ALTITUDE = 350.71
PERIAPSIS_ARGUMENT_ANGLE = 51.54
PERIAPSIS_TIME = 2008-07-19T10:38:35.000Z
SPACECRAFT_ORIENTATION = (0.0,1.0,0.0)
^MEX_ORIENTATION_DESC = "MEX_ORIENTATION_DESC.TXT"
SPACECRAFT_POINTING_MODE = NADIR
^MEX_POINTING_DESC = "MEX_POINTING_DESC.TXT"
RIGHT_ASCENSION = -1e+32
DECLINATION = -1e+32
OFFSET_ANGLE = -1e+32
SPACECRAFT_SOLAR_DISTANCE = 2.45901e+08
TARGET_NAME = MARS
/* CAMERA DATA ELEMENTS */
DETECTOR_TEMPERATURE = 17.9627
FOCAL_PLANE_TEMPERATURE = 8.7872
INST_CMPRS_NAME = "DISCRETE COSINE TRANSFORMATION (DCT)"
INST_CMPRS_RATIO = 30.4144
INST_CMPRS_QUALITY = 0
INST_CMPRS_QUANTZ_TBL_ID = 0
INSTRUMENT_TEMPERATURE = 11.0301
LENS_TEMPERATURE = 7.9716
MACROPIXEL_SIZE = 4
MISSING_FRAMES = 0
PIXEL_SUBSAMPLING_FLAG = N
SIGNAL_CHAIN_ID = 2
/* RADIOMETRIC DATA ELEMENTS */
BANDWIDTH = 76.0
CENTER_FILTER_WAVELENGTH = 444.0
RADIANCE_OFFSET = 0.425503
RADIANCE_SCALING_FACTOR = 0.00923315
REFLECTANCE_SCALING_FACTOR = 0.000573621
MEX:REFLECTANCE_OFFSET = 0.0264349
/* IMAGE OBJECT DEFINITIONS */
OBJECT = IMAGE
  INTERCHANGE_FORMAT = BINARY
  LINES = 7795
  LINE_SAMPLES = 3709
  SAMPLE_TYPE = UNSIGNED_INTEGER
  SAMPLE_BITS = 8
  BANDS = 1
  BAND_STORAGE_TYPE = BAND_SEQUENTIAL
  MAXIMUM = 255
  MEAN = 30.9756
  MINIMUM = 1
  STANDARD_DEVIATION = 25.9292
END_OBJECT = IMAGE
/* MAP OBJECT DEFINITIONS */
OBJECT = IMAGE_MAP_PROJECTION
  ^DATA_SET_MAP_PROJECTION_CATALOG= "DSMAP.CAT"
  A_AXIS_RADIUS = 3396.0
  B_AXIS_RADIUS = 3396.0
  C_AXIS_RADIUS = 3396.0
  CENTER_LATITUDE = 0.0
  CENTER_LONGITUDE = 108.0
  COORDINATE_SYSTEM_NAME = PLANETOGRAPHIC
  COORDINATE_SYSTEM_TYPE = "BODY-FIXED ROTATING"
  EASTERNMOST_LONGITUDE = 117.742
  FIRST_STANDARD_PARALLEL = "N/A"
  LINE_FIRST_PIXEL = 1
  LINE_LAST_PIXEL = 7795
  LINE_PROJECTION_OFFSET = 49168.875
  MAP_PROJECTION_ROTATION = 0.0
  MAP_PROJECTION_TYPE = SINUSOIDAL
  MAP_RESOLUTION = 592.713803866667
  MAP_SCALE = 0.1
  MAXIMUM_LATITUDE = 82.9603
  MINIMUM_LATITUDE = 69.8091
  POSITIVE_LONGITUDE_DIRECTION = EAST
  REFERENCE_LATITUDE = "N/A"
  REFERENCE_LONGITUDE = "N/A"
  SAMPLE_FIRST_PIXEL = 1
  SAMPLE_LAST_PIXEL = 3709
  SAMPLE_PROJECTION_OFFSET = 1719.125
  SECOND_STANDARD_PARALLEL = "N/A"
  WESTERNMOST_LONGITUDE = 87.93049999999999
END_OBJECT = IMAGE_MAP_PROJECTION
END
