PDS_VERSION_ID = PDS3
/* FILE DATA ELEMENTS */
RECORD_TYPE = UNDEFINED
/* POINTERS TO DATA OBJECTS */
^IMAGE = ("H5827_0000_S24.TIF")
/* IDENTIFICATION DATA ELEMENTS */
DATA_SET_ID = "MEX-M-HRSC-4-REFDR-MAPPROJECT-EXT2-V4.0"
DATA_SET_NAME = "MARS EXPRESS HRSC MAP PROJECTED REFDR EXTENSION2 V4.0"
DETECTOR_ID = MEX_HRSC_S2
EVENT_TYPE = "MARS-REGIONAL-MAPPING-Im-Pf-Eo"
INSTRUMENT_HOST_ID = MEX
INSTRUMENT_HOST_NAME = "MARS EXPRESS"
INSTRUMENT_ID = HRSC
INSTRUMENT_NAME = "HIGH RESOLUTION STEREO CAMERA"
MISSION_NAME = "MARS EXPRESS"
MISSION_PHASE_NAME = ME_Phase_14
PROCESSING_LEVEL_ID = 4
PRODUCT_CREATION_TIME = 2023-02-04T19:55:08.000Z
PRODUCT_ID = "H5827_0000_S24.TIF"
RELEASE_ID = 0004
REVISION_ID = 0000
/* QUALITY DATA ELEMENTS */
DATA_QUALITY_ID = 1
DATA_QUALITY_DESC = "Data calculated based on original SPICE kernels"
/* TIME DATA ELEMENTS */
SPACECRAFT_CLOCK_START_COUNT = "1/0164273460.08245"
SPACECRAFT_CLOCK_STOP_COUNT = "1/0164273807.23076"
START_TIME = 2008-07-16T07:31:03.726Z
STOP_TIME = 2008-07-16T07:33:09.924Z
/* ORBITAL DATA ELEMENTS */
ASCENDING_NODE_LONGITUDE = 107.35
MAXIMUM_RESOLUTION = 0.0564
FOOTPRINT_POINT_LATITUDE = (84.8084,84.8992,84.986,85.0684,85.1461 ,85.2189,85.2862,85.3479,85.4035, 85.4528,85.4955,85.5312,85.576,85.5784, 85.4385,85.1586,84.8804,84.5288,84.2408 ,83.9578,83.5972,83.2359,82.9448, 82.6499,82.3551,82.1312,81.8327,81.5303 ,81.3037,81.0741,80.7685,80.614,80.4594 ,80.3049,80.1493,79.9929,79.8367, 79.6795,79.4425,79.2846,79.1255,78.9659 ,78.8064,78.6453,78.4838,78.3227, 78.1614,78.0004,77.9199,77.8561,77.8609 ,77.8615,77.8578,77.8522,77.8408, 77.8253,77.8053,77.7776,77.7489,77.7164 ,77.6801,77.64,77.5962,77.5905,77.5894, 77.7457,77.902,78.0586,78.2151,78.3716, 78.5272,78.6815,78.8358,78.9895,79.1418 ,79.2941,79.4464,79.5968,79.7474, 79.8972,80.1934,80.4148,80.6336,80.9245 ,81.2113,81.4256,81.7773,82.0556, 82.3309,82.6028,82.9383,83.2018,83.4651 ,83.721,83.913,84.1604,84.4053,84.5854, 84.6438,84.8084)
FOOTPRINT_POINT_LONGITUDE = (108.693,110.332,112.038,113.812, 115.656,117.569,119.55,121.598,123.709, 125.882,128.115,130.403,134.521,134.82, 136.51,137.041,137.465,137.963,138.345, 138.648,139.01,139.322,139.552,139.768, 139.965,140.105,140.279,140.442,140.557 ,140.667,140.804,140.87,140.933,140.994 ,141.054,141.112,141.167,141.22,141.298 ,141.349,141.397,141.444,141.49,141.535 ,141.579,141.621,141.662,141.702, 141.721,141.736,140.658,139.713,138.642 ,137.843,136.785,135.736,134.695, 133.534,132.511,131.499,130.496,129.505 ,128.525,128.403,128.358,128.199, 128.034,127.865,127.69,127.511,127.327, 127.139,126.945,126.747,126.543,126.334 ,126.117,125.897,125.669,125.435, 124.949,124.564,124.164,123.6,123.003, 122.528,121.69,120.968,120.197,119.372, 118.257,117.293,116.241,115.122,114.21, 112.935,111.539,110.416,110.034, 108.693)
ORBIT_NUMBER = 5827
ORBITAL_ECCENTRICITY = 0.569
ORBITAL_INCLINATION = 86.75
ORBITAL_SEMIMAJOR_AXIS = 8667.12
PERIAPSIS_ALTITUDE = 352.4
PERIAPSIS_ARGUMENT_ANGLE = 53.45
PERIAPSIS_TIME = 2008-07-16T07:21:03.000Z
SPACECRAFT_ORIENTATION = (0.0,1.0,0.0)
^MEX_ORIENTATION_DESC = "MEX_ORIENTATION_DESC.TXT"
SPACECRAFT_POINTING_MODE = ACROSSTRACK
^MEX_POINTING_DESC = "MEX_POINTING_DESC.TXT"
RIGHT_ASCENSION = -1e+32
DECLINATION = -1e+32
OFFSET_ANGLE = 1.374
SPACECRAFT_SOLAR_DISTANCE = 2.46198e+08
TARGET_NAME = MARS
/* CAMERA DATA ELEMENTS */
DETECTOR_TEMPERATURE = 18.5744
FOCAL_PLANE_TEMPERATURE = 7.7677
INST_CMPRS_NAME = "DISCRETE COSINE TRANSFORMATION (DCT)"
INST_CMPRS_RATIO = 11.0222
INST_CMPRS_QUALITY = 0
INST_CMPRS_QUANTZ_TBL_ID = 0
INSTRUMENT_TEMPERATURE = 11.0301
LENS_TEMPERATURE = 8.5833
MACROPIXEL_SIZE = 2
MISSING_FRAMES = 0
PIXEL_SUBSAMPLING_FLAG = N
SIGNAL_CHAIN_ID = 1
/* RADIOMETRIC DATA ELEMENTS */
BANDWIDTH = 178.0
CENTER_FILTER_WAVELENGTH = 679.0
RADIANCE_OFFSET = 2.60887
RADIANCE_SCALING_FACTOR = 0.0248153
REFLECTANCE_SCALING_FACTOR = 0.000796556
MEX:REFLECTANCE_OFFSET = 0.0837432
/* IMAGE OBJECT DEFINITIONS */
OBJECT = IMAGE
  INTERCHANGE_FORMAT = BINARY
  LINES = 9500
  LINE_SAMPLES = 5285
  SAMPLE_TYPE = UNSIGNED_INTEGER
  SAMPLE_BITS = 8
  BANDS = 1
  BAND_STORAGE_TYPE = BAND_SEQUENTIAL
  MAXIMUM = 255
  MEAN = 108.493
  MINIMUM = 1
  STANDARD_DEVIATION = 65.4535
END_OBJECT = IMAGE
/* MAP OBJECT DEFINITIONS */
OBJECT = IMAGE_MAP_PROJECTION
  ^DATA_SET_MAP_PROJECTION_CATALOG= "DSMAP.CAT"
  A_AXIS_RADIUS = 3396.0
  B_AXIS_RADIUS = 3396.0
  C_AXIS_RADIUS = 3396.0
  CENTER_LATITUDE = 0.0
  CENTER_LONGITUDE = 131.0
  COORDINATE_SYSTEM_NAME = PLANETOGRAPHIC
  COORDINATE_SYSTEM_TYPE = "BODY-FIXED ROTATING"
  EASTERNMOST_LONGITUDE = 141.736
  FIRST_STANDARD_PARALLEL = "N/A"
  LINE_FIRST_PIXEL = 1
  LINE_LAST_PIXEL = 9500
  LINE_PROJECTION_OFFSET = 101352.25
  MAP_PROJECTION_ROTATION = 0.0
  MAP_PROJECTION_TYPE = SINUSOIDAL
  MAP_RESOLUTION = 1185.42760773333
  MAP_SCALE = 0.05
  MAXIMUM_LATITUDE = 85.5784
  MINIMUM_LATITUDE = 77.5894
  POSITIVE_LONGITUDE_DIRECTION = EAST
  REFERENCE_LATITUDE = "N/A"
  REFERENCE_LONGITUDE = "N/A"
  SAMPLE_FIRST_PIXEL = 1
  SAMPLE_LAST_PIXEL = 5285
  SAMPLE_PROJECTION_OFFSET = 2486.25
  SECOND_STANDARD_PARALLEL = "N/A"
  WESTERNMOST_LONGITUDE = 108.693
END_OBJECT = IMAGE_MAP_PROJECTION
END
