PDS_VERSION_ID = PDS3
/* FILE DATA ELEMENTS */
RECORD_TYPE = UNDEFINED
/* POINTERS TO DATA OBJECTS */
^IMAGE = ("H5817_0000_IR4.TIF")
/* IDENTIFICATION DATA ELEMENTS */
DATA_SET_ID = "MEX-M-HRSC-4-REFDR-MAPPROJECT-EXT2-V4.0"
DATA_SET_NAME = "MARS EXPRESS HRSC MAP PROJECTED REFDR EXTENSION2 V4.0"
DETECTOR_ID = MEX_HRSC_IR
EVENT_TYPE = "MARS-REGIONAL-MAPPING-Im-Pf"
INSTRUMENT_HOST_ID = MEX
INSTRUMENT_HOST_NAME = "MARS EXPRESS"
INSTRUMENT_ID = HRSC
INSTRUMENT_NAME = "HIGH RESOLUTION STEREO CAMERA"
MISSION_NAME = "MARS EXPRESS"
MISSION_PHASE_NAME = ME_Phase_14
PROCESSING_LEVEL_ID = 4
PRODUCT_CREATION_TIME = 2023-02-04T19:55:08.000Z
PRODUCT_ID = "H5817_0000_IR4.TIF"
RELEASE_ID = 0004
REVISION_ID = 0000
/* QUALITY DATA ELEMENTS */
DATA_QUALITY_ID = 1
DATA_QUALITY_DESC = "Data calculated based on original SPICE kernels"
/* TIME DATA ELEMENTS */
SPACECRAFT_CLOCK_START_COUNT = "1/0164027138.09063"
SPACECRAFT_CLOCK_STOP_COUNT = "1/0164027671.57038"
START_TIME = 2008-07-13T11:08:39.480Z
STOP_TIME = 2008-07-13T11:13:48.386Z
/* ORBITAL DATA ELEMENTS */
ASCENDING_NODE_LONGITUDE = 107.54
MAXIMUM_RESOLUTION = 0.1587
FOOTPRINT_POINT_LATITUDE = (77.0364,77.1542,77.2437,77.3292, 77.4106,77.488,77.5613,77.6304,77.6954, 77.7561,77.8652,77.9573,77.9625,78.096, 77.8418,77.587,77.334,77.0814,76.8297, 76.5788,76.3288,76.0797,75.8313,75.584, 75.3376,75.0923,74.8477,74.6039,74.3611 ,74.1196,73.8787,73.6389,73.4,73.1621, 72.6891,72.2199,71.755,71.2939,70.8372, 70.4964,70.0468,69.6005,69.1581,68.7196 ,68.2851,67.8543,67.4274,67.0047, 66.5854,66.4814,66.4378,66.4313,66.4194 ,66.4006,66.3794,66.3546,66.325,66.291, 66.2382,66.1947,66.1344,66.0808,66.0231 ,65.9769,65.9689,65.9675,66.3711, 66.7782,67.1891,67.604,68.0222,68.4437, 68.8692,69.2984,69.7311,70.1673,70.6071 ,71.0501,71.4968,71.9467,72.3998,72.856 ,73.3155,73.5461,73.7776,74.0096, 74.3589,74.5921,74.8268,75.0619,75.2972 ,75.5332,75.7696,76.0064,76.2435,76.481 ,76.7189,76.957,77.0761,77.0364)
FOOTPRINT_POINT_LONGITUDE = (37.6806,38.9638,40.001,41.0481,42.1053 ,43.1723,44.2481,45.3321,46.4239, 47.5233,49.7454,51.9958,52.1373,52.1533 ,52.4646,52.7618,53.0457,53.3173, 53.5772,53.8263,54.0651,54.2942,54.5143 ,54.7258,54.9293,55.1252,55.3138, 55.4956,55.6709,55.8401,56.0035,56.1614 ,56.314,56.4616,56.7427,57.0065,57.2546 ,57.4884,57.7091,57.8663,58.0668, 58.2565,58.4365,58.6077,58.7707,58.9261 ,59.0743,59.2161,59.3517,59.3847, 59.3985,58.7423,57.8553,56.8579,55.9723 ,55.0873,54.2024,53.3178,52.1005, 51.2156,50.11,49.2269,48.3435,47.6808, 47.5703,47.5329,47.3626,47.1828,46.9914 ,46.788,46.5726,46.3451,46.1021,45.8435 ,45.5686,45.2758,44.9635,44.6309, 44.2746,43.894,43.4867,43.0501,42.5804, 42.3334,42.0766,41.8108,41.3922,41.1022 ,40.7962,40.4792,40.1507,39.8083, 39.4521,39.0809,38.6945,38.2912,37.8701 ,37.4305,37.2035,37.6806)
ORBIT_NUMBER = 5817
ORBITAL_ECCENTRICITY = 0.569
ORBITAL_INCLINATION = 86.75
ORBITAL_SEMIMAJOR_AXIS = 8669.08
PERIAPSIS_ALTITUDE = 352.16
PERIAPSIS_ARGUMENT_ANGLE = 55.24
PERIAPSIS_TIME = 2008-07-13T10:54:14.000Z
SPACECRAFT_ORIENTATION = (0.0,1.0,0.0)
^MEX_ORIENTATION_DESC = "MEX_ORIENTATION_DESC.TXT"
SPACECRAFT_POINTING_MODE = ACROSSTRACK
^MEX_POINTING_DESC = "MEX_POINTING_DESC.TXT"
RIGHT_ASCENSION = -1e+32
DECLINATION = -1e+32
OFFSET_ANGLE = -0.916
SPACECRAFT_SOLAR_DISTANCE = 2.46457e+08
TARGET_NAME = MARS
/* CAMERA DATA ELEMENTS */
DETECTOR_TEMPERATURE = 16.7393
FOCAL_PLANE_TEMPERATURE = 7.3599
INST_CMPRS_NAME = "DISCRETE COSINE TRANSFORMATION (DCT)"
INST_CMPRS_RATIO = 21.7093
INST_CMPRS_QUALITY = 0
INST_CMPRS_QUANTZ_TBL_ID = 0
INSTRUMENT_TEMPERATURE = 10.6223
LENS_TEMPERATURE = 7.9716
MACROPIXEL_SIZE = 4
MISSING_FRAMES = 0
PIXEL_SUBSAMPLING_FLAG = N
SIGNAL_CHAIN_ID = 2
/* RADIOMETRIC DATA ELEMENTS */
BANDWIDTH = 81.0
CENTER_FILTER_WAVELENGTH = 955.5
RADIANCE_OFFSET = 0.638862
RADIANCE_SCALING_FACTOR = 0.00471593
REFLECTANCE_SCALING_FACTOR = 0.00061798
MEX:REFLECTANCE_OFFSET = 0.083717
/* IMAGE OBJECT DEFINITIONS */
OBJECT = IMAGE
  INTERCHANGE_FORMAT = BINARY
  LINES = 7221
  LINE_SAMPLES = 3431
  SAMPLE_TYPE = UNSIGNED_INTEGER
  SAMPLE_BITS = 8
  BANDS = 1
  BAND_STORAGE_TYPE = BAND_SEQUENTIAL
  MAXIMUM = 255
  MEAN = 186.722
  MINIMUM = 2
  STANDARD_DEVIATION = 60.1553
END_OBJECT = IMAGE
/* MAP OBJECT DEFINITIONS */
OBJECT = IMAGE_MAP_PROJECTION
  ^DATA_SET_MAP_PROJECTION_CATALOG= "DSMAP.CAT"
  A_AXIS_RADIUS = 3396.0
  B_AXIS_RADIUS = 3396.0
  C_AXIS_RADIUS = 3396.0
  CENTER_LATITUDE = 0.0
  CENTER_LONGITUDE = 51.0
  COORDINATE_SYSTEM_NAME = PLANETOGRAPHIC
  COORDINATE_SYSTEM_TYPE = "BODY-FIXED ROTATING"
  EASTERNMOST_LONGITUDE = 59.3985
  FIRST_STANDARD_PARALLEL = "N/A"
  LINE_FIRST_PIXEL = 1
  LINE_LAST_PIXEL = 7221
  LINE_PROJECTION_OFFSET = 46287.875
  MAP_PROJECTION_ROTATION = 0.0
  MAP_PROJECTION_TYPE = SINUSOIDAL
  MAP_RESOLUTION = 592.713803866667
  MAP_SCALE = 0.1
  MAXIMUM_LATITUDE = 78.096
  MINIMUM_LATITUDE = 65.9675
  POSITIVE_LONGITUDE_DIRECTION = EAST
  REFERENCE_LATITUDE = "N/A"
  REFERENCE_LONGITUDE = "N/A"
  SAMPLE_FIRST_PIXEL = 1
  SAMPLE_LAST_PIXEL = 3431
  SAMPLE_PROJECTION_OFFSET = 1713.875
  SECOND_STANDARD_PARALLEL = "N/A"
  WESTERNMOST_LONGITUDE = 37.2035
END_OBJECT = IMAGE_MAP_PROJECTION
END
