PDS_VERSION_ID = PDS3
/* FILE DATA ELEMENTS */
RECORD_TYPE = UNDEFINED
/* POINTERS TO DATA OBJECTS */
^IMAGE = ("H5771_0000_P24.TIF")
/* IDENTIFICATION DATA ELEMENTS */
DATA_SET_ID = "MEX-M-HRSC-4-REFDR-MAPPROJECT-EXT2-V4.0"
DATA_SET_NAME = "MARS EXPRESS HRSC MAP PROJECTED REFDR EXTENSION2 V4.0"
DETECTOR_ID = MEX_HRSC_P2
EVENT_TYPE = "MARS-REGIONAL-MAPPING-Gl-Eo-La"
INSTRUMENT_HOST_ID = MEX
INSTRUMENT_HOST_NAME = "MARS EXPRESS"
INSTRUMENT_ID = HRSC
INSTRUMENT_NAME = "HIGH RESOLUTION STEREO CAMERA"
MISSION_NAME = "MARS EXPRESS"
MISSION_PHASE_NAME = ME_Phase_13
PROCESSING_LEVEL_ID = 4
PRODUCT_CREATION_TIME = 2023-02-03T16:04:45.000Z
PRODUCT_ID = "H5771_0000_P24.TIF"
RELEASE_ID = 0003
REVISION_ID = 0000
/* QUALITY DATA ELEMENTS */
DATA_QUALITY_ID = 1
DATA_QUALITY_DESC = "Data calculated based on original SPICE kernels"
/* TIME DATA ELEMENTS */
SPACECRAFT_CLOCK_START_COUNT = "1/0162893349.07283"
SPACECRAFT_CLOCK_STOP_COUNT = "1/0162893685.38207"
START_TIME = 2008-06-30T08:09:28.474Z
STOP_TIME = 2008-06-30T08:12:35.490Z
/* ORBITAL DATA ELEMENTS */
ASCENDING_NODE_LONGITUDE = 108.47
MAXIMUM_RESOLUTION = 0.0415
FOOTPRINT_POINT_LATITUDE = (86.0881,86.5103,86.7587,87.0056,87.25, 87.6553,87.6701,87.6808,87.399,87.0498, 86.7364,86.482,86.2195,85.9468,85.7581, 85.569,85.3768,85.1799,84.9792,84.6766, 84.4712,84.2636,84.0555,83.8464,83.6337 ,83.4199,83.2052,82.9871,82.7673, 82.5471,82.3241,82.0994,81.8744,81.6464 ,81.4168,81.1872,80.9541,80.7201, 80.4859,80.1276,79.7667,79.5266,79.2843 ,79.039,78.6706,78.2971,78.048,77.7955, 77.4161,77.288,77.239,77.1876,77.1286, 77.0647,76.9656,76.8636,76.763,76.7564, 76.7548,77.0026,77.2474,77.6126,77.8532 ,78.0935,78.3297,78.5657,78.9155, 79.1469,79.3764,79.6031,79.9409,80.1633 ,80.3844,80.712,80.9276,81.1422,81.3521 ,81.561,81.7683,82.072,82.2725,82.566, 82.7591,83.0454,83.231,83.4151,83.5978, 83.7741,84.0334,84.2841,84.4445,84.6006 ,84.8986,85.1739,85.4237,85.6974, 85.8793,85.9923,86.0254,86.0881)
FOOTPRINT_POINT_LONGITUDE = (275.148,277.084,278.479,280.116, 282.057,286.283,286.469,289.181,299.155 ,307.079,312.136,315.42,318.173,320.622 ,322.103,323.415,324.637,325.788,326.86 ,328.297,329.181,329.993,330.743, 331.443,332.098,332.715,333.295,333.845 ,334.366,334.856,335.322,335.763,336.18 ,336.579,336.958,337.317,337.663, 337.991,338.303,338.754,339.18,339.434, 339.686,339.929,340.271,340.595,340.799 ,340.997,341.278,341.369,341.403, 339.684,338.084,336.602,334.656,332.938 ,331.435,331.342,331.307,331.002, 330.688,330.193,329.849,329.489,329.12, 328.734,328.128,327.704,327.262,326.805 ,326.079,325.573,325.042,324.205, 323.615,322.997,322.356,321.683,320.975 ,319.86,319.067,317.811,316.92,315.49, 314.484,313.417,312.284,311.107,309.209 ,307.15,305.694,304.154,300.809,297.105 ,293.007,287.292,282.273,278.264, 276.879,275.148)
ORBIT_NUMBER = 5771
ORBITAL_ECCENTRICITY = 0.568
ORBITAL_INCLINATION = 86.76
ORBITAL_SEMIMAJOR_AXIS = 8652.46
PERIAPSIS_ALTITUDE = 356.09
PERIAPSIS_ARGUMENT_ANGLE = 63.29
PERIAPSIS_TIME = 2008-06-30T08:02:41.000Z
SPACECRAFT_ORIENTATION = (0.0,1.0,0.0)
^MEX_ORIENTATION_DESC = "MEX_ORIENTATION_DESC.TXT"
SPACECRAFT_POINTING_MODE = ACROSSTRACK
^MEX_POINTING_DESC = "MEX_POINTING_DESC.TXT"
RIGHT_ASCENSION = -1e+32
DECLINATION = -1e+32
OFFSET_ANGLE = 0.3
SPACECRAFT_SOLAR_DISTANCE = 2.47503e+08
TARGET_NAME = MARS
/* CAMERA DATA ELEMENTS */
DETECTOR_TEMPERATURE = 17.9627
FOCAL_PLANE_TEMPERATURE = 7.5638
INST_CMPRS_NAME = "DISCRETE COSINE TRANSFORMATION (DCT)"
INST_CMPRS_RATIO = 8.23152
INST_CMPRS_QUALITY = 0
INST_CMPRS_QUANTZ_TBL_ID = 0
INSTRUMENT_TEMPERATURE = 10.4184
LENS_TEMPERATURE = 7.7677
MACROPIXEL_SIZE = 2
MISSING_FRAMES = 0
PIXEL_SUBSAMPLING_FLAG = N
SIGNAL_CHAIN_ID = 3
/* RADIOMETRIC DATA ELEMENTS */
BANDWIDTH = 177.0
CENTER_FILTER_WAVELENGTH = 676.5
RADIANCE_OFFSET = 2.73239
RADIANCE_SCALING_FACTOR = 0.0319672
REFLECTANCE_SCALING_FACTOR = 0.0010383
MEX:REFLECTANCE_OFFSET = 0.0887484
/* IMAGE OBJECT DEFINITIONS */
OBJECT = IMAGE
  INTERCHANGE_FORMAT = BINARY
  LINES = 12986
  LINE_SAMPLES = 8385
  SAMPLE_TYPE = UNSIGNED_INTEGER
  SAMPLE_BITS = 8
  BANDS = 1
  BAND_STORAGE_TYPE = BAND_SEQUENTIAL
  MAXIMUM = 254
  MEAN = 102.973
  MINIMUM = 1
  STANDARD_DEVIATION = 55.4763
END_OBJECT = IMAGE
/* MAP OBJECT DEFINITIONS */
OBJECT = IMAGE_MAP_PROJECTION
  ^DATA_SET_MAP_PROJECTION_CATALOG= "DSMAP.CAT"
  A_AXIS_RADIUS = 3396.0
  B_AXIS_RADIUS = 3396.0
  C_AXIS_RADIUS = 3396.0
  CENTER_LATITUDE = 0.0
  CENTER_LONGITUDE = 325.0
  COORDINATE_SYSTEM_NAME = PLANETOGRAPHIC
  COORDINATE_SYSTEM_TYPE = "BODY-FIXED ROTATING"
  EASTERNMOST_LONGITUDE = 341.403
  FIRST_STANDARD_PARALLEL = "N/A"
  LINE_FIRST_PIXEL = 1
  LINE_LAST_PIXEL = 12986
  LINE_PROJECTION_OFFSET = 103969.25
  MAP_PROJECTION_ROTATION = 0.0
  MAP_PROJECTION_TYPE = SINUSOIDAL
  MAP_RESOLUTION = 1185.42760773333
  MAP_SCALE = 0.05
  MAXIMUM_LATITUDE = 87.6808
  MINIMUM_LATITUDE = 76.7548
  POSITIVE_LONGITUDE_DIRECTION = EAST
  REFERENCE_LATITUDE = "N/A"
  REFERENCE_LONGITUDE = "N/A"
  SAMPLE_FIRST_PIXEL = 1
  SAMPLE_LAST_PIXEL = 8385
  SAMPLE_PROJECTION_OFFSET = 4037.25
  SECOND_STANDARD_PARALLEL = "N/A"
  WESTERNMOST_LONGITUDE = 275.148
END_OBJECT = IMAGE_MAP_PROJECTION
END
