PDS_VERSION_ID = PDS3
/* FILE DATA ELEMENTS */
RECORD_TYPE = UNDEFINED
/* POINTERS TO DATA OBJECTS */
^IMAGE = ("H5739_0000_S24.TIF")
/* IDENTIFICATION DATA ELEMENTS */
DATA_SET_ID = "MEX-M-HRSC-4-REFDR-MAPPROJECT-EXT2-V4.0"
DATA_SET_NAME = "MARS EXPRESS HRSC MAP PROJECTED REFDR EXTENSION2 V4.0"
DETECTOR_ID = MEX_HRSC_S2
EVENT_TYPE = "MARS-REGIONAL-MAPPING-Gl-La-Ot"
INSTRUMENT_HOST_ID = MEX
INSTRUMENT_HOST_NAME = "MARS EXPRESS"
INSTRUMENT_ID = HRSC
INSTRUMENT_NAME = "HIGH RESOLUTION STEREO CAMERA"
MISSION_NAME = "MARS EXPRESS"
MISSION_PHASE_NAME = ME_Phase_13
PROCESSING_LEVEL_ID = 4
PRODUCT_CREATION_TIME = 2023-02-03T16:04:45.000Z
PRODUCT_ID = "H5739_0000_S24.TIF"
RELEASE_ID = 0003
REVISION_ID = 0000
/* QUALITY DATA ELEMENTS */
DATA_QUALITY_ID = 1
DATA_QUALITY_DESC = "Data calculated based on original SPICE kernels"
/* TIME DATA ELEMENTS */
SPACECRAFT_CLOCK_START_COUNT = "1/0162104704.08269"
SPACECRAFT_CLOCK_STOP_COUNT = "1/0162104975.01095"
START_TIME = 2008-06-21T05:05:07.741Z
STOP_TIME = 2008-06-21T05:08:03.921Z
/* ORBITAL DATA ELEMENTS */
ASCENDING_NODE_LONGITUDE = 109.11
MAXIMUM_RESOLUTION = 0.0342
FOOTPRINT_POINT_LATITUDE = (83.7464,83.8866,84.0047,84.1077, 84.1098,84.2324,84.7039,85.06,85.6512, 86.0082,86.2527,86.616,86.8605,87.2249, 87.4689,87.8382,88.0865,88.335,88.582, 88.8264,89.067,89.302,89.6012,89.6681, 89.4577,89.2327,88.9841,88.7262,88.4642 ,88.1985,87.9317,87.6592,87.3845, 87.1087,86.6851,86.407,86.1227,85.8315, 85.549,85.2574,84.9637,84.6608,84.368, 84.0614,83.7593,83.3065,82.8462,82.5368 ,82.3821,82.3546,82.4383,82.5105, 82.5487,82.5761,82.5836,82.5799,82.579, 82.5794,83.0327,83.3333,83.6301,83.9199 ,84.208,84.4962,84.7764,85.057,85.3331, 85.6059,86.0056,86.3982,86.6544,87.0228 ,87.2609,87.4903,87.8129,88.0071, 88.1826,88.3336,88.4534,88.5339,88.5699 ,88.537,88.4608,88.3495,88.1271,87.9559 ,87.771,87.5717,87.2606,87.0448,86.8289 ,86.5019,86.2774,85.5972,85.0344, 84.4692,84.0127,83.8982,83.7464)
FOOTPRINT_POINT_LONGITUDE = (149.295,145.476,141.287,135.812, 135.661,133.701,133.472,133.225,132.779 ,132.439,132.126,131.665,131.231, 130.501,129.854,128.6,127.507,126.027, 124.03,121.222,116.886,109.426,81.831, 41.284,355.279,343.295,336.768,332.87, 330.291,328.495,327.155,326.078,325.241 ,324.573,323.902,323.394,323.027, 322.783,322.477,322.243,322.039,321.932 ,321.753,321.647,321.513,321.33,321.155 ,321.061,321.016,321.01,318.201,314.935 ,312.52,309.527,307.523,304.817,304.67, 304.617,303.86,303.302,302.695,302.06, 301.368,300.592,299.757,298.806,297.776 ,296.628,294.62,292.183,290.27,286.845, 284.059,280.786,274.668,269.643,263.604 ,256.39,247.92,238.406,228.266,212.909, 203.491,195.201,185.037,179.66,175.152, 171.355,166.724,164.205,162.072,159.361 ,157.832,154.172,151.931,150.153, 148.982,148.717,149.295)
ORBIT_NUMBER = 5739
ORBITAL_ECCENTRICITY = 0.568
ORBITAL_INCLINATION = 86.75
ORBITAL_SEMIMAJOR_AXIS = 8646.21
PERIAPSIS_ALTITUDE = 357.78
PERIAPSIS_ARGUMENT_ANGLE = 68.92
PERIAPSIS_TIME = 2008-06-21T05:01:40.000Z
SPACECRAFT_ORIENTATION = (0.0,1.0,0.0)
^MEX_ORIENTATION_DESC = "MEX_ORIENTATION_DESC.TXT"
SPACECRAFT_POINTING_MODE = INERT
^MEX_POINTING_DESC = "MEX_POINTING_DESC.TXT"
RIGHT_ASCENSION = 108.905
DECLINATION = -69.617
OFFSET_ANGLE = -1e+32
SPACECRAFT_SOLAR_DISTANCE = 2.48088e+08
TARGET_NAME = MARS
/* CAMERA DATA ELEMENTS */
DETECTOR_TEMPERATURE = 18.1666
FOCAL_PLANE_TEMPERATURE = 7.3599
INST_CMPRS_NAME = "DISCRETE COSINE TRANSFORMATION (DCT)"
INST_CMPRS_RATIO = 12.8764
INST_CMPRS_QUALITY = 0
INST_CMPRS_QUANTZ_TBL_ID = 0
INSTRUMENT_TEMPERATURE = 10.4184
LENS_TEMPERATURE = 7.7677
MACROPIXEL_SIZE = 2
MISSING_FRAMES = 0
PIXEL_SUBSAMPLING_FLAG = N
SIGNAL_CHAIN_ID = 1
/* RADIOMETRIC DATA ELEMENTS */
BANDWIDTH = 178.0
CENTER_FILTER_WAVELENGTH = 679.0
RADIANCE_OFFSET = 3.40525
RADIANCE_SCALING_FACTOR = 0.0327549
REFLECTANCE_SCALING_FACTOR = 0.00106762
MEX:REFLECTANCE_OFFSET = 0.110992
/* IMAGE OBJECT DEFINITIONS */
OBJECT = IMAGE
  INTERCHANGE_FORMAT = BINARY
  LINES = 25899
  LINE_SAMPLES = 25175
  SAMPLE_TYPE = UNSIGNED_INTEGER
  SAMPLE_BITS = 8
  BANDS = 1
  BAND_STORAGE_TYPE = BAND_SEQUENTIAL
  MAXIMUM = 255
  MEAN = 151.543
  MINIMUM = 1
  STANDARD_DEVIATION = 53.9045
END_OBJECT = IMAGE
/* MAP OBJECT DEFINITIONS */
OBJECT = IMAGE_MAP_PROJECTION
  ^DATA_SET_MAP_PROJECTION_CATALOG= "DSMAP.CAT"
  A_AXIS_RADIUS = 3396.0
  B_AXIS_RADIUS = 3396.0
  C_AXIS_RADIUS = 3396.0
  CENTER_LATITUDE = 90.0
  CENTER_LONGITUDE = 0.0
  COORDINATE_SYSTEM_NAME = PLANETOGRAPHIC
  COORDINATE_SYSTEM_TYPE = "BODY-FIXED ROTATING"
  EASTERNMOST_LONGITUDE = 360.0
  FIRST_STANDARD_PARALLEL = "N/A"
  LINE_FIRST_PIXEL = 1
  LINE_LAST_PIXEL = 25899
  LINE_PROJECTION_OFFSET = 12262.75
  MAP_PROJECTION_ROTATION = 0.0
  MAP_PROJECTION_TYPE = STEREOGRAPHIC
  MAP_RESOLUTION = 2370.85521546667
  MAP_SCALE = 0.025
  MAXIMUM_LATITUDE = 90.0
  MINIMUM_LATITUDE = 82.3546
  POSITIVE_LONGITUDE_DIRECTION = EAST
  REFERENCE_LATITUDE = "N/A"
  REFERENCE_LONGITUDE = "N/A"
  SAMPLE_FIRST_PIXEL = 1
  SAMPLE_LAST_PIXEL = 25175
  SAMPLE_PROJECTION_OFFSET = 14913.25
  SECOND_STANDARD_PARALLEL = "N/A"
  WESTERNMOST_LONGITUDE = 0.0
END_OBJECT = IMAGE_MAP_PROJECTION
END
