PDS_VERSION_ID = PDS3
/* FILE DATA ELEMENTS */
RECORD_TYPE = UNDEFINED
/* POINTERS TO DATA OBJECTS */
^IMAGE = ("H5739_0000_P14.TIF")
/* IDENTIFICATION DATA ELEMENTS */
DATA_SET_ID = "MEX-M-HRSC-4-REFDR-MAPPROJECT-EXT2-V4.0"
DATA_SET_NAME = "MARS EXPRESS HRSC MAP PROJECTED REFDR EXTENSION2 V4.0"
DETECTOR_ID = MEX_HRSC_P1
EVENT_TYPE = "MARS-REGIONAL-MAPPING-Gl-La-Ot"
INSTRUMENT_HOST_ID = MEX
INSTRUMENT_HOST_NAME = "MARS EXPRESS"
INSTRUMENT_ID = HRSC
INSTRUMENT_NAME = "HIGH RESOLUTION STEREO CAMERA"
MISSION_NAME = "MARS EXPRESS"
MISSION_PHASE_NAME = ME_Phase_13
PROCESSING_LEVEL_ID = 4
PRODUCT_CREATION_TIME = 2023-02-03T16:04:45.000Z
PRODUCT_ID = "H5739_0000_P14.TIF"
RELEASE_ID = 0003
REVISION_ID = 0000
/* QUALITY DATA ELEMENTS */
DATA_QUALITY_ID = 1
DATA_QUALITY_DESC = "Data calculated based on original SPICE kernels"
/* TIME DATA ELEMENTS */
SPACECRAFT_CLOCK_START_COUNT = "1/0162104704.08269"
SPACECRAFT_CLOCK_STOP_COUNT = "1/0162104975.01095"
START_TIME = 2008-06-21T05:06:06.852Z
STOP_TIME = 2008-06-21T05:09:20.995Z
/* ORBITAL DATA ELEMENTS */
ASCENDING_NODE_LONGITUDE = 109.11
MAXIMUM_RESOLUTION = 0.0361
FOOTPRINT_POINT_LATITUDE = (84.095,84.1609,84.18,84.1884,84.1853, 84.1605,84.1587,84.0382,84.7521,85.2279 ,85.8263,86.4367,86.9224,87.2901, 87.5375,87.7843,88.031,88.2762,88.5249, 88.7717,89.0137,89.2469,89.4638,89.6237 ,89.6387,89.4958,89.279,89.038,88.6595, 88.3972,88.1324,87.8665,87.5963,87.3232 ,87.0497,86.7734,86.3541,86.0743, 85.6465,85.3607,84.9254,84.6346,84.3398 ,84.0431,83.7454,83.4427,83.14,82.8329, 82.6787,82.6196,82.615,82.5979,82.5427, 82.4897,82.4249,82.3401,82.335,82.3339, 82.786,83.0814,83.5229,83.8116,84.2424, 84.5236,84.9424,85.2147,85.6201,85.8838 ,86.1431,86.5254,86.7716,87.0121,87.245 ,87.574,87.7792,87.9681,88.1356,88.2785 ,88.3904,88.4639,88.4944,88.4807, 88.4239,88.331,88.1334,87.9723,87.702, 87.5083,87.3052,87.0951,86.5546,86.1097 ,85.7697,85.3181,84.9777,84.5186, 84.1754,84.0623,84.095)
FOOTPRINT_POINT_LONGITUDE = (150.09,145.497,143.075,140.576,138.006 ,134.361,134.193,132.211,131.859, 131.459,130.927,130.237,129.372,128.56, 127.834,126.947,125.862,124.436,122.472 ,119.749,115.635,108.886,96.1545, 69.8339,28.6893,359.308,344.825,337.259 ,331.189,328.757,327.011,325.742, 324.627,323.796,323.124,322.573,321.919 ,321.545,321.117,320.836,320.513,320.38 ,320.194,320.07,319.923,319.783,319.654 ,319.542,319.468,319.448,317.065, 314.721,310.863,308.41,306.052,303.53, 303.393,303.343,302.6,302.064,301.186, 300.543,299.468,298.668,297.297,296.269 ,294.492,293.145,291.605,288.898,286.78 ,284.306,281.427,276.185,271.849, 266.714,260.672,253.533,245.254,236.123 ,226.403,216.565,207.163,198.768, 188.163,182.357,175.326,171.591,168.352 ,165.627,160.287,157.166,155.224, 153.098,151.803,150.283,149.32,149.029, 150.09)
ORBIT_NUMBER = 5739
ORBITAL_ECCENTRICITY = 0.568
ORBITAL_INCLINATION = 86.75
ORBITAL_SEMIMAJOR_AXIS = 8646.21
PERIAPSIS_ALTITUDE = 357.78
PERIAPSIS_ARGUMENT_ANGLE = 68.92
PERIAPSIS_TIME = 2008-06-21T05:01:40.000Z
SPACECRAFT_ORIENTATION = (0.0,1.0,0.0)
^MEX_ORIENTATION_DESC = "MEX_ORIENTATION_DESC.TXT"
SPACECRAFT_POINTING_MODE = INERT
^MEX_POINTING_DESC = "MEX_POINTING_DESC.TXT"
RIGHT_ASCENSION = 108.905
DECLINATION = -69.617
OFFSET_ANGLE = -1e+32
SPACECRAFT_SOLAR_DISTANCE = 2.48088e+08
TARGET_NAME = MARS
/* CAMERA DATA ELEMENTS */
DETECTOR_TEMPERATURE = 16.9432
FOCAL_PLANE_TEMPERATURE = 7.3599
INST_CMPRS_NAME = "DISCRETE COSINE TRANSFORMATION (DCT)"
INST_CMPRS_RATIO = 15.1513
INST_CMPRS_QUALITY = 0
INST_CMPRS_QUANTZ_TBL_ID = 0
INSTRUMENT_TEMPERATURE = 10.4184
LENS_TEMPERATURE = 7.7677
MACROPIXEL_SIZE = 2
MISSING_FRAMES = 1
PIXEL_SUBSAMPLING_FLAG = N
SIGNAL_CHAIN_ID = 3
/* RADIOMETRIC DATA ELEMENTS */
BANDWIDTH = 174.0
CENTER_FILTER_WAVELENGTH = 675.0
RADIANCE_OFFSET = 2.66167
RADIANCE_SCALING_FACTOR = 0.0315268
REFLECTANCE_SCALING_FACTOR = 0.0010437
MEX:REFLECTANCE_OFFSET = 0.0881152
/* IMAGE OBJECT DEFINITIONS */
OBJECT = IMAGE
  INTERCHANGE_FORMAT = BINARY
  LINES = 25899
  LINE_SAMPLES = 25175
  SAMPLE_TYPE = UNSIGNED_INTEGER
  SAMPLE_BITS = 8
  BANDS = 1
  BAND_STORAGE_TYPE = BAND_SEQUENTIAL
  MAXIMUM = 255
  MEAN = 154.927
  MINIMUM = 1
  STANDARD_DEVIATION = 52.2015
END_OBJECT = IMAGE
/* MAP OBJECT DEFINITIONS */
OBJECT = IMAGE_MAP_PROJECTION
  ^DATA_SET_MAP_PROJECTION_CATALOG= "DSMAP.CAT"
  A_AXIS_RADIUS = 3396.0
  B_AXIS_RADIUS = 3396.0
  C_AXIS_RADIUS = 3396.0
  CENTER_LATITUDE = 90.0
  CENTER_LONGITUDE = 0.0
  COORDINATE_SYSTEM_NAME = PLANETOGRAPHIC
  COORDINATE_SYSTEM_TYPE = "BODY-FIXED ROTATING"
  EASTERNMOST_LONGITUDE = 360.0
  FIRST_STANDARD_PARALLEL = "N/A"
  LINE_FIRST_PIXEL = 1
  LINE_LAST_PIXEL = 25899
  LINE_PROJECTION_OFFSET = 12262.75
  MAP_PROJECTION_ROTATION = 0.0
  MAP_PROJECTION_TYPE = STEREOGRAPHIC
  MAP_RESOLUTION = 2370.85521546667
  MAP_SCALE = 0.025
  MAXIMUM_LATITUDE = 90.0
  MINIMUM_LATITUDE = 82.3339
  POSITIVE_LONGITUDE_DIRECTION = EAST
  REFERENCE_LATITUDE = "N/A"
  REFERENCE_LONGITUDE = "N/A"
  SAMPLE_FIRST_PIXEL = 1
  SAMPLE_LAST_PIXEL = 25175
  SAMPLE_PROJECTION_OFFSET = 14913.25
  SECOND_STANDARD_PARALLEL = "N/A"
  WESTERNMOST_LONGITUDE = 0.0
END_OBJECT = IMAGE_MAP_PROJECTION
END
