PDS_VERSION_ID = PDS3
/* FILE DATA ELEMENTS */
RECORD_TYPE = UNDEFINED
/* POINTERS TO DATA OBJECTS */
^IMAGE = ("H5713_0000_S14.TIF")
/* IDENTIFICATION DATA ELEMENTS */
DATA_SET_ID = "MEX-M-HRSC-4-REFDR-MAPPROJECT-EXT2-V4.0"
DATA_SET_NAME = "MARS EXPRESS HRSC MAP PROJECTED REFDR EXTENSION2 V4.0"
DETECTOR_ID = MEX_HRSC_S1
EVENT_TYPE = "MARS-REGIONAL-MAPPING-Gl-La"
INSTRUMENT_HOST_ID = MEX
INSTRUMENT_HOST_NAME = "MARS EXPRESS"
INSTRUMENT_ID = HRSC
INSTRUMENT_NAME = "HIGH RESOLUTION STEREO CAMERA"
MISSION_NAME = "MARS EXPRESS"
MISSION_PHASE_NAME = ME_Phase_13
PROCESSING_LEVEL_ID = 4
PRODUCT_CREATION_TIME = 2023-02-03T16:04:45.000Z
PRODUCT_ID = "H5713_0000_S14.TIF"
RELEASE_ID = 0003
REVISION_ID = 0000
/* QUALITY DATA ELEMENTS */
DATA_QUALITY_ID = 1
DATA_QUALITY_DESC = "Data calculated based on original SPICE kernels"
/* TIME DATA ELEMENTS */
SPACECRAFT_CLOCK_START_COUNT = "1/0161464329.07293"
SPACECRAFT_CLOCK_STOP_COUNT = "1/0161464588.36359"
START_TIME = 2008-06-13T19:13:36.210Z
STOP_TIME = 2008-06-13T19:16:30.185Z
/* ORBITAL DATA ELEMENTS */
ASCENDING_NODE_LONGITUDE = 109.62
MAXIMUM_RESOLUTION = 0.037
FOOTPRINT_POINT_LATITUDE = (84.9892,85.2257,85.4096,85.6645, 85.9369,86.1046,86.1142,86.2497,85.9753 ,85.7618,85.3831,85.0745,84.8367, 84.5096,84.1797,84.0089,83.751,83.5785, 83.4056,83.229,83.0516,82.8738,82.6957, 82.5149,82.3328,82.1505,81.9681,81.783, 81.5967,81.4106,81.226,81.036,80.7513, 80.5619,80.37,80.1767,79.9831,79.7914, 79.5934,79.3969,79.2005,78.905,78.6064, 78.4042,78.2014,77.999,77.7938,77.5882, 77.383,77.2786,77.2749,77.2271,77.1578, 77.0797,77.0275,76.9773,76.9086,76.8056 ,76.7996,76.7981,77.0982,77.2972, 77.4959,77.6914,77.8868,78.082,78.2738, 78.4657,78.6579,78.8462,79.1259,79.3134 ,79.4974,79.6816,79.956,80.1357,80.4048 ,80.5838,80.7587,80.9335,81.1079, 81.2807,81.4504,81.6194,81.7878,81.9546 ,82.1181,82.2806,82.4421,82.6806, 82.9154,83.2939,83.7277,84.0065,84.2059 ,84.4627,84.7638,84.9853,85.0364, 84.9892)
FOOTPRINT_POINT_LONGITUDE = (341.176,343.373,345.288,348.313, 352.165,354.967,355.139,354.378,357.722 ,359.936,363.225,365.475,366.994, 368.832,370.455,371.213,372.271,372.927 ,373.548,374.148,374.716,375.256, 375.768,376.261,376.734,377.183,377.611 ,378.025,378.422,378.802,379.164, 379.517,380.019,380.336,380.644,380.941 ,381.225,381.501,381.768,382.025, 382.271,382.633,382.973,383.192,383.403 ,383.607,383.807,383.999,384.185, 384.278,384.281,383.019,381.409,379.818 ,378.854,377.985,376.863,375.328, 375.244,375.212,374.811,374.533,374.246 ,373.953,373.651,373.337,373.018, 372.686,372.341,371.991,371.45,371.066, 370.675,370.266,369.629,369.189,368.494 ,368.006,367.51,366.99,366.448,365.887, 365.31,364.707,364.078,363.424,362.75, 362.046,361.31,360.15,358.903,356.686, 353.695,351.454,349.659,347.056,343.466 ,340.346,339.587,341.176)
ORBIT_NUMBER = 5713
ORBITAL_ECCENTRICITY = 0.568
ORBITAL_INCLINATION = 86.74
ORBITAL_SEMIMAJOR_AXIS = 8640.58
PERIAPSIS_ALTITUDE = 358.83
PERIAPSIS_ARGUMENT_ANGLE = 73.45
PERIAPSIS_TIME = 2008-06-13T19:07:50.000Z
SPACECRAFT_ORIENTATION = (0.0,1.0,0.0)
^MEX_ORIENTATION_DESC = "MEX_ORIENTATION_DESC.TXT"
SPACECRAFT_POINTING_MODE = NADIR
^MEX_POINTING_DESC = "MEX_POINTING_DESC.TXT"
RIGHT_ASCENSION = -1e+32
DECLINATION = -1e+32
OFFSET_ANGLE = -1e+32
SPACECRAFT_SOLAR_DISTANCE = 2.48475e+08
TARGET_NAME = MARS
/* CAMERA DATA ELEMENTS */
DETECTOR_TEMPERATURE = 16.7393
FOCAL_PLANE_TEMPERATURE = 7.3599
INST_CMPRS_NAME = "DISCRETE COSINE TRANSFORMATION (DCT)"
INST_CMPRS_RATIO = 11.6732
INST_CMPRS_QUALITY = 0
INST_CMPRS_QUANTZ_TBL_ID = 0
INSTRUMENT_TEMPERATURE = 10.4184
LENS_TEMPERATURE = 7.9716
MACROPIXEL_SIZE = 2
MISSING_FRAMES = 0
PIXEL_SUBSAMPLING_FLAG = N
SIGNAL_CHAIN_ID = 1
/* RADIOMETRIC DATA ELEMENTS */
BANDWIDTH = 180.0
CENTER_FILTER_WAVELENGTH = 677.0
RADIANCE_OFFSET = 3.38667
RADIANCE_SCALING_FACTOR = 0.0574661
REFLECTANCE_SCALING_FACTOR = 0.00185105
MEX:REFLECTANCE_OFFSET = 0.109089
/* IMAGE OBJECT DEFINITIONS */
OBJECT = IMAGE
  INTERCHANGE_FORMAT = BINARY
  LINES = 22345
  LINE_SAMPLES = 13052
  SAMPLE_TYPE = UNSIGNED_INTEGER
  SAMPLE_BITS = 8
  BANDS = 1
  BAND_STORAGE_TYPE = BAND_SEQUENTIAL
  MAXIMUM = 254
  MEAN = 99.9041
  MINIMUM = 1
  STANDARD_DEVIATION = 34.1911
END_OBJECT = IMAGE
/* MAP OBJECT DEFINITIONS */
OBJECT = IMAGE_MAP_PROJECTION
  ^DATA_SET_MAP_PROJECTION_CATALOG= "DSMAP.CAT"
  A_AXIS_RADIUS = 3396.0
  B_AXIS_RADIUS = 3396.0
  C_AXIS_RADIUS = 3396.0
  CENTER_LATITUDE = 0.0
  CENTER_LONGITUDE = 11.0
  COORDINATE_SYSTEM_NAME = PLANETOGRAPHIC
  COORDINATE_SYSTEM_TYPE = "BODY-FIXED ROTATING"
  EASTERNMOST_LONGITUDE = 24.281
  FIRST_STANDARD_PARALLEL = "N/A"
  LINE_FIRST_PIXEL = 1
  LINE_LAST_PIXEL = 22345
  LINE_PROJECTION_OFFSET = 204402.25
  MAP_PROJECTION_ROTATION = 0.0
  MAP_PROJECTION_TYPE = SINUSOIDAL
  MAP_RESOLUTION = 2370.85521546667
  MAP_SCALE = 0.025
  MAXIMUM_LATITUDE = 86.2497
  MINIMUM_LATITUDE = 76.79810000000001
  POSITIVE_LONGITUDE_DIRECTION = EAST
  REFERENCE_LATITUDE = "N/A"
  REFERENCE_LONGITUDE = "N/A"
  SAMPLE_FIRST_PIXEL = 1
  SAMPLE_LAST_PIXEL = 13052
  SAMPLE_PROJECTION_OFFSET = 6336.25
  SECOND_STANDARD_PARALLEL = "N/A"
  WESTERNMOST_LONGITUDE = -20.413
END_OBJECT = IMAGE_MAP_PROJECTION
END
