PDS_VERSION_ID = PDS3
/* FILE DATA ELEMENTS */
RECORD_TYPE = UNDEFINED
/* POINTERS TO DATA OBJECTS */
^IMAGE = ("H5705_0000_IR4.TIF")
/* IDENTIFICATION DATA ELEMENTS */
DATA_SET_ID = "MEX-M-HRSC-4-REFDR-MAPPROJECT-EXT2-V4.0"
DATA_SET_NAME = "MARS EXPRESS HRSC MAP PROJECTED REFDR EXTENSION2 V4.0"
DETECTOR_ID = MEX_HRSC_IR
EVENT_TYPE = "MARS-REGIONAL-MAPPING-Im-Gl-Pf"
INSTRUMENT_HOST_ID = MEX
INSTRUMENT_HOST_NAME = "MARS EXPRESS"
INSTRUMENT_ID = HRSC
INSTRUMENT_NAME = "HIGH RESOLUTION STEREO CAMERA"
MISSION_NAME = "MARS EXPRESS"
MISSION_PHASE_NAME = ME_Phase_13
PROCESSING_LEVEL_ID = 4
PRODUCT_CREATION_TIME = 2023-02-03T16:04:45.000Z
PRODUCT_ID = "H5705_0000_IR4.TIF"
RELEASE_ID = 0003
REVISION_ID = 0000
/* QUALITY DATA ELEMENTS */
DATA_QUALITY_ID = 1
DATA_QUALITY_DESC = "Data calculated based on original SPICE kernels"
/* TIME DATA ELEMENTS */
SPACECRAFT_CLOCK_START_COUNT = "1/0161267416.08245"
SPACECRAFT_CLOCK_STOP_COUNT = "1/0161267679.21589"
START_TIME = 2008-06-11T12:31:54.685Z
STOP_TIME = 2008-06-11T12:34:26.578Z
/* ORBITAL DATA ELEMENTS */
ASCENDING_NODE_LONGITUDE = 109.79
MAXIMUM_RESOLUTION = 0.0947
FOOTPRINT_POINT_LATITUDE = (76.2461,76.3275,76.4286,76.508,76.5656 ,76.6305,76.6598,76.6626,76.7855, 76.4991,76.208,75.9177,75.6974,75.4027, 75.0315,74.7332,74.4314,74.1295,73.9767 ,73.7472,73.5945,73.3629,73.2081, 73.0535,72.8189,72.6624,72.5062,72.2695 ,72.1111,71.953,71.7931,71.6332,71.4733 ,71.3117,71.1498,70.9884,70.8258, 70.6624,70.4994,70.3349,70.1698,70.0051 ,69.8392,69.6724,69.5061,69.254,69.0859 ,69.0019,68.9182,68.8986,68.8783, 68.8584,68.8318,68.8137,68.7919,68.7656 ,68.7247,68.6875,68.6623,68.6246, 68.6207,68.6209,68.8707,69.0367,69.2024 ,69.3665,69.531,69.6946,69.8563,70.0187 ,70.2619,70.4228,70.584,70.7433,70.9024 ,71.141,71.2983,71.456,71.6137,71.7694, 71.925,72.158,72.3116,72.4655,72.6196, 72.8474,72.9994,73.1514,73.4518,73.6021 ,73.8998,74.1957,74.4892,74.8546, 75.1422,75.5015,75.785,76.2081,76.2778, 76.2461)
FOOTPRINT_POINT_LONGITUDE = (96.9204,98.1463,99.825,101.303,102.496 ,104.002,104.761,104.837,104.965, 105.194,105.415,105.627,105.782,105.981 ,106.221,106.405,106.583,106.755, 106.839,106.962,107.043,107.161,107.239 ,107.315,107.426,107.5,107.572,107.678, 107.747,107.815,107.883,107.949,108.014 ,108.078,108.142,108.204,108.266, 108.327,108.387,108.446,108.504,108.562 ,108.618,108.674,108.729,108.811, 108.864,108.89,108.916,108.219,107.583, 107.012,106.316,105.875,105.37,104.804, 103.988,103.3,102.863,102.24,102.178, 102.157,102.051,101.979,101.905,101.831 ,101.755,101.678,101.602,101.523,101.4, 101.317,101.232,101.147,101.06,100.926, 100.836,100.743,100.648,100.553,100.456 ,100.307,100.207,100.104,99.9986, 99.8391,99.73,99.6187,99.3908,99.2731, 99.033,98.785,98.5269,98.1901,97.912, 97.5467,97.2437,96.7653,96.6834, 96.9204)
ORBIT_NUMBER = 5705
ORBITAL_ECCENTRICITY = 0.568
ORBITAL_INCLINATION = 86.76
ORBITAL_SEMIMAJOR_AXIS = 8639.06
PERIAPSIS_ALTITUDE = 358.38
PERIAPSIS_ARGUMENT_ANGLE = 74.86
PERIAPSIS_TIME = 2008-06-11T12:23:43.000Z
SPACECRAFT_ORIENTATION = (0.0,1.0,0.0)
^MEX_ORIENTATION_DESC = "MEX_ORIENTATION_DESC.TXT"
SPACECRAFT_POINTING_MODE = NADIR
^MEX_POINTING_DESC = "MEX_POINTING_DESC.TXT"
RIGHT_ASCENSION = -1e+32
DECLINATION = -1e+32
OFFSET_ANGLE = -1e+32
SPACECRAFT_SOLAR_DISTANCE = 2.48579e+08
TARGET_NAME = MARS
/* CAMERA DATA ELEMENTS */
DETECTOR_TEMPERATURE = 16.7393
FOCAL_PLANE_TEMPERATURE = 7.5638
INST_CMPRS_NAME = "DISCRETE COSINE TRANSFORMATION (DCT)"
INST_CMPRS_RATIO = 18.6128
INST_CMPRS_QUALITY = 0
INST_CMPRS_QUANTZ_TBL_ID = 0
INSTRUMENT_TEMPERATURE = 9.3989
LENS_TEMPERATURE = 7.9716
MACROPIXEL_SIZE = 4
MISSING_FRAMES = 0
PIXEL_SUBSAMPLING_FLAG = N
SIGNAL_CHAIN_ID = 2
/* RADIOMETRIC DATA ELEMENTS */
BANDWIDTH = 81.0
CENTER_FILTER_WAVELENGTH = 955.5
RADIANCE_OFFSET = 0.569324
RADIANCE_SCALING_FACTOR = 0.0102702
REFLECTANCE_SCALING_FACTOR = 0.00136909
MEX:REFLECTANCE_OFFSET = 0.0758952
/* IMAGE OBJECT DEFINITIONS */
OBJECT = IMAGE
  INTERCHANGE_FORMAT = BINARY
  LINES = 4832
  LINE_SAMPLES = 1978
  SAMPLE_TYPE = UNSIGNED_INTEGER
  SAMPLE_BITS = 8
  BANDS = 1
  BAND_STORAGE_TYPE = BAND_SEQUENTIAL
  MAXIMUM = 255
  MEAN = 111.505
  MINIMUM = 1
  STANDARD_DEVIATION = 24.5929
END_OBJECT = IMAGE
/* MAP OBJECT DEFINITIONS */
OBJECT = IMAGE_MAP_PROJECTION
  ^DATA_SET_MAP_PROJECTION_CATALOG= "DSMAP.CAT"
  A_AXIS_RADIUS = 3396.0
  B_AXIS_RADIUS = 3396.0
  C_AXIS_RADIUS = 3396.0
  CENTER_LATITUDE = 0.0
  CENTER_LONGITUDE = 104.0
  COORDINATE_SYSTEM_NAME = PLANETOGRAPHIC
  COORDINATE_SYSTEM_TYPE = "BODY-FIXED ROTATING"
  EASTERNMOST_LONGITUDE = 108.916
  FIRST_STANDARD_PARALLEL = "N/A"
  LINE_FIRST_PIXEL = 1
  LINE_LAST_PIXEL = 4832
  LINE_PROJECTION_OFFSET = 45499.625
  MAP_PROJECTION_ROTATION = 0.0
  MAP_PROJECTION_TYPE = SINUSOIDAL
  MAP_RESOLUTION = 592.713803866667
  MAP_SCALE = 0.1
  MAXIMUM_LATITUDE = 76.7855
  MINIMUM_LATITUDE = 68.6207
  POSITIVE_LONGITUDE_DIRECTION = EAST
  REFERENCE_LATITUDE = "N/A"
  REFERENCE_LONGITUDE = "N/A"
  SAMPLE_FIRST_PIXEL = 1
  SAMPLE_LAST_PIXEL = 1978
  SAMPLE_PROJECTION_OFFSET = 997.375
  SECOND_STANDARD_PARALLEL = "N/A"
  WESTERNMOST_LONGITUDE = 96.68340000000001
END_OBJECT = IMAGE_MAP_PROJECTION
END
