PDS_VERSION_ID = PDS3
/* FILE DATA ELEMENTS */
RECORD_TYPE = UNDEFINED
/* POINTERS TO DATA OBJECTS */
^IMAGE = ("H5673_0000_RE4.TIF")
/* IDENTIFICATION DATA ELEMENTS */
DATA_SET_ID = "MEX-M-HRSC-4-REFDR-MAPPROJECT-EXT2-V4.0"
DATA_SET_NAME = "MARS EXPRESS HRSC MAP PROJECTED REFDR EXTENSION2 V4.0"
DETECTOR_ID = MEX_HRSC_RED
EVENT_TYPE = "MARS-REGIONAL-MAPPING-Gl-Pf-Eo"
INSTRUMENT_HOST_ID = MEX
INSTRUMENT_HOST_NAME = "MARS EXPRESS"
INSTRUMENT_ID = HRSC
INSTRUMENT_NAME = "HIGH RESOLUTION STEREO CAMERA"
MISSION_NAME = "MARS EXPRESS"
MISSION_PHASE_NAME = ME_Phase_12
PROCESSING_LEVEL_ID = 4
PRODUCT_CREATION_TIME = 2023-02-03T16:04:45.000Z
PRODUCT_ID = "H5673_0000_RE4.TIF"
RELEASE_ID = 0003
REVISION_ID = 0000
/* QUALITY DATA ELEMENTS */
DATA_QUALITY_ID = 1
DATA_QUALITY_DESC = "Data calculated based on original SPICE kernels"
/* TIME DATA ELEMENTS */
SPACECRAFT_CLOCK_START_COUNT = "1/0160479080.08243"
SPACECRAFT_CLOCK_STOP_COUNT = "1/0160479349.21165"
START_TIME = 2008-06-02T09:31:30.453Z
STOP_TIME = 2008-06-02T09:34:08.953Z
/* ORBITAL DATA ELEMENTS */
ASCENDING_NODE_LONGITUDE = 110.42
MAXIMUM_RESOLUTION = 0.0712
FOOTPRINT_POINT_LATITUDE = (79.4733,79.5952,79.7015,79.759,79.8123 ,79.8704,79.8733,79.7672,79.4041, 79.2224,78.768,78.4923,78.3057,78.1193, 77.9325,77.6523,77.3721,77.1814,76.9899 ,76.7984,76.6068,76.4153,76.2238, 75.9309,75.6367,75.4405,75.2444,75.0484 ,74.8479,74.6472,74.4467,74.2461, 74.0456,73.7398,73.5349,73.2275,73.0226 ,72.7097,72.5006,72.2913,72.0822, 71.7638,71.5503,71.3371,71.1235,70.9071 ,70.6893,70.4718,70.2544,69.9233, 69.8123,69.7118,69.6779,69.6325,69.5881 ,69.5484,69.4821,69.4791,69.4794, 69.9189,70.2417,70.4568,70.6722,70.9915 ,71.308,71.519,71.8335,72.0398,72.3497, 72.5561,72.8622,73.0642,73.2665,73.4688 ,73.6709,73.8686,74.0659,74.2633, 74.4607,74.756,74.9485,75.2377,75.4301, 75.6226,75.9095,76.0971,76.3786,76.5659 ,76.7533,77.0329,77.2152,77.488,77.6697 ,77.8515,78.0331,78.3029,78.8313, 79.1821,79.2696,79.4733)
FOOTPRINT_POINT_LONGITUDE = (55.9473,57.8539,59.7393,60.8766, 62.0289,63.419,63.4928,63.9599,64.4226, 64.6422,65.1576,65.4493,65.6384,65.8209 ,65.9984,66.254,66.4978,66.657,66.8121, 66.9625,67.1085,67.2499,67.3874,67.59, 67.7847,67.91,68.0317,68.1498,68.2675, 68.382,68.4931,68.6015,68.7068,68.862, 68.9625,69.1085,69.2029,69.3425,69.4324 ,69.5206,69.6063,69.7328,69.8148, 69.8947,69.9731,70.0505,70.1266,70.2006 ,70.2726,70.3795,70.4145,70.4458, 69.3715,68.2063,67.2413,66.4737,65.3298 ,65.2823,65.2659,65.0678,64.9154, 64.8105,64.7028,64.5379,64.3679,64.2507 ,64.0704,63.9479,63.7579,63.6269, 63.4263,63.2893,63.1485,63.0039,62.8552 ,62.7055,62.5519,62.394,62.2316,61.9797 ,61.8095,61.5449,61.3621,61.174,60.8828 ,60.6852,60.3777,60.1649,59.9455,59.605 ,59.3741,59.0142,58.7648,58.5074, 58.2417,57.8297,56.9592,56.3291,56.1648 ,55.9473)
ORBIT_NUMBER = 5673
ORBITAL_ECCENTRICITY = 0.567
ORBITAL_INCLINATION = 86.76
ORBITAL_SEMIMAJOR_AXIS = 8634.96
PERIAPSIS_ALTITUDE = 358.76
PERIAPSIS_ARGUMENT_ANGLE = 80.47
PERIAPSIS_TIME = 2008-06-02T09:27:00.000Z
SPACECRAFT_ORIENTATION = (0.0,1.0,0.0)
^MEX_ORIENTATION_DESC = "MEX_ORIENTATION_DESC.TXT"
SPACECRAFT_POINTING_MODE = ACROSSTRACK
^MEX_POINTING_DESC = "MEX_POINTING_DESC.TXT"
RIGHT_ASCENSION = -1e+32
DECLINATION = -1e+32
OFFSET_ANGLE = 0.17
SPACECRAFT_SOLAR_DISTANCE = 2.48915e+08
TARGET_NAME = MARS
/* CAMERA DATA ELEMENTS */
DETECTOR_TEMPERATURE = 17.9627
FOCAL_PLANE_TEMPERATURE = 6.9521
INST_CMPRS_NAME = "DISCRETE COSINE TRANSFORMATION (DCT)"
INST_CMPRS_RATIO = 26.6099
INST_CMPRS_QUALITY = 0
INST_CMPRS_QUANTZ_TBL_ID = 0
INSTRUMENT_TEMPERATURE = 10.2145
LENS_TEMPERATURE = 8.3794
MACROPIXEL_SIZE = 4
MISSING_FRAMES = 0
PIXEL_SUBSAMPLING_FLAG = N
SIGNAL_CHAIN_ID = 2
/* RADIOMETRIC DATA ELEMENTS */
BANDWIDTH = 48.0
CENTER_FILTER_WAVELENGTH = 748.0
RADIANCE_OFFSET = 0.682373
RADIANCE_SCALING_FACTOR = 0.00587227
REFLECTANCE_SCALING_FACTOR = 0.000830299
MEX:REFLECTANCE_OFFSET = 0.0964829
/* IMAGE OBJECT DEFINITIONS */
OBJECT = IMAGE
  INTERCHANGE_FORMAT = BINARY
  LINES = 12240
  LINE_SAMPLES = 4298
  SAMPLE_TYPE = UNSIGNED_INTEGER
  SAMPLE_BITS = 8
  BANDS = 1
  BAND_STORAGE_TYPE = BAND_SEQUENTIAL
  MAXIMUM = 255
  MEAN = 140.074
  MINIMUM = 1
  STANDARD_DEVIATION = 51.4007
END_OBJECT = IMAGE
/* MAP OBJECT DEFINITIONS */
OBJECT = IMAGE_MAP_PROJECTION
  ^DATA_SET_MAP_PROJECTION_CATALOG= "DSMAP.CAT"
  A_AXIS_RADIUS = 3396.0
  B_AXIS_RADIUS = 3396.0
  C_AXIS_RADIUS = 3396.0
  CENTER_LATITUDE = 0.0
  CENTER_LONGITUDE = 65.0
  COORDINATE_SYSTEM_NAME = PLANETOGRAPHIC
  COORDINATE_SYSTEM_TYPE = "BODY-FIXED ROTATING"
  EASTERNMOST_LONGITUDE = 70.44580000000001
  FIRST_STANDARD_PARALLEL = "N/A"
  LINE_FIRST_PIXEL = 1
  LINE_LAST_PIXEL = 12240
  LINE_PROJECTION_OFFSET = 94593.625
  MAP_PROJECTION_ROTATION = 0.0
  MAP_PROJECTION_TYPE = SINUSOIDAL
  MAP_RESOLUTION = 1185.42760773333
  MAP_SCALE = 0.05
  MAXIMUM_LATITUDE = 79.8733
  MINIMUM_LATITUDE = 69.4791
  POSITIVE_LONGITUDE_DIRECTION = EAST
  REFERENCE_LATITUDE = "N/A"
  REFERENCE_LONGITUDE = "N/A"
  SAMPLE_FIRST_PIXEL = 1
  SAMPLE_LAST_PIXEL = 4298
  SAMPLE_PROJECTION_OFFSET = 2011.375
  SECOND_STANDARD_PARALLEL = "N/A"
  WESTERNMOST_LONGITUDE = 55.9473
END_OBJECT = IMAGE_MAP_PROJECTION
END
