PDS_VERSION_ID = PDS3
/* FILE DATA ELEMENTS */
RECORD_TYPE = UNDEFINED
/* POINTERS TO DATA OBJECTS */
^IMAGE = ("H5673_0000_BL4.TIF")
/* IDENTIFICATION DATA ELEMENTS */
DATA_SET_ID = "MEX-M-HRSC-4-REFDR-MAPPROJECT-EXT2-V4.0"
DATA_SET_NAME = "MARS EXPRESS HRSC MAP PROJECTED REFDR EXTENSION2 V4.0"
DETECTOR_ID = MEX_HRSC_BLUE
EVENT_TYPE = "MARS-REGIONAL-MAPPING-Gl-Pf-Eo"
INSTRUMENT_HOST_ID = MEX
INSTRUMENT_HOST_NAME = "MARS EXPRESS"
INSTRUMENT_ID = HRSC
INSTRUMENT_NAME = "HIGH RESOLUTION STEREO CAMERA"
MISSION_NAME = "MARS EXPRESS"
MISSION_PHASE_NAME = ME_Phase_12
PROCESSING_LEVEL_ID = 4
PRODUCT_CREATION_TIME = 2023-02-03T16:04:45.000Z
PRODUCT_ID = "H5673_0000_BL4.TIF"
RELEASE_ID = 0003
REVISION_ID = 0000
/* QUALITY DATA ELEMENTS */
DATA_QUALITY_ID = 1
DATA_QUALITY_DESC = "Data calculated based on original SPICE kernels"
/* TIME DATA ELEMENTS */
SPACECRAFT_CLOCK_START_COUNT = "1/0160479080.08243"
SPACECRAFT_CLOCK_STOP_COUNT = "1/0160479349.21165"
START_TIME = 2008-06-02T09:31:56.337Z
STOP_TIME = 2008-06-02T09:34:42.192Z
/* ORBITAL DATA ELEMENTS */
ASCENDING_NODE_LONGITUDE = 110.42
MAXIMUM_RESOLUTION = 0.07
FOOTPRINT_POINT_LATITUDE = (79.3902,79.4627,79.5273,79.5925, 79.6537,79.7108,79.798,79.801,79.7864, 79.4226,79.0586,78.6861,78.3129,77.9399 ,77.6542,77.2722,76.8905,76.5993, 76.4041,76.209,76.0139,75.819,75.6203, 75.421,75.2218,75.0228,74.7222,74.519, 74.3158,74.1129,73.91,73.7034,73.4964, 73.2895,73.0828,72.7683,72.5575,72.3469 ,72.0291,71.8145,71.6002,71.3861, 71.1696,70.9514,70.7335,70.5157,70.2939 ,70.0723,69.8508,69.7402,69.7173, 69.6861,69.6597,69.6193,69.5836,69.5449 ,69.4762,69.4732,69.4734,69.8019, 70.1311,70.3488,70.5643,70.7798,71.1021 ,71.3137,71.5254,71.7374,71.9477, 72.1554,72.3633,72.5713,72.7779,72.9817 ,73.1856,73.3897,73.5938,73.7934, 73.9932,74.1931,74.3929,74.591,74.7865, 74.9821,75.2755,75.4709,75.8532,76.0444 ,76.2355,76.5207,76.8938,77.2665, 77.5452,77.9083,78.2708,78.6325,78.9847 ,79.2482,79.3359,79.3902)
FOOTPRINT_POINT_LONGITUDE = (55.9682,57.0676,58.113,59.244,60.3902, 61.5511,63.5458,63.6204,63.9604,64.4274 ,64.8624,65.276,65.6626,66.0241,66.2858 ,66.6162,66.9265,67.1507,67.2952, 67.4356,67.5718,67.7038,67.8346,67.9622 ,68.0858,68.2058,68.3812,68.4956, 68.6069,68.7149,68.8201,68.9241,69.0258 ,69.1245,69.2213,69.3632,69.4552, 69.5448,69.6757,69.7616,69.8448,69.9259 ,70.0065,70.0856,70.1624,70.2373, 70.3118,70.3843,70.4555,70.4901,70.4973 ,69.5371,68.8304,67.8769,67.1272, 66.3813,65.1956,65.1464,65.1295,64.9824 ,64.8299,64.7253,64.6192,64.5101, 64.3417,64.2274,64.1098,63.9891,63.8659 ,63.7408,63.6123,63.4801,63.3454, 63.2086,63.0682,62.9238,62.7754,62.6256 ,62.4716,62.3133,62.1503,61.984,61.8152 ,61.6412,61.3709,61.184,60.8016,60.6018 ,60.3957,60.0761,59.635,59.1653,58.7932 ,58.2807,57.7339,57.1499,56.5402, 56.0549,55.8876,55.9682)
ORBIT_NUMBER = 5673
ORBITAL_ECCENTRICITY = 0.567
ORBITAL_INCLINATION = 86.76
ORBITAL_SEMIMAJOR_AXIS = 8634.96
PERIAPSIS_ALTITUDE = 358.76
PERIAPSIS_ARGUMENT_ANGLE = 80.47
PERIAPSIS_TIME = 2008-06-02T09:27:00.000Z
SPACECRAFT_ORIENTATION = (0.0,1.0,0.0)
^MEX_ORIENTATION_DESC = "MEX_ORIENTATION_DESC.TXT"
SPACECRAFT_POINTING_MODE = ACROSSTRACK
^MEX_POINTING_DESC = "MEX_POINTING_DESC.TXT"
RIGHT_ASCENSION = -1e+32
DECLINATION = -1e+32
OFFSET_ANGLE = 0.17
SPACECRAFT_SOLAR_DISTANCE = 2.48915e+08
TARGET_NAME = MARS
/* CAMERA DATA ELEMENTS */
DETECTOR_TEMPERATURE = 17.7588
FOCAL_PLANE_TEMPERATURE = 6.9521
INST_CMPRS_NAME = "DISCRETE COSINE TRANSFORMATION (DCT)"
INST_CMPRS_RATIO = 17.6008
INST_CMPRS_QUALITY = 0
INST_CMPRS_QUANTZ_TBL_ID = 0
INSTRUMENT_TEMPERATURE = 10.2145
LENS_TEMPERATURE = 8.3794
MACROPIXEL_SIZE = 4
MISSING_FRAMES = 0
PIXEL_SUBSAMPLING_FLAG = N
SIGNAL_CHAIN_ID = 2
/* RADIOMETRIC DATA ELEMENTS */
BANDWIDTH = 76.0
CENTER_FILTER_WAVELENGTH = 444.0
RADIANCE_OFFSET = 0.498172
RADIANCE_SCALING_FACTOR = 0.00524582
REFLECTANCE_SCALING_FACTOR = 0.000333942
MEX:REFLECTANCE_OFFSET = 0.031713
/* IMAGE OBJECT DEFINITIONS */
OBJECT = IMAGE
  INTERCHANGE_FORMAT = BINARY
  LINES = 12240
  LINE_SAMPLES = 4298
  SAMPLE_TYPE = UNSIGNED_INTEGER
  SAMPLE_BITS = 8
  BANDS = 1
  BAND_STORAGE_TYPE = BAND_SEQUENTIAL
  MAXIMUM = 255
  MEAN = 32.1573
  MINIMUM = 1
  STANDARD_DEVIATION = 13.2465
END_OBJECT = IMAGE
/* MAP OBJECT DEFINITIONS */
OBJECT = IMAGE_MAP_PROJECTION
  ^DATA_SET_MAP_PROJECTION_CATALOG= "DSMAP.CAT"
  A_AXIS_RADIUS = 3396.0
  B_AXIS_RADIUS = 3396.0
  C_AXIS_RADIUS = 3396.0
  CENTER_LATITUDE = 0.0
  CENTER_LONGITUDE = 65.0
  COORDINATE_SYSTEM_NAME = PLANETOGRAPHIC
  COORDINATE_SYSTEM_TYPE = "BODY-FIXED ROTATING"
  EASTERNMOST_LONGITUDE = 70.4973
  FIRST_STANDARD_PARALLEL = "N/A"
  LINE_FIRST_PIXEL = 1
  LINE_LAST_PIXEL = 12240
  LINE_PROJECTION_OFFSET = 94593.625
  MAP_PROJECTION_ROTATION = 0.0
  MAP_PROJECTION_TYPE = SINUSOIDAL
  MAP_RESOLUTION = 1185.42760773333
  MAP_SCALE = 0.05
  MAXIMUM_LATITUDE = 79.801
  MINIMUM_LATITUDE = 69.47320000000001
  POSITIVE_LONGITUDE_DIRECTION = EAST
  REFERENCE_LATITUDE = "N/A"
  REFERENCE_LONGITUDE = "N/A"
  SAMPLE_FIRST_PIXEL = 1
  SAMPLE_LAST_PIXEL = 4298
  SAMPLE_PROJECTION_OFFSET = 2011.375
  SECOND_STANDARD_PARALLEL = "N/A"
  WESTERNMOST_LONGITUDE = 55.8876
END_OBJECT = IMAGE_MAP_PROJECTION
END
