PDS_VERSION_ID = PDS3
/* FILE DATA ELEMENTS */
RECORD_TYPE = UNDEFINED
/* POINTERS TO DATA OBJECTS */
^IMAGE = ("H5643_0000_GR4.TIF")
/* IDENTIFICATION DATA ELEMENTS */
DATA_SET_ID = "MEX-M-HRSC-4-REFDR-MAPPROJECT-EXT2-V4.0"
DATA_SET_NAME = "MARS EXPRESS HRSC MAP PROJECTED REFDR EXTENSION2 V4.0"
DETECTOR_ID = MEX_HRSC_GREEN
EVENT_TYPE = "MARS-REGIONAL-MAPPING-Im-Pf-Eb"
INSTRUMENT_HOST_ID = MEX
INSTRUMENT_HOST_NAME = "MARS EXPRESS"
INSTRUMENT_ID = HRSC
INSTRUMENT_NAME = "HIGH RESOLUTION STEREO CAMERA"
MISSION_NAME = "MARS EXPRESS"
MISSION_PHASE_NAME = ME_Phase_12
PROCESSING_LEVEL_ID = 4
PRODUCT_CREATION_TIME = 2023-02-03T16:04:45.000Z
PRODUCT_ID = "H5643_0000_GR4.TIF"
RELEASE_ID = 0003
REVISION_ID = 0000
/* QUALITY DATA ELEMENTS */
DATA_QUALITY_ID = 1
DATA_QUALITY_DESC = "Data calculated based on original SPICE kernels"
/* TIME DATA ELEMENTS */
SPACECRAFT_CLOCK_START_COUNT = "1/0159740062.09048"
SPACECRAFT_CLOCK_STOP_COUNT = "1/0159740290.24611"
START_TIME = 2008-05-24T20:15:07.961Z
STOP_TIME = 2008-05-24T20:17:31.347Z
/* ORBITAL DATA ELEMENTS */
ASCENDING_NODE_LONGITUDE = 111.02
MAXIMUM_RESOLUTION = 0.0651
FOOTPRINT_POINT_LATITUDE = (79.3161,79.4309,79.51,79.5657,79.632, 79.712,79.715,79.7461,79.5033,79.1794, 78.8552,78.6118,78.2804,77.9473,77.6971 ,77.2806,76.943,76.772,76.6012,76.4304, 76.2596,76.089,75.8329,75.6585,75.4836, 75.3088,75.134,74.9594,74.7848,74.6104, 74.3425,74.1638,73.9853,73.7175,73.5394 ,73.3589,73.1766,72.9944,72.8123, 72.6303,72.4484,72.1709,71.985,71.7994, 71.6138,71.4283,71.1454,71.0507,71.0259 ,71.003,70.9716,70.926,70.8878,70.8572, 70.8276,70.7791,70.7762,70.7763,70.9635 ,71.1501,71.3333,71.5165,71.6999, 71.8834,72.1579,72.3373,72.5168,72.6964 ,72.8761,73.0558,73.2343,73.4099, 73.5855,73.7612,73.937,74.1128,74.3746, 74.5462,74.7177,74.8893,75.0609,75.2325 ,75.4041,75.6572,75.8244,75.9917, 76.1589,76.326,76.4932,76.6602,76.8256, 77.1507,77.4755,77.7998,78.2032,78.5177 ,78.8315,79.2226,79.3007,79.3161)
FOOTPRINT_POINT_LONGITUDE = (177.352,179.066,180.36,181.341,182.598 ,184.279,184.347,184.568,184.911, 185.344,185.751,186.039,186.412,186.766 ,187.017,187.414,187.716,187.863, 188.006,188.146,188.281,188.413,188.604 ,188.731,188.855,188.975,189.092, 189.207,189.319,189.428,189.59,189.695, 189.797,189.945,190.043,190.139,190.233 ,190.325,190.415,190.503,190.589, 190.716,190.799,190.881,190.96,191.037, 191.153,191.191,191.201,190.586,189.826 ,188.835,188.083,187.52,187.006,186.214 ,186.167,186.151,186.049,185.944, 185.839,185.731,185.621,185.508,185.335 ,185.218,185.098,184.976,184.85,184.722 ,184.591,184.459,184.324,184.186, 184.044,183.898,183.675,183.524,183.369 ,183.21,183.047,182.88,182.709,182.448, 182.27,182.087,181.898,181.705,181.506, 181.302,181.095,180.67,180.221,179.747, 179.117,178.591,178.033,177.289,177.133 ,177.352)
ORBIT_NUMBER = 5643
ORBITAL_ECCENTRICITY = 0.567
ORBITAL_INCLINATION = 86.75
ORBITAL_SEMIMAJOR_AXIS = 8634.77
PERIAPSIS_ALTITUDE = 359.66
PERIAPSIS_ARGUMENT_ANGLE = 85.73
PERIAPSIS_TIME = 2008-05-24T20:11:22.000Z
SPACECRAFT_ORIENTATION = (0.0,1.0,0.0)
^MEX_ORIENTATION_DESC = "MEX_ORIENTATION_DESC.TXT"
SPACECRAFT_POINTING_MODE = NADIR
^MEX_POINTING_DESC = "MEX_POINTING_DESC.TXT"
RIGHT_ASCENSION = -1e+32
DECLINATION = -1e+32
OFFSET_ANGLE = -1e+32
SPACECRAFT_SOLAR_DISTANCE = 2.49119e+08
TARGET_NAME = MARS
/* CAMERA DATA ELEMENTS */
DETECTOR_TEMPERATURE = 17.351
FOCAL_PLANE_TEMPERATURE = 6.9521
INST_CMPRS_NAME = "DISCRETE COSINE TRANSFORMATION (DCT)"
INST_CMPRS_RATIO = 13.4
INST_CMPRS_QUALITY = 0
INST_CMPRS_QUANTZ_TBL_ID = 0
INSTRUMENT_TEMPERATURE = 10.6223
LENS_TEMPERATURE = 7.3599
MACROPIXEL_SIZE = 4
MISSING_FRAMES = 0
PIXEL_SUBSAMPLING_FLAG = N
SIGNAL_CHAIN_ID = 2
/* RADIOMETRIC DATA ELEMENTS */
BANDWIDTH = 88.0
CENTER_FILTER_WAVELENGTH = 538.0
RADIANCE_OFFSET = 1.23009
RADIANCE_SCALING_FACTOR = 0.0134088
REFLECTANCE_SCALING_FACTOR = 0.000716455
MEX:REFLECTANCE_OFFSET = 0.065726
/* IMAGE OBJECT DEFINITIONS */
OBJECT = IMAGE
  INTERCHANGE_FORMAT = BINARY
  LINES = 10638
  LINE_SAMPLES = 3957
  SAMPLE_TYPE = UNSIGNED_INTEGER
  SAMPLE_BITS = 8
  BANDS = 1
  BAND_STORAGE_TYPE = BAND_SEQUENTIAL
  MAXIMUM = 255
  MEAN = 62.0335
  MINIMUM = 1
  STANDARD_DEVIATION = 49.1805
END_OBJECT = IMAGE
/* MAP OBJECT DEFINITIONS */
OBJECT = IMAGE_MAP_PROJECTION
  ^DATA_SET_MAP_PROJECTION_CATALOG= "DSMAP.CAT"
  A_AXIS_RADIUS = 3396.0
  B_AXIS_RADIUS = 3396.0
  C_AXIS_RADIUS = 3396.0
  CENTER_LATITUDE = 0.0
  CENTER_LONGITUDE = 186.0
  COORDINATE_SYSTEM_NAME = PLANETOGRAPHIC
  COORDINATE_SYSTEM_TYPE = "BODY-FIXED ROTATING"
  EASTERNMOST_LONGITUDE = 191.201
  FIRST_STANDARD_PARALLEL = "N/A"
  LINE_FIRST_PIXEL = 1
  LINE_LAST_PIXEL = 10638
  LINE_PROJECTION_OFFSET = 94534.375
  MAP_PROJECTION_ROTATION = 0.0
  MAP_PROJECTION_TYPE = SINUSOIDAL
  MAP_RESOLUTION = 1185.42760773333
  MAP_SCALE = 0.05
  MAXIMUM_LATITUDE = 79.7461
  MINIMUM_LATITUDE = 70.7762
  POSITIVE_LONGITUDE_DIRECTION = EAST
  REFERENCE_LATITUDE = "N/A"
  REFERENCE_LONGITUDE = "N/A"
  SAMPLE_FIRST_PIXEL = 1
  SAMPLE_LAST_PIXEL = 3957
  SAMPLE_PROJECTION_OFFSET = 1950.875
  SECOND_STANDARD_PARALLEL = "N/A"
  WESTERNMOST_LONGITUDE = 177.133
END_OBJECT = IMAGE_MAP_PROJECTION
END
