PDS_VERSION_ID = PDS3
/* FILE DATA ELEMENTS */
RECORD_TYPE = UNDEFINED
/* POINTERS TO DATA OBJECTS */
^IMAGE = ("H5606_0000_P14.TIF")
/* IDENTIFICATION DATA ELEMENTS */
DATA_SET_ID = "MEX-M-HRSC-4-REFDR-MAPPROJECT-EXT2-V4.0"
DATA_SET_NAME = "MARS EXPRESS HRSC MAP PROJECTED REFDR EXTENSION2 V4.0"
DETECTOR_ID = MEX_HRSC_P1
EVENT_TYPE = "MARS-REGIONAL-MAPPING-Im-Pf-Eo"
INSTRUMENT_HOST_ID = MEX
INSTRUMENT_HOST_NAME = "MARS EXPRESS"
INSTRUMENT_ID = HRSC
INSTRUMENT_NAME = "HIGH RESOLUTION STEREO CAMERA"
MISSION_NAME = "MARS EXPRESS"
MISSION_PHASE_NAME = ME_Phase_12
PROCESSING_LEVEL_ID = 4
PRODUCT_CREATION_TIME = 2023-02-03T16:04:45.000Z
PRODUCT_ID = "H5606_0000_P14.TIF"
RELEASE_ID = 0003
REVISION_ID = 0000
/* QUALITY DATA ELEMENTS */
DATA_QUALITY_ID = 1
DATA_QUALITY_DESC = "Data calculated based on original SPICE kernels"
/* TIME DATA ELEMENTS */
SPACECRAFT_CLOCK_START_COUNT = "1/0158828750.09089"
SPACECRAFT_CLOCK_STOP_COUNT = "1/0158828978.49645"
START_TIME = 2008-05-14T07:06:57.426Z
STOP_TIME = 2008-05-14T07:09:21.826Z
/* ORBITAL DATA ELEMENTS */
ASCENDING_NODE_LONGITUDE = 111.76
MAXIMUM_RESOLUTION = 0.0355
FOOTPRINT_POINT_LATITUDE = (70.6377,70.6974,70.7349,70.7658, 70.7967,70.8254,70.8471,70.8487,70.9417 ,70.5486,70.3082,69.9867,69.6657, 69.3451,69.0998,68.936,68.6089,68.2824, 68.0337,67.867,67.7005,67.534,67.3677, 67.2016,67.0327,66.8631,66.6088,66.4396 ,66.1859,65.9272,65.7548,65.5826, 65.4106,65.2387,65.0631,64.8879,64.7128 ,64.5379,64.3632,64.1852,64.007,63.829, 63.5628,63.2927,63.112,62.9317,62.7515, 62.5695,62.4776,62.4577,62.4443,62.423, 62.4022,62.3777,62.3611,62.3401,62.3023 ,62.3003,62.3002,62.5726,62.7517, 62.9309,63.1105,63.3793,63.6438,63.8204 ,63.9974,64.1745,64.348,64.5216,64.6955 ,64.8695,65.1294,65.3001,65.4709, 65.6419,65.8133,65.9848,66.1525,66.3204 ,66.4884,66.6567,66.8252,66.9929, 67.1578,67.3227,67.4878,67.6531,67.8184 ,68.0653,68.3891,68.7133,69.1191, 69.4366,69.7545,70.0729,70.3111,70.6222 ,70.7,70.6377)
FOOTPRINT_POINT_LONGITUDE = (288.992,290.026,290.732,291.356, 292.024,292.695,293.241,293.283,293.393 ,293.545,293.635,293.752,293.865, 293.973,294.054,294.107,294.21,294.309, 294.383,294.431,294.479,294.526,294.571 ,294.617,294.662,294.706,294.772, 294.815,294.878,294.94,294.981,295.022, 295.061,295.1,295.14,295.178,295.216, 295.254,295.29,295.327,295.364,295.399, 295.452,295.504,295.539,295.573,295.606 ,295.639,295.655,295.659,295.205, 294.561,293.995,293.392,293.015,292.563 ,291.812,291.774,291.76,291.701,291.66, 291.619,291.577,291.513,291.448,291.404 ,291.358,291.312,291.266,291.219, 291.172,291.123,291.049,290.999,290.948 ,290.896,290.843,290.789,290.735,290.68 ,290.625,290.568,290.51,290.451,290.392 ,290.332,290.271,290.209,290.146, 290.049,289.918,289.782,289.605,289.46, 289.31,289.154,289.033,288.871,288.829, 288.992)
ORBIT_NUMBER = 5606
ORBITAL_ECCENTRICITY = 0.567
ORBITAL_INCLINATION = 86.75
ORBITAL_SEMIMAJOR_AXIS = 8633.53
PERIAPSIS_ALTITUDE = 359.49
PERIAPSIS_ARGUMENT_ANGLE = 92.21
PERIAPSIS_TIME = 2008-05-14T07:02:12.000Z
SPACECRAFT_ORIENTATION = (0.0,1.0,0.0)
^MEX_ORIENTATION_DESC = "MEX_ORIENTATION_DESC.TXT"
SPACECRAFT_POINTING_MODE = NADIR
^MEX_POINTING_DESC = "MEX_POINTING_DESC.TXT"
RIGHT_ASCENSION = -1e+32
DECLINATION = -1e+32
OFFSET_ANGLE = -1e+32
SPACECRAFT_SOLAR_DISTANCE = 2.49221e+08
TARGET_NAME = MARS
/* CAMERA DATA ELEMENTS */
DETECTOR_TEMPERATURE = 16.7393
FOCAL_PLANE_TEMPERATURE = 7.9716
INST_CMPRS_NAME = "DISCRETE COSINE TRANSFORMATION (DCT)"
INST_CMPRS_RATIO = 16.2815
INST_CMPRS_QUALITY = 0
INST_CMPRS_QUANTZ_TBL_ID = 0
INSTRUMENT_TEMPERATURE = 10.8262
LENS_TEMPERATURE = 7.5638
MACROPIXEL_SIZE = 2
MISSING_FRAMES = 0
PIXEL_SUBSAMPLING_FLAG = N
SIGNAL_CHAIN_ID = 3
/* RADIOMETRIC DATA ELEMENTS */
BANDWIDTH = 174.0
CENTER_FILTER_WAVELENGTH = 675.0
RADIANCE_OFFSET = 3.87466
RADIANCE_SCALING_FACTOR = 0.00911685
REFLECTANCE_SCALING_FACTOR = 0.000304577
MEX:REFLECTANCE_OFFSET = 0.129445
/* IMAGE OBJECT DEFINITIONS */
OBJECT = IMAGE
  INTERCHANGE_FORMAT = BINARY
  LINES = 20503
  LINE_SAMPLES = 6034
  SAMPLE_TYPE = UNSIGNED_INTEGER
  SAMPLE_BITS = 8
  BANDS = 1
  BAND_STORAGE_TYPE = BAND_SEQUENTIAL
  MAXIMUM = 255
  MEAN = 148.506
  MINIMUM = 1
  STANDARD_DEVIATION = 30.4617
END_OBJECT = IMAGE
/* MAP OBJECT DEFINITIONS */
OBJECT = IMAGE_MAP_PROJECTION
  ^DATA_SET_MAP_PROJECTION_CATALOG= "DSMAP.CAT"
  A_AXIS_RADIUS = 3396.0
  B_AXIS_RADIUS = 3396.0
  C_AXIS_RADIUS = 3396.0
  CENTER_LATITUDE = 0.0
  CENTER_LONGITUDE = 293.0
  COORDINATE_SYSTEM_NAME = PLANETOGRAPHIC
  COORDINATE_SYSTEM_TYPE = "BODY-FIXED ROTATING"
  EASTERNMOST_LONGITUDE = 295.659
  FIRST_STANDARD_PARALLEL = "N/A"
  LINE_FIRST_PIXEL = 1
  LINE_LAST_PIXEL = 20503
  LINE_PROJECTION_OFFSET = 168177.75
  MAP_PROJECTION_ROTATION = 0.0
  MAP_PROJECTION_TYPE = SINUSOIDAL
  MAP_RESOLUTION = 2370.85521546667
  MAP_SCALE = 0.025
  MAXIMUM_LATITUDE = 70.9417
  MINIMUM_LATITUDE = 62.3002
  POSITIVE_LONGITUDE_DIRECTION = EAST
  REFERENCE_LATITUDE = "N/A"
  REFERENCE_LONGITUDE = "N/A"
  SAMPLE_FIRST_PIXEL = 1
  SAMPLE_LAST_PIXEL = 6034
  SAMPLE_PROJECTION_OFFSET = 3219.75
  SECOND_STANDARD_PARALLEL = "N/A"
  WESTERNMOST_LONGITUDE = 288.829
END_OBJECT = IMAGE_MAP_PROJECTION
END
