PDS_VERSION_ID = PDS3
/* FILE DATA ELEMENTS */
RECORD_TYPE = UNDEFINED
/* POINTERS TO DATA OBJECTS */
^IMAGE = ("H5597_0000_P24.TIF")
/* IDENTIFICATION DATA ELEMENTS */
DATA_SET_ID = "MEX-M-HRSC-4-REFDR-MAPPROJECT-EXT2-V4.0"
DATA_SET_NAME = "MARS EXPRESS HRSC MAP PROJECTED REFDR EXTENSION2 V4.0"
DETECTOR_ID = MEX_HRSC_P2
EVENT_TYPE = "MARS-REGIONAL-STEREO-Gl-La"
INSTRUMENT_HOST_ID = MEX
INSTRUMENT_HOST_NAME = "MARS EXPRESS"
INSTRUMENT_ID = HRSC
INSTRUMENT_NAME = "HIGH RESOLUTION STEREO CAMERA"
MISSION_NAME = "MARS EXPRESS"
MISSION_PHASE_NAME = ME_Phase_12
PROCESSING_LEVEL_ID = 4
PRODUCT_CREATION_TIME = 2023-02-03T16:04:45.000Z
PRODUCT_ID = "H5597_0000_P24.TIF"
RELEASE_ID = 0003
REVISION_ID = 0000
/* QUALITY DATA ELEMENTS */
DATA_QUALITY_ID = 1
DATA_QUALITY_DESC = "Data calculated based on original SPICE kernels"
/* TIME DATA ELEMENTS */
SPACECRAFT_CLOCK_START_COUNT = "1/0158606763.08404"
SPACECRAFT_CLOCK_STOP_COUNT = "1/0158606990.41581"
START_TIME = 2008-05-11T17:27:01.427Z
STOP_TIME = 2008-05-11T17:29:40.161Z
/* ORBITAL DATA ELEMENTS */
ASCENDING_NODE_LONGITUDE = 111.94
MAXIMUM_RESOLUTION = 0.0296
FOOTPRINT_POINT_LATITUDE = (87.3073,86.9665,86.4768,86.1454,86.134 ,86.1013,86.0749,86.016,85.9642,85.9031 ,85.8327,85.7538,85.6202,85.5217, 85.4164,85.3045,85.1867,84.9997,84.8688 ,84.7333,84.5937,84.4501,84.3029, 84.1525,83.9994,83.843,83.684,83.5227, 83.2769,83.1111,82.9424,82.7724,82.515, 82.3416,81.9919,81.8144,81.6367,81.4577 ,81.0978,80.9162,80.7339,80.551,80.3675 ,80.0912,79.6279,79.2556,79.0397, 78.8163,78.7045,78.6696,78.7632,78.8357 ,78.9343,79.0346,79.0375,79.039,79.2704 ,79.6154,80.0022,80.1954,80.4848, 80.6777,80.9663,81.2546,81.4462,81.6369 ,81.8277,82.0173,82.2072,82.4909, 82.7744,83.0542,83.3338,83.5195,83.7031 ,83.8864,84.069,84.2506,84.4297,84.6086 ,84.8721,85.0457,85.2174,85.3867, 85.6346,85.7957,85.9532,86.1068,86.3282 ,86.4688,86.6032,86.7296,86.849,86.9584 ,87.0588,87.1872,87.257,87.3368,87.3561 ,87.3073)
FOOTPRINT_POINT_LONGITUDE = (42.9542,41.7319,40.3772,39.6479, 39.6248,38.2477,41.2021,45.536,48.3428, 51.085,53.7314,56.2775,59.9134,62.2121, 64.407,66.4985,68.4872,71.2881,73.0379, 74.697,76.2694,77.7622,79.1776,80.5187, 81.7823,82.9935,84.1416,85.2291,86.7587 ,87.7082,88.6268,89.4949,90.7174, 91.4857,92.9113,93.586,94.2242,94.8369, 95.9813,96.5217,97.0398,97.5374,98.0145 ,98.696,99.7482,100.521,100.942,101.358 ,101.56,101.622,103.05,104.246,106.036, 108.118,108.184,108.207,107.91,107.441, 106.875,106.575,106.101,105.768,105.242 ,104.68,104.283,103.868,103.433,102.976 ,102.498,101.733,100.908,100.013, 99.0429,98.349,97.6136,96.8334,96.0045, 95.1222,94.1827,93.1792,91.5438,90.3559 ,89.0811,87.7109,85.4587,83.8104, 82.0308,80.1072,76.923,74.5826,72.0503, 69.3216,66.3691,63.2049,59.7986,54.2865 ,50.3511,44.0847,41.9192,42.9542)
ORBIT_NUMBER = 5597
ORBITAL_ECCENTRICITY = 0.567
ORBITAL_INCLINATION = 86.75
ORBITAL_SEMIMAJOR_AXIS = 8634.43
PERIAPSIS_ALTITUDE = 358.79
PERIAPSIS_ARGUMENT_ANGLE = 93.76
PERIAPSIS_TIME = 2008-05-11T17:27:31.000Z
SPACECRAFT_ORIENTATION = (0.0,-1.0,0.0)
^MEX_ORIENTATION_DESC = "MEX_ORIENTATION_DESC.TXT"
SPACECRAFT_POINTING_MODE = NADIR
^MEX_POINTING_DESC = "MEX_POINTING_DESC.TXT"
RIGHT_ASCENSION = -1e+32
DECLINATION = -1e+32
OFFSET_ANGLE = -1e+32
SPACECRAFT_SOLAR_DISTANCE = 2.4922e+08
TARGET_NAME = MARS
/* CAMERA DATA ELEMENTS */
DETECTOR_TEMPERATURE = 17.5549
FOCAL_PLANE_TEMPERATURE = 7.3599
INST_CMPRS_NAME = "DISCRETE COSINE TRANSFORMATION (DCT)"
INST_CMPRS_RATIO = 7.9237
INST_CMPRS_QUALITY = 0
INST_CMPRS_QUANTZ_TBL_ID = 0
INSTRUMENT_TEMPERATURE = 10.4184
LENS_TEMPERATURE = 7.7677
MACROPIXEL_SIZE = 2
MISSING_FRAMES = 0
PIXEL_SUBSAMPLING_FLAG = N
SIGNAL_CHAIN_ID = 3
/* RADIOMETRIC DATA ELEMENTS */
BANDWIDTH = 177.0
CENTER_FILTER_WAVELENGTH = 676.5
RADIANCE_OFFSET = 3.62278
RADIANCE_SCALING_FACTOR = 0.0259146
REFLECTANCE_SCALING_FACTOR = 0.000853435
MEX:REFLECTANCE_OFFSET = 0.119308
/* IMAGE OBJECT DEFINITIONS */
OBJECT = IMAGE
  INTERCHANGE_FORMAT = BINARY
  LINES = 20640
  LINE_SAMPLES = 15972
  SAMPLE_TYPE = UNSIGNED_INTEGER
  SAMPLE_BITS = 8
  BANDS = 1
  BAND_STORAGE_TYPE = BAND_SEQUENTIAL
  MAXIMUM = 255
  MEAN = 181.518
  MINIMUM = 1
  STANDARD_DEVIATION = 48.2378
END_OBJECT = IMAGE
/* MAP OBJECT DEFINITIONS */
OBJECT = IMAGE_MAP_PROJECTION
  ^DATA_SET_MAP_PROJECTION_CATALOG= "DSMAP.CAT"
  A_AXIS_RADIUS = 3396.0
  B_AXIS_RADIUS = 3396.0
  C_AXIS_RADIUS = 3396.0
  CENTER_LATITUDE = 0.0
  CENTER_LONGITUDE = 92.0
  COORDINATE_SYSTEM_NAME = PLANETOGRAPHIC
  COORDINATE_SYSTEM_TYPE = "BODY-FIXED ROTATING"
  EASTERNMOST_LONGITUDE = 108.207
  FIRST_STANDARD_PARALLEL = "N/A"
  LINE_FIRST_PIXEL = 1
  LINE_LAST_PIXEL = 20640
  LINE_PROJECTION_OFFSET = 207120.75
  MAP_PROJECTION_ROTATION = 0.0
  MAP_PROJECTION_TYPE = SINUSOIDAL
  MAP_RESOLUTION = 2370.85521546667
  MAP_SCALE = 0.025
  MAXIMUM_LATITUDE = 87.3561
  MINIMUM_LATITUDE = 78.6696
  POSITIVE_LONGITUDE_DIRECTION = EAST
  REFERENCE_LATITUDE = "N/A"
  REFERENCE_LONGITUDE = "N/A"
  SAMPLE_FIRST_PIXEL = 1
  SAMPLE_LAST_PIXEL = 15972
  SAMPLE_PROJECTION_OFFSET = 8673.75
  SECOND_STANDARD_PARALLEL = "N/A"
  WESTERNMOST_LONGITUDE = 38.2477
END_OBJECT = IMAGE_MAP_PROJECTION
END
