PDS_VERSION_ID = PDS3
/* FILE DATA ELEMENTS */
RECORD_TYPE = UNDEFINED
/* POINTERS TO DATA OBJECTS */
^IMAGE = ("H5592_0000_ND4.TIF")
/* IDENTIFICATION DATA ELEMENTS */
DATA_SET_ID = "MEX-M-HRSC-4-REFDR-MAPPROJECT-EXT2-V4.0"
DATA_SET_NAME = "MARS EXPRESS HRSC MAP PROJECTED REFDR EXTENSION2 V4.0"
DETECTOR_ID = MEX_HRSC_NADIR
EVENT_TYPE = "MARS-REGIONAL-MAPPING-Gl-Pf-Eo"
INSTRUMENT_HOST_ID = MEX
INSTRUMENT_HOST_NAME = "MARS EXPRESS"
INSTRUMENT_ID = HRSC
INSTRUMENT_NAME = "HIGH RESOLUTION STEREO CAMERA"
MISSION_NAME = "MARS EXPRESS"
MISSION_PHASE_NAME = ME_Phase_12
PROCESSING_LEVEL_ID = 4
PRODUCT_CREATION_TIME = 2023-02-03T16:04:45.000Z
PRODUCT_ID = "H5592_0000_ND4.TIF"
RELEASE_ID = 0003
REVISION_ID = 0000
/* QUALITY DATA ELEMENTS */
DATA_QUALITY_ID = 1
DATA_QUALITY_DESC = "Data calculated based on original SPICE kernels"
/* TIME DATA ELEMENTS */
SPACECRAFT_CLOCK_START_COUNT = "1/0158483779.08407"
SPACECRAFT_CLOCK_STOP_COUNT = "1/0158483986.14968"
START_TIME = 2008-05-10T07:16:55.645Z
STOP_TIME = 2008-05-10T07:19:07.648Z
/* ORBITAL DATA ELEMENTS */
ASCENDING_NODE_LONGITUDE = 112.04
MAXIMUM_RESOLUTION = 0.0149
FOOTPRINT_POINT_LATITUDE = (77.4192,77.3339,77.2584,77.2053, 77.1249,77.1215,77.1092,76.7331,76.5698 ,76.4063,76.2428,76.0791,75.9153, 75.7515,75.5876,75.4236,75.2594,75.0952 ,74.931,74.7667,74.6023,74.4378,74.2733 ,74.1088,73.9442,73.7797,73.615,73.4504 ,73.2857,73.121,72.9562,72.7915,72.6268 ,72.462,72.2972,72.1325,71.9678,71.6383 ,71.3089,70.9796,70.6504,70.3213, 69.9923,69.6635,69.3349,69.0065,68.9244 ,68.9063,68.9613,68.9889,69.0207,69.059 ,69.1008,69.1023,69.1032,69.4346, 69.7663,70.0983,70.4305,70.763,71.0957, 71.2622,71.4287,71.5953,71.762,71.9286, 72.0954,72.2622,72.429,72.5959,72.7628, 72.9297,73.0967,73.2638,73.4308,73.5979 ,73.7651,73.9322,74.0994,74.2666, 74.4338,74.6011,74.7683,74.9356,75.1028 ,75.2701,75.4374,75.6046,75.7719, 75.9392,76.1064,76.2736,76.4409,76.608, 76.7752,76.9423,77.1094,77.3442,77.4141 ,77.4192)
FOOTPRINT_POINT_LONGITUDE = (249.989,248.205,246.817,245.919, 244.662,244.61,244.399,244.887,245.088, 245.286,245.477,245.663,245.845,246.024 ,246.198,246.368,246.533,246.693, 246.851,247.005,247.156,247.302,247.444 ,247.584,247.722,247.858,247.988, 248.116,248.241,248.363,248.483,248.6, 248.715,248.827,248.937,249.044,249.15, 249.354,249.55,249.739,249.919,250.093, 250.26,250.421,250.576,250.725,250.761, 250.769,251.713,252.225,252.857,253.691 ,254.727,254.766,254.786,254.677, 254.565,254.449,254.328,254.202,254.072 ,254.005,253.936,253.867,253.796, 253.724,253.65,253.574,253.497,253.419, 253.338,253.256,253.173,253.088,253.001 ,252.912,252.821,252.728,252.633, 252.536,252.436,252.334,252.23,252.123, 252.014,251.903,251.788,251.671,251.551 ,251.428,251.302,251.173,251.041, 250.904,250.764,250.621,250.474,250.26, 250.195,249.989)
ORBIT_NUMBER = 5592
ORBITAL_ECCENTRICITY = 0.567
ORBITAL_INCLINATION = 86.75
ORBITAL_SEMIMAJOR_AXIS = 8633.58
PERIAPSIS_ALTITUDE = 358.56
PERIAPSIS_ARGUMENT_ANGLE = 94.64
PERIAPSIS_TIME = 2008-05-10T07:14:57.000Z
SPACECRAFT_ORIENTATION = (0.0,-1.0,0.0)
^MEX_ORIENTATION_DESC = "MEX_ORIENTATION_DESC.TXT"
SPACECRAFT_POINTING_MODE = NADIR
^MEX_POINTING_DESC = "MEX_POINTING_DESC.TXT"
RIGHT_ASCENSION = -1e+32
DECLINATION = -1e+32
OFFSET_ANGLE = -1e+32
SPACECRAFT_SOLAR_DISTANCE = 2.49216e+08
TARGET_NAME = MARS
/* CAMERA DATA ELEMENTS */
DETECTOR_TEMPERATURE = 17.5549
FOCAL_PLANE_TEMPERATURE = 7.156
INST_CMPRS_NAME = "DISCRETE COSINE TRANSFORMATION (DCT)"
INST_CMPRS_RATIO = 6.46812
INST_CMPRS_QUALITY = 0
INST_CMPRS_QUANTZ_TBL_ID = 0
INSTRUMENT_TEMPERATURE = 10.6223
LENS_TEMPERATURE = 7.5638
MACROPIXEL_SIZE = 1
MISSING_FRAMES = 0
PIXEL_SUBSAMPLING_FLAG = N
SIGNAL_CHAIN_ID = 0
/* RADIOMETRIC DATA ELEMENTS */
BANDWIDTH = 177.0
CENTER_FILTER_WAVELENGTH = 677.5
RADIANCE_OFFSET = 3.28537
RADIANCE_SCALING_FACTOR = 0.0322095
REFLECTANCE_SCALING_FACTOR = 0.00106273
MEX:REFLECTANCE_OFFSET = 0.108398
/* IMAGE OBJECT DEFINITIONS */
OBJECT = IMAGE
  INTERCHANGE_FORMAT = BINARY
  LINES = 40415
  LINE_SAMPLES = 13386
  SAMPLE_TYPE = UNSIGNED_INTEGER
  SAMPLE_BITS = 8
  BANDS = 1
  BAND_STORAGE_TYPE = BAND_SEQUENTIAL
  MAXIMUM = 255
  MEAN = 88.8919
  MINIMUM = 1
  STANDARD_DEVIATION = 37.4147
END_OBJECT = IMAGE
/* MAP OBJECT DEFINITIONS */
OBJECT = IMAGE_MAP_PROJECTION
  ^DATA_SET_MAP_PROJECTION_CATALOG= "DSMAP.CAT"
  A_AXIS_RADIUS = 3396.0
  B_AXIS_RADIUS = 3396.0
  C_AXIS_RADIUS = 3396.0
  CENTER_LATITUDE = 0.0
  CENTER_LONGITUDE = 251.0
  COORDINATE_SYSTEM_NAME = PLANETOGRAPHIC
  COORDINATE_SYSTEM_TYPE = "BODY-FIXED ROTATING"
  EASTERNMOST_LONGITUDE = 254.786
  FIRST_STANDARD_PARALLEL = "N/A"
  LINE_FIRST_PIXEL = 1
  LINE_LAST_PIXEL = 40415
  LINE_PROJECTION_OFFSET = 367148.0
  MAP_PROJECTION_ROTATION = 0.0
  MAP_PROJECTION_TYPE = SINUSOIDAL
  MAP_RESOLUTION = 4741.71043093333
  MAP_SCALE = 0.0125
  MAXIMUM_LATITUDE = 77.4192
  MINIMUM_LATITUDE = 68.9063
  POSITIVE_LONGITUDE_DIRECTION = EAST
  REFERENCE_LATITUDE = "N/A"
  REFERENCE_LONGITUDE = "N/A"
  SAMPLE_FIRST_PIXEL = 1
  SAMPLE_LAST_PIXEL = 13386
  SAMPLE_PROJECTION_OFFSET = 6982.0
  SECOND_STANDARD_PARALLEL = "N/A"
  WESTERNMOST_LONGITUDE = 244.399
END_OBJECT = IMAGE_MAP_PROJECTION
END
