PDS_VERSION_ID = PDS3
/* FILE DATA ELEMENTS */
RECORD_TYPE = UNDEFINED
/* POINTERS TO DATA OBJECTS */
^IMAGE = ("H5591_0000_S14.TIF")
/* IDENTIFICATION DATA ELEMENTS */
DATA_SET_ID = "MEX-M-HRSC-4-REFDR-MAPPROJECT-EXT2-V4.0"
DATA_SET_NAME = "MARS EXPRESS HRSC MAP PROJECTED REFDR EXTENSION2 V4.0"
DETECTOR_ID = MEX_HRSC_S1
EVENT_TYPE = "MARS-REGIONAL-MAPPING-Im-Pf"
INSTRUMENT_HOST_ID = MEX
INSTRUMENT_HOST_NAME = "MARS EXPRESS"
INSTRUMENT_ID = HRSC
INSTRUMENT_NAME = "HIGH RESOLUTION STEREO CAMERA"
MISSION_NAME = "MARS EXPRESS"
MISSION_PHASE_NAME = ME_Phase_12
PROCESSING_LEVEL_ID = 4
PRODUCT_CREATION_TIME = 2023-02-03T16:04:45.000Z
PRODUCT_ID = "H5591_0000_S14.TIF"
RELEASE_ID = 0003
REVISION_ID = 0000
/* QUALITY DATA ELEMENTS */
DATA_QUALITY_ID = 1
DATA_QUALITY_DESC = "Data calculated based on original SPICE kernels"
/* TIME DATA ELEMENTS */
SPACECRAFT_CLOCK_START_COUNT = "1/0158459270.09104"
SPACECRAFT_CLOCK_STOP_COUNT = "1/0158459519.62554"
START_TIME = 2008-05-10T00:27:53.827Z
STOP_TIME = 2008-05-10T00:30:24.523Z
/* ORBITAL DATA ELEMENTS */
ASCENDING_NODE_LONGITUDE = 112.06
MAXIMUM_RESOLUTION = 0.0339
FOOTPRINT_POINT_LATITUDE = (69.3394,69.3101,69.2843,69.2472, 69.2164,69.1551,69.1528,69.0135,68.8298 ,68.5543,68.1871,67.9116,67.544,67.1767 ,66.8093,66.5337,66.1658,65.8822, 65.6915,65.4054,65.2114,65.0192,64.8309 ,64.6385,64.4493,64.263,64.0703,63.876, 63.6805,63.4864,63.1889,62.9904,62.693, 62.4945,62.1973,61.8932,61.6902,61.3856 ,61.1826,60.9799,60.7723,60.4607, 60.1495,59.9419,59.6257,59.4137,59.3078 ,59.2854,59.3306,59.3599,59.3864, 59.4029,59.4208,59.4217,59.4226,59.6359 ,59.8489,60.0603,60.373,60.5814,60.79, 60.9988,61.2052,61.4092,61.613,61.8172, 62.021,62.2253,62.5268,62.8258,63.0252, 63.2248,63.424,63.7207,63.9153,64.1102, 64.3048,64.5971,64.7922,64.9868,65.1768 ,65.3668,65.5568,65.842,66.1269,66.317, 66.5994,66.8771,67.1549,67.3402,67.5252 ,67.7104,67.9882,68.1734,68.3589, 68.6366,68.8218,69.0998,69.1924, 69.3394)
FOOTPRINT_POINT_LONGITUDE = (354.63,353.908,353.332,352.578,352.006 ,350.973,350.937,350.878,350.959, 351.078,351.231,351.342,351.484,351.622 ,351.754,351.849,351.975,352.067, 352.126,352.212,352.267,352.322,352.377 ,352.432,352.488,352.544,352.596, 352.647,352.696,352.745,352.818,352.866 ,352.936,352.982,353.048,353.115, 353.158,353.221,353.262,353.303,353.343 ,353.402,353.459,353.497,353.552, 353.588,353.606,353.61,354.454,355.08, 355.739,356.211,356.809,356.84,356.852, 356.822,356.793,356.763,356.718,356.687 ,356.656,356.624,356.592,356.56,356.528 ,356.494,356.461,356.427,356.375, 356.322,356.286,356.25,356.213,356.156, 356.119,356.08,356.041,355.981,355.94, 355.899,355.858,355.816,355.774,355.708 ,355.641,355.596,355.526,355.456, 355.384,355.335,355.285,355.235,355.157 ,355.103,355.049,354.966,354.909, 354.822,354.792,354.63)
ORBIT_NUMBER = 5591
ORBITAL_ECCENTRICITY = 0.567
ORBITAL_INCLINATION = 86.75
ORBITAL_SEMIMAJOR_AXIS = 8633.88
PERIAPSIS_ALTITUDE = 359.22
PERIAPSIS_ARGUMENT_ANGLE = 94.8
PERIAPSIS_TIME = 2008-05-10T00:24:24.000Z
SPACECRAFT_ORIENTATION = (0.0,-1.0,0.0)
^MEX_ORIENTATION_DESC = "MEX_ORIENTATION_DESC.TXT"
SPACECRAFT_POINTING_MODE = NADIR
^MEX_POINTING_DESC = "MEX_POINTING_DESC.TXT"
RIGHT_ASCENSION = -1e+32
DECLINATION = -1e+32
OFFSET_ANGLE = -1e+32
SPACECRAFT_SOLAR_DISTANCE = 2.49215e+08
TARGET_NAME = MARS
/* CAMERA DATA ELEMENTS */
DETECTOR_TEMPERATURE = 17.9627
FOCAL_PLANE_TEMPERATURE = 6.7482
INST_CMPRS_NAME = "DISCRETE COSINE TRANSFORMATION (DCT)"
INST_CMPRS_RATIO = 12.5355
INST_CMPRS_QUALITY = 0
INST_CMPRS_QUANTZ_TBL_ID = 0
INSTRUMENT_TEMPERATURE = 10.6223
LENS_TEMPERATURE = 7.5638
MACROPIXEL_SIZE = 2
MISSING_FRAMES = 0
PIXEL_SUBSAMPLING_FLAG = N
SIGNAL_CHAIN_ID = 1
/* RADIOMETRIC DATA ELEMENTS */
BANDWIDTH = 180.0
CENTER_FILTER_WAVELENGTH = 677.0
RADIANCE_OFFSET = 4.02127
RADIANCE_SCALING_FACTOR = 0.0371523
REFLECTANCE_SCALING_FACTOR = 0.00120386
MEX:REFLECTANCE_OFFSET = 0.130303
/* IMAGE OBJECT DEFINITIONS */
OBJECT = IMAGE
  INTERCHANGE_FORMAT = BINARY
  LINES = 23513
  LINE_SAMPLES = 6246
  SAMPLE_TYPE = UNSIGNED_INTEGER
  SAMPLE_BITS = 8
  BANDS = 1
  BAND_STORAGE_TYPE = BAND_SEQUENTIAL
  MAXIMUM = 255
  MEAN = 61.4171
  MINIMUM = 1
  STANDARD_DEVIATION = 13.1404
END_OBJECT = IMAGE
/* MAP OBJECT DEFINITIONS */
OBJECT = IMAGE_MAP_PROJECTION
  ^DATA_SET_MAP_PROJECTION_CATALOG= "DSMAP.CAT"
  A_AXIS_RADIUS = 3396.0
  B_AXIS_RADIUS = 3396.0
  C_AXIS_RADIUS = 3396.0
  CENTER_LATITUDE = 0.0
  CENTER_LONGITUDE = 354.0
  COORDINATE_SYSTEM_NAME = PLANETOGRAPHIC
  COORDINATE_SYSTEM_TYPE = "BODY-FIXED ROTATING"
  EASTERNMOST_LONGITUDE = 356.852
  FIRST_STANDARD_PARALLEL = "N/A"
  LINE_FIRST_PIXEL = 1
  LINE_LAST_PIXEL = 23513
  LINE_PROJECTION_OFFSET = 164154.75
  MAP_PROJECTION_ROTATION = 0.0
  MAP_PROJECTION_TYPE = SINUSOIDAL
  MAP_RESOLUTION = 2370.85521546667
  MAP_SCALE = 0.025
  MAXIMUM_LATITUDE = 69.3394
  MINIMUM_LATITUDE = 59.2854
  POSITIVE_LONGITUDE_DIRECTION = EAST
  REFERENCE_LATITUDE = "N/A"
  REFERENCE_LONGITUDE = "N/A"
  SAMPLE_FIRST_PIXEL = 1
  SAMPLE_LAST_PIXEL = 6246
  SAMPLE_PROJECTION_OFFSET = 2727.25
  SECOND_STANDARD_PARALLEL = "N/A"
  WESTERNMOST_LONGITUDE = 350.878
END_OBJECT = IMAGE_MAP_PROJECTION
END
