PDS_VERSION_ID = PDS3
/* FILE DATA ELEMENTS */
RECORD_TYPE = UNDEFINED
/* POINTERS TO DATA OBJECTS */
^IMAGE = ("H5585_0000_S14.TIF")
/* IDENTIFICATION DATA ELEMENTS */
DATA_SET_ID = "MEX-M-HRSC-4-REFDR-MAPPROJECT-EXT2-V4.0"
DATA_SET_NAME = "MARS EXPRESS HRSC MAP PROJECTED REFDR EXTENSION2 V4.0"
DETECTOR_ID = MEX_HRSC_S1
EVENT_TYPE = "MARS-LOCAL-MAPPING-Pf-Ot"
INSTRUMENT_HOST_ID = MEX
INSTRUMENT_HOST_NAME = "MARS EXPRESS"
INSTRUMENT_ID = HRSC
INSTRUMENT_NAME = "HIGH RESOLUTION STEREO CAMERA"
MISSION_NAME = "MARS EXPRESS"
MISSION_PHASE_NAME = ME_Phase_12
PROCESSING_LEVEL_ID = 4
PRODUCT_CREATION_TIME = 2023-02-03T16:04:45.000Z
PRODUCT_ID = "H5585_0000_S14.TIF"
RELEASE_ID = 0003
REVISION_ID = 0000
/* QUALITY DATA ELEMENTS */
DATA_QUALITY_ID = 1
DATA_QUALITY_DESC = "Data calculated based on original SPICE kernels"
/* TIME DATA ELEMENTS */
SPACECRAFT_CLOCK_START_COUNT = "1/0158311406.09049"
SPACECRAFT_CLOCK_STOP_COUNT = "1/0158311607.57732"
START_TIME = 2008-05-08T07:24:40.310Z
STOP_TIME = 2008-05-08T07:26:49.575Z
/* ORBITAL DATA ELEMENTS */
ASCENDING_NODE_LONGITUDE = 112.18
MAXIMUM_RESOLUTION = 0.0336
FOOTPRINT_POINT_LATITUDE = (72.8847,72.9249,72.9633,73.0,73.0349, 73.068,73.1104,73.1122,73.2586,73.0305, 72.8021,72.6499,72.498,72.3455,72.1927, 71.8893,71.7376,71.3593,70.9821,70.7556 ,70.5288,70.2967,70.144,69.9902,69.7594 ,69.6056,69.3751,69.2217,69.0676, 68.9109,68.7537,68.5178,68.2829,68.0485 ,67.8929,67.6553,67.4957,67.2572, 67.0981,66.9387,66.7797,66.6211,66.4591 ,66.2967,66.0538,65.892,65.7305,65.5694 ,65.4885,65.4748,65.444,65.4186,65.3892 ,65.36,65.329,65.2963,65.2941,65.2939, 65.5348,65.6954,65.937,66.0982,66.2595, 66.4208,66.5781,66.7363,66.8944,67.0528 ,67.2901,67.4486,67.6076,67.7624, 67.9182,68.0732,68.2285,68.4619,68.6174 ,68.7725,68.927,69.0788,69.231,69.4609, 69.6142,69.7669,69.9197,70.0728,70.2259 ,70.5265,70.7511,71.0505,71.425,71.7254 ,71.876,72.1018,72.3271,72.4778,72.7039 ,72.9308,73.0063,72.8847)
FOOTPRINT_POINT_LONGITUDE = (231.756,232.429,233.111,233.802, 234.501,235.21,236.201,236.246,236.534, 236.612,236.687,236.735,236.783,236.829 ,236.873,236.962,237.005,237.109,237.21 ,237.267,237.322,237.377,237.417, 237.453,237.506,237.541,237.591,237.624 ,237.657,237.691,237.722,237.769, 237.815,237.86,237.89,237.934,237.963, 238.007,238.035,238.062,238.088,238.115 ,238.142,238.168,238.207,238.232, 238.257,238.282,238.294,238.296,237.491 ,236.885,236.248,235.653,235.065, 234.483,234.447,234.434,234.38,234.344, 234.288,234.25,234.211,234.171,234.132, 234.092,234.051,234.009,233.945,233.902 ,233.857,233.813,233.767,233.721, 233.675,233.603,233.554,233.504,233.453 ,233.403,233.351,233.272,233.217, 233.162,233.106,233.049,232.99,232.873, 232.782,232.656,232.493,232.356,232.286 ,232.177,232.066,231.989,231.872, 231.751,231.709,231.756)
ORBIT_NUMBER = 5585
ORBITAL_ECCENTRICITY = 0.567
ORBITAL_INCLINATION = 86.76
ORBITAL_SEMIMAJOR_AXIS = 8633.22
PERIAPSIS_ALTITUDE = 358.0
PERIAPSIS_ARGUMENT_ANGLE = 95.86
PERIAPSIS_TIME = 2008-05-08T07:21:18.000Z
SPACECRAFT_ORIENTATION = (0.0,1.0,0.0)
^MEX_ORIENTATION_DESC = "MEX_ORIENTATION_DESC.TXT"
SPACECRAFT_POINTING_MODE = ACROSSTRACK
^MEX_POINTING_DESC = "MEX_POINTING_DESC.TXT"
RIGHT_ASCENSION = -1e+32
DECLINATION = -1e+32
OFFSET_ANGLE = 0.75
SPACECRAFT_SOLAR_DISTANCE = 2.49205e+08
TARGET_NAME = MARS
/* CAMERA DATA ELEMENTS */
DETECTOR_TEMPERATURE = 16.5354
FOCAL_PLANE_TEMPERATURE = 7.156
INST_CMPRS_NAME = "DISCRETE COSINE TRANSFORMATION (DCT)"
INST_CMPRS_RATIO = 10.9884
INST_CMPRS_QUALITY = 0
INST_CMPRS_QUANTZ_TBL_ID = 0
INSTRUMENT_TEMPERATURE = 10.8262
LENS_TEMPERATURE = 7.3599
MACROPIXEL_SIZE = 2
MISSING_FRAMES = 0
PIXEL_SUBSAMPLING_FLAG = N
SIGNAL_CHAIN_ID = 1
/* RADIOMETRIC DATA ELEMENTS */
BANDWIDTH = 180.0
CENTER_FILTER_WAVELENGTH = 677.0
RADIANCE_OFFSET = 4.8749
RADIANCE_SCALING_FACTOR = 0.0287724
REFLECTANCE_SCALING_FACTOR = 0.000932249
MEX:REFLECTANCE_OFFSET = 0.157951
/* IMAGE OBJECT DEFINITIONS */
OBJECT = IMAGE
  INTERCHANGE_FORMAT = BINARY
  LINES = 18743
  LINE_SAMPLES = 5381
  SAMPLE_TYPE = UNSIGNED_INTEGER
  SAMPLE_BITS = 8
  BANDS = 1
  BAND_STORAGE_TYPE = BAND_SEQUENTIAL
  MAXIMUM = 255
  MEAN = 65.6819
  MINIMUM = 1
  STANDARD_DEVIATION = 17.8035
END_OBJECT = IMAGE
/* MAP OBJECT DEFINITIONS */
OBJECT = IMAGE_MAP_PROJECTION
  ^DATA_SET_MAP_PROJECTION_CATALOG= "DSMAP.CAT"
  A_AXIS_RADIUS = 3396.0
  B_AXIS_RADIUS = 3396.0
  C_AXIS_RADIUS = 3396.0
  CENTER_LATITUDE = 0.0
  CENTER_LONGITUDE = 235.0
  COORDINATE_SYSTEM_NAME = PLANETOGRAPHIC
  COORDINATE_SYSTEM_TYPE = "BODY-FIXED ROTATING"
  EASTERNMOST_LONGITUDE = 238.296
  FIRST_STANDARD_PARALLEL = "N/A"
  LINE_FIRST_PIXEL = 1
  LINE_LAST_PIXEL = 18743
  LINE_PROJECTION_OFFSET = 173575.25
  MAP_PROJECTION_ROTATION = 0.0
  MAP_PROJECTION_TYPE = SINUSOIDAL
  MAP_RESOLUTION = 2370.85521546667
  MAP_SCALE = 0.025
  MAXIMUM_LATITUDE = 73.2586
  MINIMUM_LATITUDE = 65.29389999999999
  POSITIVE_LONGITUDE_DIRECTION = EAST
  REFERENCE_LATITUDE = "N/A"
  REFERENCE_LONGITUDE = "N/A"
  SAMPLE_FIRST_PIXEL = 1
  SAMPLE_LAST_PIXEL = 5381
  SAMPLE_PROJECTION_OFFSET = 2252.25
  SECOND_STANDARD_PARALLEL = "N/A"
  WESTERNMOST_LONGITUDE = 231.709
END_OBJECT = IMAGE_MAP_PROJECTION
END
