PDS_VERSION_ID = PDS3
/* FILE DATA ELEMENTS */
RECORD_TYPE = UNDEFINED
/* POINTERS TO DATA OBJECTS */
^IMAGE = ("H5585_0000_P14.TIF")
/* IDENTIFICATION DATA ELEMENTS */
DATA_SET_ID = "MEX-M-HRSC-4-REFDR-MAPPROJECT-EXT2-V4.0"
DATA_SET_NAME = "MARS EXPRESS HRSC MAP PROJECTED REFDR EXTENSION2 V4.0"
DETECTOR_ID = MEX_HRSC_P1
EVENT_TYPE = "MARS-LOCAL-MAPPING-Pf-Ot"
INSTRUMENT_HOST_ID = MEX
INSTRUMENT_HOST_NAME = "MARS EXPRESS"
INSTRUMENT_ID = HRSC
INSTRUMENT_NAME = "HIGH RESOLUTION STEREO CAMERA"
MISSION_NAME = "MARS EXPRESS"
MISSION_PHASE_NAME = ME_Phase_12
PROCESSING_LEVEL_ID = 4
PRODUCT_CREATION_TIME = 2023-02-03T16:04:45.000Z
PRODUCT_ID = "H5585_0000_P14.TIF"
RELEASE_ID = 0003
REVISION_ID = 0000
/* QUALITY DATA ELEMENTS */
DATA_QUALITY_ID = 1
DATA_QUALITY_DESC = "Data calculated based on original SPICE kernels"
/* TIME DATA ELEMENTS */
SPACECRAFT_CLOCK_START_COUNT = "1/0158311406.09049"
SPACECRAFT_CLOCK_STOP_COUNT = "1/0158311607.57732"
START_TIME = 2008-05-08T07:24:27.554Z
STOP_TIME = 2008-05-08T07:26:34.450Z
/* ORBITAL DATA ELEMENTS */
ASCENDING_NODE_LONGITUDE = 112.18
MAXIMUM_RESOLUTION = 0.0322
FOOTPRINT_POINT_LATITUDE = (72.9397,72.9769,73.0124,73.046,73.0778 ,73.1077,73.1456,73.1472,73.2448, 73.0915,72.9296,72.7765,72.6229,72.4694 ,72.3156,72.1618,71.9322,71.779,71.6258 ,71.3204,71.0917,70.7865,70.6338, 70.3289,70.0262,69.7228,69.5682,69.4127 ,69.1795,69.0244,68.8696,68.7144, 68.4817,68.3271,68.1708,68.0124,67.8543 ,67.6171,67.4592,67.2228,67.0652, 66.9072,66.7457,66.5844,66.4233,66.2624 ,66.0212,65.7805,65.6183,65.5363, 65.4553,65.4278,65.4056,65.3814,65.3555 ,65.3278,65.2982,65.2964,65.2962, 65.4593,65.7003,65.8601,66.02,66.1799, 66.42,66.5801,66.8194,66.9762,67.1327, 67.2895,67.4464,67.6036,67.7607,67.9186 ,68.0755,68.2289,68.4595,68.6131, 68.7665,68.9201,69.0741,69.2283,69.383, 69.537,69.8382,70.1397,70.5169,70.7438, 71.0463,71.3489,71.6523,71.8042,72.0319 ,72.1838,72.3353,72.4876,72.6394, 72.8756,72.9518,72.9397)
FOOTPRINT_POINT_LONGITUDE = (231.736,232.403,233.078,233.763, 234.455,235.157,236.137,236.182,236.482 ,236.536,236.588,236.64,236.688,236.736 ,236.781,236.826,236.894,236.937,236.98 ,237.064,237.125,237.203,237.24,237.313 ,237.388,237.457,237.492,237.526, 237.576,237.609,237.642,237.673,237.718 ,237.749,237.778,237.809,237.839, 237.882,237.911,237.954,237.981,238.008 ,238.035,238.061,238.088,238.113, 238.151,238.189,238.214,238.226,238.238 ,237.413,236.82,236.233,235.651,235.075 ,234.505,234.469,234.456,234.42,234.366 ,234.328,234.291,234.252,234.193, 234.153,234.091,234.05,234.008,233.966, 233.922,233.878,233.833,233.787,233.74, 233.694,233.622,233.573,233.524,233.474 ,233.422,233.37,233.316,233.262,233.153 ,233.04,232.892,232.8,232.673,232.541, 232.404,232.333,232.224,232.15,232.074, 231.997,231.918,231.792,231.751, 231.736)
ORBIT_NUMBER = 5585
ORBITAL_ECCENTRICITY = 0.567
ORBITAL_INCLINATION = 86.76
ORBITAL_SEMIMAJOR_AXIS = 8633.22
PERIAPSIS_ALTITUDE = 358.0
PERIAPSIS_ARGUMENT_ANGLE = 95.86
PERIAPSIS_TIME = 2008-05-08T07:21:18.000Z
SPACECRAFT_ORIENTATION = (0.0,1.0,0.0)
^MEX_ORIENTATION_DESC = "MEX_ORIENTATION_DESC.TXT"
SPACECRAFT_POINTING_MODE = ACROSSTRACK
^MEX_POINTING_DESC = "MEX_POINTING_DESC.TXT"
RIGHT_ASCENSION = -1e+32
DECLINATION = -1e+32
OFFSET_ANGLE = 0.75
SPACECRAFT_SOLAR_DISTANCE = 2.49205e+08
TARGET_NAME = MARS
/* CAMERA DATA ELEMENTS */
DETECTOR_TEMPERATURE = 16.5354
FOCAL_PLANE_TEMPERATURE = 7.156
INST_CMPRS_NAME = "DISCRETE COSINE TRANSFORMATION (DCT)"
INST_CMPRS_RATIO = 13.3163
INST_CMPRS_QUALITY = 0
INST_CMPRS_QUANTZ_TBL_ID = 0
INSTRUMENT_TEMPERATURE = 10.8262
LENS_TEMPERATURE = 7.3599
MACROPIXEL_SIZE = 2
MISSING_FRAMES = 2
PIXEL_SUBSAMPLING_FLAG = N
SIGNAL_CHAIN_ID = 3
/* RADIOMETRIC DATA ELEMENTS */
BANDWIDTH = 174.0
CENTER_FILTER_WAVELENGTH = 675.0
RADIANCE_OFFSET = 4.28945
RADIANCE_SCALING_FACTOR = 0.0279784
REFLECTANCE_SCALING_FACTOR = 0.000934591
MEX:REFLECTANCE_OFFSET = 0.143285
/* IMAGE OBJECT DEFINITIONS */
OBJECT = IMAGE
  INTERCHANGE_FORMAT = BINARY
  LINES = 18743
  LINE_SAMPLES = 5381
  SAMPLE_TYPE = UNSIGNED_INTEGER
  SAMPLE_BITS = 8
  BANDS = 1
  BAND_STORAGE_TYPE = BAND_SEQUENTIAL
  MAXIMUM = 255
  MEAN = 60.9473
  MINIMUM = 1
  STANDARD_DEVIATION = 16.476
END_OBJECT = IMAGE
/* MAP OBJECT DEFINITIONS */
OBJECT = IMAGE_MAP_PROJECTION
  ^DATA_SET_MAP_PROJECTION_CATALOG= "DSMAP.CAT"
  A_AXIS_RADIUS = 3396.0
  B_AXIS_RADIUS = 3396.0
  C_AXIS_RADIUS = 3396.0
  CENTER_LATITUDE = 0.0
  CENTER_LONGITUDE = 235.0
  COORDINATE_SYSTEM_NAME = PLANETOGRAPHIC
  COORDINATE_SYSTEM_TYPE = "BODY-FIXED ROTATING"
  EASTERNMOST_LONGITUDE = 238.238
  FIRST_STANDARD_PARALLEL = "N/A"
  LINE_FIRST_PIXEL = 1
  LINE_LAST_PIXEL = 18743
  LINE_PROJECTION_OFFSET = 173575.25
  MAP_PROJECTION_ROTATION = 0.0
  MAP_PROJECTION_TYPE = SINUSOIDAL
  MAP_RESOLUTION = 2370.85521546667
  MAP_SCALE = 0.025
  MAXIMUM_LATITUDE = 73.2448
  MINIMUM_LATITUDE = 65.2962
  POSITIVE_LONGITUDE_DIRECTION = EAST
  REFERENCE_LATITUDE = "N/A"
  REFERENCE_LONGITUDE = "N/A"
  SAMPLE_FIRST_PIXEL = 1
  SAMPLE_LAST_PIXEL = 5381
  SAMPLE_PROJECTION_OFFSET = 2252.25
  SECOND_STANDARD_PARALLEL = "N/A"
  WESTERNMOST_LONGITUDE = 231.736
END_OBJECT = IMAGE_MAP_PROJECTION
END
