PDS_VERSION_ID = PDS3
/* FILE DATA ELEMENTS */
RECORD_TYPE = UNDEFINED
/* POINTERS TO DATA OBJECTS */
^IMAGE = ("H5580_0000_P24.TIF")
/* IDENTIFICATION DATA ELEMENTS */
DATA_SET_ID = "MEX-M-HRSC-4-REFDR-MAPPROJECT-EXT2-V4.0"
DATA_SET_NAME = "MARS EXPRESS HRSC MAP PROJECTED REFDR EXTENSION2 V4.0"
DETECTOR_ID = MEX_HRSC_P2
EVENT_TYPE = "MARS-REGIONAL-MAPPING-Gl-Pf-La"
INSTRUMENT_HOST_ID = MEX
INSTRUMENT_HOST_NAME = "MARS EXPRESS"
INSTRUMENT_ID = HRSC
INSTRUMENT_NAME = "HIGH RESOLUTION STEREO CAMERA"
MISSION_NAME = "MARS EXPRESS"
MISSION_PHASE_NAME = ME_Phase_12
PROCESSING_LEVEL_ID = 4
PRODUCT_CREATION_TIME = 2023-02-03T16:04:45.000Z
PRODUCT_ID = "H5580_0000_P24.TIF"
RELEASE_ID = 0003
REVISION_ID = 0000
/* QUALITY DATA ELEMENTS */
DATA_QUALITY_ID = 1
DATA_QUALITY_DESC = "Data calculated based on original SPICE kernels"
/* TIME DATA ELEMENTS */
SPACECRAFT_CLOCK_START_COUNT = "1/0158188100.08254"
SPACECRAFT_CLOCK_STOP_COUNT = "1/0158188366.30870"
START_TIME = 2008-05-06T21:09:17.642Z
STOP_TIME = 2008-05-06T21:12:34.770Z
/* ORBITAL DATA ELEMENTS */
ASCENDING_NODE_LONGITUDE = 112.27
MAXIMUM_RESOLUTION = 0.0263
FOOTPRINT_POINT_LATITUDE = (81.9167,81.7849,81.4763,81.4714, 81.5361,81.3286,81.1201,80.9106,80.4917 ,80.2794,80.0648,79.8516,79.5306, 79.1034,78.8867,78.5633,78.1301,77.9129 ,77.5864,77.2592,76.9316,76.4943, 76.1141,75.8525,75.591,75.3293,75.0676, 74.8058,74.5439,74.2821,74.0202,73.7584 ,73.4967,73.235,72.9733,72.7118,72.4504 ,72.1891,71.928,71.667,71.4063,71.0153, 70.7549,70.4947,70.1048,69.7153,69.5857 ,69.5597,69.6171,69.6785,69.7125, 69.7545,69.756,69.757,70.0189,70.2811, 70.5436,70.8064,71.0694,71.3328,71.5964 ,71.8602,72.1243,72.3886,72.653,72.9178 ,73.1828,73.4481,73.8463,74.2447, 74.6449,75.0433,75.31,75.5767,75.843, 76.1097,76.3765,76.7693,77.1049,77.4404 ,77.6638,77.8872,78.1107,78.3346, 78.6698,78.8934,79.3372,79.6705,79.8925 ,80.1149,80.3371,80.5591,80.7807, 81.0022,81.2236,81.4444,81.6649,81.8849 ,81.9948,81.9167)
FOOTPRINT_POINT_LONGITUDE = (364.64,362.018,357.056,356.985,356.495 ,357.163,357.798,358.404,359.516, 360.044,360.556,361.036,361.717,362.548 ,362.949,363.51,364.211,364.541,365.015 ,365.464,365.888,366.418,366.85,367.132 ,367.403,367.663,367.913,368.154, 368.385,368.609,368.824,369.031,369.23, 369.423,369.609,369.789,369.962,370.13, 370.292,370.449,370.6,370.818,370.958, 371.093,371.288,371.475,371.535,371.547 ,372.566,373.79,374.545,375.585,375.625 ,375.639,375.551,375.461,375.368, 375.272,375.173,375.071,374.966,374.857 ,374.745,374.63,374.51,374.387,374.259, 374.127,373.921,373.702,373.474,373.229 ,373.06,372.884,372.7,372.509,372.31, 372.002,371.723,371.429,371.223,371.009 ,370.788,370.557,370.194,369.939, 369.391,368.95,368.64,368.315,367.976, 367.62,367.246,366.854,366.442,366.007, 365.55,365.067,364.815,364.64)
ORBIT_NUMBER = 5580
ORBITAL_ECCENTRICITY = 0.567
ORBITAL_INCLINATION = 86.74
ORBITAL_SEMIMAJOR_AXIS = 8635.39
PERIAPSIS_ALTITUDE = 359.01
PERIAPSIS_ARGUMENT_ANGLE = 96.73
PERIAPSIS_TIME = 2008-05-06T21:08:43.000Z
SPACECRAFT_ORIENTATION = (0.0,-1.0,0.0)
^MEX_ORIENTATION_DESC = "MEX_ORIENTATION_DESC.TXT"
SPACECRAFT_POINTING_MODE = ACROSSTRACK
^MEX_POINTING_DESC = "MEX_POINTING_DESC.TXT"
RIGHT_ASCENSION = -1e+32
DECLINATION = -1e+32
OFFSET_ANGLE = 0.1
SPACECRAFT_SOLAR_DISTANCE = 2.49193e+08
TARGET_NAME = MARS
/* CAMERA DATA ELEMENTS */
DETECTOR_TEMPERATURE = 17.9627
FOCAL_PLANE_TEMPERATURE = 7.156
INST_CMPRS_NAME = "DISCRETE COSINE TRANSFORMATION (DCT)"
INST_CMPRS_RATIO = 6.53222
INST_CMPRS_QUALITY = 0
INST_CMPRS_QUANTZ_TBL_ID = 0
INSTRUMENT_TEMPERATURE = 10.8262
LENS_TEMPERATURE = 7.5638
MACROPIXEL_SIZE = 2
MISSING_FRAMES = 0
PIXEL_SUBSAMPLING_FLAG = N
SIGNAL_CHAIN_ID = 3
/* RADIOMETRIC DATA ELEMENTS */
BANDWIDTH = 177.0
CENTER_FILTER_WAVELENGTH = 676.5
RADIANCE_OFFSET = 4.901
RADIANCE_SCALING_FACTOR = 0.0287361
REFLECTANCE_SCALING_FACTOR = 0.000946146
MEX:REFLECTANCE_OFFSET = 0.161367
/* IMAGE OBJECT DEFINITIONS */
OBJECT = IMAGE
  INTERCHANGE_FORMAT = BINARY
  LINES = 29537
  LINE_SAMPLES = 9288
  SAMPLE_TYPE = UNSIGNED_INTEGER
  SAMPLE_BITS = 8
  BANDS = 1
  BAND_STORAGE_TYPE = BAND_SEQUENTIAL
  MAXIMUM = 255
  MEAN = 136.658
  MINIMUM = 1
  STANDARD_DEVIATION = 45.6245
END_OBJECT = IMAGE
/* MAP OBJECT DEFINITIONS */
OBJECT = IMAGE_MAP_PROJECTION
  ^DATA_SET_MAP_PROJECTION_CATALOG= "DSMAP.CAT"
  A_AXIS_RADIUS = 3396.0
  B_AXIS_RADIUS = 3396.0
  C_AXIS_RADIUS = 3396.0
  CENTER_LATITUDE = 0.0
  CENTER_LONGITUDE = 10.0
  COORDINATE_SYSTEM_NAME = PLANETOGRAPHIC
  COORDINATE_SYSTEM_TYPE = "BODY-FIXED ROTATING"
  EASTERNMOST_LONGITUDE = 15.639
  FIRST_STANDARD_PARALLEL = "N/A"
  LINE_FIRST_PIXEL = 1
  LINE_LAST_PIXEL = 29537
  LINE_PROJECTION_OFFSET = 194437.25
  MAP_PROJECTION_ROTATION = 0.0
  MAP_PROJECTION_TYPE = SINUSOIDAL
  MAP_RESOLUTION = 2370.85521546667
  MAP_SCALE = 0.025
  MAXIMUM_LATITUDE = 81.9948
  MINIMUM_LATITUDE = 69.55970000000001
  POSITIVE_LONGITUDE_DIRECTION = EAST
  REFERENCE_LATITUDE = "N/A"
  REFERENCE_LONGITUDE = "N/A"
  SAMPLE_FIRST_PIXEL = 1
  SAMPLE_LAST_PIXEL = 9288
  SAMPLE_PROJECTION_OFFSET = 4705.75
  SECOND_STANDARD_PARALLEL = "N/A"
  WESTERNMOST_LONGITUDE = -3.505
END_OBJECT = IMAGE_MAP_PROJECTION
END
