PDS_VERSION_ID = PDS3
/* FILE DATA ELEMENTS */
RECORD_TYPE = UNDEFINED
/* POINTERS TO DATA OBJECTS */
^IMAGE = ("H5559_0000_P14.TIF")
/* IDENTIFICATION DATA ELEMENTS */
DATA_SET_ID = "MEX-M-HRSC-4-REFDR-MAPPROJECT-EXT2-V4.0"
DATA_SET_NAME = "MARS EXPRESS HRSC MAP PROJECTED REFDR EXTENSION2 V4.0"
DETECTOR_ID = MEX_HRSC_P1
EVENT_TYPE = "MARS-REGIONAL-MAPPING-Vo-Gl-Pf"
INSTRUMENT_HOST_ID = MEX
INSTRUMENT_HOST_NAME = "MARS EXPRESS"
INSTRUMENT_ID = HRSC
INSTRUMENT_NAME = "HIGH RESOLUTION STEREO CAMERA"
MISSION_NAME = "MARS EXPRESS"
MISSION_PHASE_NAME = ME_Phase_12
PROCESSING_LEVEL_ID = 4
PRODUCT_CREATION_TIME = 2023-02-03T16:04:45.000Z
PRODUCT_ID = "H5559_0000_P14.TIF"
RELEASE_ID = 0003
REVISION_ID = 0000
/* QUALITY DATA ELEMENTS */
DATA_QUALITY_ID = 1
DATA_QUALITY_DESC = "Data calculated based on original SPICE kernels"
/* TIME DATA ELEMENTS */
SPACECRAFT_CLOCK_START_COUNT = "1/0157670797.07300"
SPACECRAFT_CLOCK_STOP_COUNT = "1/0157671059.28921"
START_TIME = 2008-04-30T21:26:52.274Z
STOP_TIME = 2008-04-30T21:30:03.536Z
/* ORBITAL DATA ELEMENTS */
ASCENDING_NODE_LONGITUDE = 112.7
MAXIMUM_RESOLUTION = 0.0297
FOOTPRINT_POINT_LATITUDE = (82.0355,81.8406,81.681,81.5403,81.5347 ,81.428,80.9913,80.7671,80.4333,79.9848 ,79.6454,79.3033,79.0742,78.7288, 78.3816,78.1492,77.9166,77.6828,77.2148 ,76.8602,76.6236,76.3853,76.1478, 75.9098,75.6714,75.4293,75.19,74.9504, 74.7103,74.3498,74.1087,73.8677,73.6264 ,73.3847,73.1427,72.7791,72.5365, 72.2937,71.929,71.6856,71.4421,71.0766, 70.7105,70.4663,70.222,69.9776,69.733, 69.6107,69.6065,69.6749,69.7201,69.7763 ,69.816,69.8177,69.8187,70.1894,70.4365 ,70.6837,70.9306,71.1776,71.5478, 71.7947,72.0412,72.2878,72.6576,72.904, 73.1502,73.3962,73.7651,74.0107,74.2563 ,74.5017,74.7468,74.9919,75.2366, 75.4814,75.8478,76.0954,76.4611,76.8261 ,77.0691,77.3117,77.5539,77.7959, 78.0378,78.2791,78.5203,78.7609,79.0006 ,79.2407,79.6001,79.8384,80.1952, 80.4322,80.6686,80.9042,81.2562,81.8392 ,81.9551,82.0355)
FOOTPRINT_POINT_LONGITUDE = (303.633,300.28,297.936,296.09,296.02, 295.96,297.432,298.114,299.078,300.262, 301.082,301.849,302.332,303.02,303.666, 304.075,304.468,304.846,305.559,306.057 ,306.375,306.68,306.975,307.259,307.534 ,307.803,308.059,308.306,308.546,308.89 ,309.11,309.323,309.53,309.73,309.924, 310.203,310.383,310.557,310.808,310.97, 311.127,311.354,311.571,311.711,311.847 ,311.979,312.108,312.171,312.173, 313.222,313.983,315.037,315.873,315.91, 315.923,315.784,315.688,315.589,315.489 ,315.385,315.224,315.112,314.998,314.88 ,314.696,314.569,314.439,314.304, 314.094,313.949,313.798,313.643,313.483 ,313.318,313.147,312.969,312.692, 312.496,312.193,311.872,311.649,311.417 ,311.176,310.924,310.663,310.39,310.106 ,309.809,309.502,309.177,308.662,308.3, 307.723,307.315,306.885,306.435,305.713 ,304.37,304.078,303.633)
ORBIT_NUMBER = 5559
ORBITAL_ECCENTRICITY = 0.567
ORBITAL_INCLINATION = 86.76
ORBITAL_SEMIMAJOR_AXIS = 8635.49
PERIAPSIS_ALTITUDE = 357.95
PERIAPSIS_ARGUMENT_ANGLE = 100.44
PERIAPSIS_TIME = 2008-04-30T21:27:58.000Z
SPACECRAFT_ORIENTATION = (0.0,-1.0,0.0)
^MEX_ORIENTATION_DESC = "MEX_ORIENTATION_DESC.TXT"
SPACECRAFT_POINTING_MODE = ACROSSTRACK
^MEX_POINTING_DESC = "MEX_POINTING_DESC.TXT"
RIGHT_ASCENSION = -1e+32
DECLINATION = -1e+32
OFFSET_ANGLE = -0.18
SPACECRAFT_SOLAR_DISTANCE = 2.49111e+08
TARGET_NAME = MARS
/* CAMERA DATA ELEMENTS */
DETECTOR_TEMPERATURE = 14.9042
FOCAL_PLANE_TEMPERATURE = 7.156
INST_CMPRS_NAME = "DISCRETE COSINE TRANSFORMATION (DCT)"
INST_CMPRS_RATIO = 9.3835
INST_CMPRS_QUALITY = 0
INST_CMPRS_QUANTZ_TBL_ID = 0
INSTRUMENT_TEMPERATURE = 10.6223
LENS_TEMPERATURE = 7.5638
MACROPIXEL_SIZE = 2
MISSING_FRAMES = 1
PIXEL_SUBSAMPLING_FLAG = N
SIGNAL_CHAIN_ID = 3
/* RADIOMETRIC DATA ELEMENTS */
BANDWIDTH = 174.0
CENTER_FILTER_WAVELENGTH = 675.0
RADIANCE_OFFSET = 2.83648
RADIANCE_SCALING_FACTOR = 0.0345054
REFLECTANCE_SCALING_FACTOR = 0.00115175
MEX:REFLECTANCE_OFFSET = 0.0946788
/* IMAGE OBJECT DEFINITIONS */
OBJECT = IMAGE
  INTERCHANGE_FORMAT = BINARY
  LINES = 29261
  LINE_SAMPLES = 9823
  SAMPLE_TYPE = UNSIGNED_INTEGER
  SAMPLE_BITS = 8
  BANDS = 1
  BAND_STORAGE_TYPE = BAND_SEQUENTIAL
  MAXIMUM = 255
  MEAN = 103.226
  MINIMUM = 1
  STANDARD_DEVIATION = 77.5605
END_OBJECT = IMAGE
/* MAP OBJECT DEFINITIONS */
OBJECT = IMAGE_MAP_PROJECTION
  ^DATA_SET_MAP_PROJECTION_CATALOG= "DSMAP.CAT"
  A_AXIS_RADIUS = 3396.0
  B_AXIS_RADIUS = 3396.0
  C_AXIS_RADIUS = 3396.0
  CENTER_LATITUDE = 0.0
  CENTER_LONGITUDE = 310.0
  COORDINATE_SYSTEM_NAME = PLANETOGRAPHIC
  COORDINATE_SYSTEM_TYPE = "BODY-FIXED ROTATING"
  EASTERNMOST_LONGITUDE = 315.923
  FIRST_STANDARD_PARALLEL = "N/A"
  LINE_FIRST_PIXEL = 1
  LINE_LAST_PIXEL = 29261
  LINE_PROJECTION_OFFSET = 194329.75
  MAP_PROJECTION_ROTATION = 0.0
  MAP_PROJECTION_TYPE = SINUSOIDAL
  MAP_RESOLUTION = 2370.85521546667
  MAP_SCALE = 0.025
  MAXIMUM_LATITUDE = 82.0355
  MINIMUM_LATITUDE = 69.6065
  POSITIVE_LONGITUDE_DIRECTION = EAST
  REFERENCE_LATITUDE = "N/A"
  REFERENCE_LONGITUDE = "N/A"
  SAMPLE_FIRST_PIXEL = 1
  SAMPLE_LAST_PIXEL = 9823
  SAMPLE_PROJECTION_OFFSET = 4964.75
  SECOND_STANDARD_PARALLEL = "N/A"
  WESTERNMOST_LONGITUDE = 295.96
END_OBJECT = IMAGE_MAP_PROJECTION
END
