PDS_VERSION_ID = PDS3
/* FILE DATA ELEMENTS */
RECORD_TYPE = UNDEFINED
/* POINTERS TO DATA OBJECTS */
^IMAGE = ("H5559_0000_BL4.TIF")
/* IDENTIFICATION DATA ELEMENTS */
DATA_SET_ID = "MEX-M-HRSC-4-REFDR-MAPPROJECT-EXT2-V4.0"
DATA_SET_NAME = "MARS EXPRESS HRSC MAP PROJECTED REFDR EXTENSION2 V4.0"
DETECTOR_ID = MEX_HRSC_BLUE
EVENT_TYPE = "MARS-REGIONAL-MAPPING-Vo-Gl-Pf"
INSTRUMENT_HOST_ID = MEX
INSTRUMENT_HOST_NAME = "MARS EXPRESS"
INSTRUMENT_ID = HRSC
INSTRUMENT_NAME = "HIGH RESOLUTION STEREO CAMERA"
MISSION_NAME = "MARS EXPRESS"
MISSION_PHASE_NAME = ME_Phase_12
PROCESSING_LEVEL_ID = 4
PRODUCT_CREATION_TIME = 2023-02-03T16:04:45.000Z
PRODUCT_ID = "H5559_0000_BL4.TIF"
RELEASE_ID = 0003
REVISION_ID = 0000
/* QUALITY DATA ELEMENTS */
DATA_QUALITY_ID = 1
DATA_QUALITY_DESC = "Data calculated based on original SPICE kernels"
/* TIME DATA ELEMENTS */
SPACECRAFT_CLOCK_START_COUNT = "1/0157670797.07300"
SPACECRAFT_CLOCK_STOP_COUNT = "1/0157671059.28921"
START_TIME = 2008-04-30T21:27:19.360Z
STOP_TIME = 2008-04-30T21:30:31.764Z
/* ORBITAL DATA ELEMENTS */
ASCENDING_NODE_LONGITUDE = 112.7
MAXIMUM_RESOLUTION = 0.0578
FOOTPRINT_POINT_LATITUDE = (81.9266,81.8004,81.6609,81.4582, 81.4531,81.4487,81.2332,81.0163,80.6884 ,80.4682,80.2469,79.9129,79.6891, 79.4643,79.2388,79.0124,78.6715,78.3291 ,78.1001,77.7555,77.5252,77.2943,77.063 ,76.8315,76.5994,76.3672,76.1345, 75.9015,75.6682,75.4346,75.2008,74.9667 ,74.7325,74.498,74.2634,74.0286,73.7936 ,73.3234,72.8527,72.3816,71.9103, 71.4388,71.1737,70.8923,70.6109,70.3294 ,70.048,69.7667,69.626,69.6201,69.6971, 69.7574,69.8143,69.8158,69.8173,70.1016 ,70.386,70.6705,70.9552,71.24,71.6517, 72.1293,72.607,73.0848,73.3238,73.5628, 73.8018,74.0408,74.2798,74.5187,74.7577 ,74.9965,75.2354,75.5935,75.8322, 76.0707,76.3092,76.6667,76.9049,77.143, 77.381,77.6188,77.8563,78.0936,78.3307, 78.5675,78.8042,79.0407,79.2765,79.5119 ,79.7472,79.9821,80.3335,80.6839, 81.0331,81.2652,81.4965,81.842,81.9567, 81.9266)
FOOTPRINT_POINT_LONGITUDE = (303.866,301.552,299.3,296.447,296.38, 295.967,296.714,297.424,298.412,299.042 ,299.643,300.494,301.03,301.541,302.031 ,302.5,303.166,303.793,304.191,304.758, 305.116,305.466,305.799,306.116,306.425 ,306.719,307.006,307.283,307.549, 307.807,308.057,308.298,308.53,308.755, 308.974,309.185,309.389,309.779,310.145 ,310.489,310.814,311.12,311.284,311.453 ,311.617,311.775,311.927,312.075, 312.148,312.151,313.457,314.626,315.903 ,315.938,315.95,315.843,315.732,315.619 ,315.501,315.38,315.198,314.975,314.739 ,314.489,314.359,314.224,314.085, 313.942,313.795,313.642,313.485,313.322 ,313.154,312.891,312.708,312.518, 312.321,312.013,311.798,311.575,311.343 ,311.102,310.851,310.59,310.318,310.034 ,309.738,309.43,309.106,308.768,308.414 ,308.044,307.454,306.82,306.135,305.648 ,305.134,304.307,304.016,303.866)
ORBIT_NUMBER = 5559
ORBITAL_ECCENTRICITY = 0.567
ORBITAL_INCLINATION = 86.76
ORBITAL_SEMIMAJOR_AXIS = 8635.49
PERIAPSIS_ALTITUDE = 357.95
PERIAPSIS_ARGUMENT_ANGLE = 100.44
PERIAPSIS_TIME = 2008-04-30T21:27:58.000Z
SPACECRAFT_ORIENTATION = (0.0,-1.0,0.0)
^MEX_ORIENTATION_DESC = "MEX_ORIENTATION_DESC.TXT"
SPACECRAFT_POINTING_MODE = ACROSSTRACK
^MEX_POINTING_DESC = "MEX_POINTING_DESC.TXT"
RIGHT_ASCENSION = -1e+32
DECLINATION = -1e+32
OFFSET_ANGLE = -0.18
SPACECRAFT_SOLAR_DISTANCE = 2.49111e+08
TARGET_NAME = MARS
/* CAMERA DATA ELEMENTS */
DETECTOR_TEMPERATURE = 17.7588
FOCAL_PLANE_TEMPERATURE = 7.156
INST_CMPRS_NAME = "DISCRETE COSINE TRANSFORMATION (DCT)"
INST_CMPRS_RATIO = 15.1409
INST_CMPRS_QUALITY = 0
INST_CMPRS_QUANTZ_TBL_ID = 0
INSTRUMENT_TEMPERATURE = 10.6223
LENS_TEMPERATURE = 7.5638
MACROPIXEL_SIZE = 4
MISSING_FRAMES = 0
PIXEL_SUBSAMPLING_FLAG = N
SIGNAL_CHAIN_ID = 2
/* RADIOMETRIC DATA ELEMENTS */
BANDWIDTH = 76.0
CENTER_FILTER_WAVELENGTH = 444.0
RADIANCE_OFFSET = 0.545976
RADIANCE_SCALING_FACTOR = 0.00802906
REFLECTANCE_SCALING_FACTOR = 0.000511927
MEX:REFLECTANCE_OFFSET = 0.034811
/* IMAGE OBJECT DEFINITIONS */
OBJECT = IMAGE
  INTERCHANGE_FORMAT = BINARY
  LINES = 14631
  LINE_SAMPLES = 4912
  SAMPLE_TYPE = UNSIGNED_INTEGER
  SAMPLE_BITS = 8
  BANDS = 1
  BAND_STORAGE_TYPE = BAND_SEQUENTIAL
  MAXIMUM = 255
  MEAN = 93.1899
  MINIMUM = 1
  STANDARD_DEVIATION = 68.343
END_OBJECT = IMAGE
/* MAP OBJECT DEFINITIONS */
OBJECT = IMAGE_MAP_PROJECTION
  ^DATA_SET_MAP_PROJECTION_CATALOG= "DSMAP.CAT"
  A_AXIS_RADIUS = 3396.0
  B_AXIS_RADIUS = 3396.0
  C_AXIS_RADIUS = 3396.0
  CENTER_LATITUDE = 0.0
  CENTER_LONGITUDE = 310.0
  COORDINATE_SYSTEM_NAME = PLANETOGRAPHIC
  COORDINATE_SYSTEM_TYPE = "BODY-FIXED ROTATING"
  EASTERNMOST_LONGITUDE = 315.95
  FIRST_STANDARD_PARALLEL = "N/A"
  LINE_FIRST_PIXEL = 1
  LINE_LAST_PIXEL = 14631
  LINE_PROJECTION_OFFSET = 97164.625
  MAP_PROJECTION_ROTATION = 0.0
  MAP_PROJECTION_TYPE = SINUSOIDAL
  MAP_RESOLUTION = 1185.42760773333
  MAP_SCALE = 0.05
  MAXIMUM_LATITUDE = 81.9567
  MINIMUM_LATITUDE = 69.62009999999999
  POSITIVE_LONGITUDE_DIRECTION = EAST
  REFERENCE_LATITUDE = "N/A"
  REFERENCE_LONGITUDE = "N/A"
  SAMPLE_FIRST_PIXEL = 1
  SAMPLE_LAST_PIXEL = 4912
  SAMPLE_PROJECTION_OFFSET = 2482.125
  SECOND_STANDARD_PARALLEL = "N/A"
  WESTERNMOST_LONGITUDE = 295.967
END_OBJECT = IMAGE_MAP_PROJECTION
END
