PDS_VERSION_ID = PDS3
/* FILE DATA ELEMENTS */
RECORD_TYPE = UNDEFINED
/* POINTERS TO DATA OBJECTS */
^IMAGE = ("H5555_0000_ND4.TIF")
/* IDENTIFICATION DATA ELEMENTS */
DATA_SET_ID = "MEX-M-HRSC-4-REFDR-MAPPROJECT-EXT2-V4.0"
DATA_SET_NAME = "MARS EXPRESS HRSC MAP PROJECTED REFDR EXTENSION2 V4.0"
DETECTOR_ID = MEX_HRSC_NADIR
EVENT_TYPE = "MARS-REGIONAL-MAPPING-Gl-Pf-Eo"
INSTRUMENT_HOST_ID = MEX
INSTRUMENT_HOST_NAME = "MARS EXPRESS"
INSTRUMENT_ID = HRSC
INSTRUMENT_NAME = "HIGH RESOLUTION STEREO CAMERA"
MISSION_NAME = "MARS EXPRESS"
MISSION_PHASE_NAME = ME_Phase_12
PROCESSING_LEVEL_ID = 4
PRODUCT_CREATION_TIME = 2023-02-03T16:04:45.000Z
PRODUCT_ID = "H5555_0000_ND4.TIF"
RELEASE_ID = 0003
REVISION_ID = 0000
/* QUALITY DATA ELEMENTS */
DATA_QUALITY_ID = 1
DATA_QUALITY_DESC = "Data calculated based on original SPICE kernels"
/* TIME DATA ELEMENTS */
SPACECRAFT_CLOCK_START_COUNT = "1/0157572346.09066"
SPACECRAFT_CLOCK_STOP_COUNT = "1/0157572546.00670"
START_TIME = 2008-04-29T18:06:22.050Z
STOP_TIME = 2008-04-29T18:08:32.070Z
/* ORBITAL DATA ELEMENTS */
ASCENDING_NODE_LONGITUDE = 112.78
MAXIMUM_RESOLUTION = 0.0145
FOOTPRINT_POINT_LATITUDE = (76.8047,76.757,76.7218,76.6819,76.6065 ,76.5513,76.5483,76.5414,76.3854, 76.2293,76.0731,75.9168,75.7603,75.6038 ,75.4471,75.2903,75.1335,74.9765, 74.8195,74.6624,74.5052,74.3479,74.1906 ,73.8757,73.5606,73.2453,72.9298, 72.6142,72.2984,71.9825,71.6665,71.3505 ,71.0344,70.7183,70.4021,70.1211, 69.9324,69.7438,69.5551,69.3665,69.1779 ,68.9893,68.8007,68.6122,68.4237, 68.3295,68.325,68.3575,68.3999,68.4243, 68.4627,68.4863,68.4875,68.4884,68.6784 ,68.8685,69.0587,69.2489,69.4391, 69.6295,69.8199,70.0103,70.2008,70.3913 ,70.5805,70.8999,71.2194,71.539,71.8587 ,72.1784,72.3383,72.4982,72.6581,72.818 ,72.978,73.1379,73.2978,73.4577,73.6177 ,73.7776,73.9375,74.0974,74.2573, 74.4172,74.5771,74.7369,74.8968,75.0566 ,75.2164,75.3762,75.536,75.6957,75.8554 ,76.015,76.1747,76.3342,76.4938,76.733, 76.8127,76.8047)
FOOTPRINT_POINT_LONGITUDE = (353.699,352.584,351.831,351.034, 349.657,348.734,348.686,348.545,348.722 ,348.895,349.065,349.229,349.39,349.548 ,349.701,349.851,349.998,350.141, 350.281,350.419,350.553,350.684,350.812 ,351.06,351.298,351.526,351.745,351.955 ,352.157,352.35,352.536,352.716,352.888 ,353.054,353.214,353.351,353.44,353.528 ,353.613,353.697,353.779,353.859, 353.937,354.014,354.09,354.127,354.128, 354.727,355.578,356.113,357.046,357.696 ,357.732,357.75,357.698,357.645,357.591 ,357.535,357.479,357.422,357.363, 357.303,357.242,357.18,357.117,357.007, 356.893,356.775,356.653,356.525,356.46, 356.394,356.326,356.256,356.186,356.114 ,356.04,355.965,355.888,355.81,355.73, 355.648,355.565,355.48,355.393,355.304, 355.214,355.121,355.026,354.929,354.83, 354.728,354.624,354.517,354.408,354.297 ,354.182,354.005,353.945,353.699)
ORBIT_NUMBER = 5555
ORBITAL_ECCENTRICITY = 0.568
ORBITAL_INCLINATION = 86.75
ORBITAL_SEMIMAJOR_AXIS = 8636.87
PERIAPSIS_ALTITUDE = 357.89
PERIAPSIS_ARGUMENT_ANGLE = 101.1
PERIAPSIS_TIME = 2008-04-29T18:05:53.000Z
SPACECRAFT_ORIENTATION = (0.0,-1.0,0.0)
^MEX_ORIENTATION_DESC = "MEX_ORIENTATION_DESC.TXT"
SPACECRAFT_POINTING_MODE = ACROSSTRACK
^MEX_POINTING_DESC = "MEX_POINTING_DESC.TXT"
RIGHT_ASCENSION = -1e+32
DECLINATION = -1e+32
OFFSET_ANGLE = 0.2
SPACECRAFT_SOLAR_DISTANCE = 2.4909e+08
TARGET_NAME = MARS
/* CAMERA DATA ELEMENTS */
DETECTOR_TEMPERATURE = 17.9627
FOCAL_PLANE_TEMPERATURE = 7.156
INST_CMPRS_NAME = "DISCRETE COSINE TRANSFORMATION (DCT)"
INST_CMPRS_RATIO = 6.41201
INST_CMPRS_QUALITY = 0
INST_CMPRS_QUANTZ_TBL_ID = 0
INSTRUMENT_TEMPERATURE = 10.8262
LENS_TEMPERATURE = 7.5638
MACROPIXEL_SIZE = 1
MISSING_FRAMES = 0
PIXEL_SUBSAMPLING_FLAG = N
SIGNAL_CHAIN_ID = 0
/* RADIOMETRIC DATA ELEMENTS */
BANDWIDTH = 177.0
CENTER_FILTER_WAVELENGTH = 677.5
RADIANCE_OFFSET = 4.51739
RADIANCE_SCALING_FACTOR = 0.0248474
REFLECTANCE_SCALING_FACTOR = 0.000818983
MEX:REFLECTANCE_OFFSET = 0.148896
/* IMAGE OBJECT DEFINITIONS */
OBJECT = IMAGE
  INTERCHANGE_FORMAT = BINARY
  LINES = 40264
  LINE_SAMPLES = 12541
  SAMPLE_TYPE = UNSIGNED_INTEGER
  SAMPLE_BITS = 8
  BANDS = 1
  BAND_STORAGE_TYPE = BAND_SEQUENTIAL
  MAXIMUM = 255
  MEAN = 135.995
  MINIMUM = 1
  STANDARD_DEVIATION = 36.5887
END_OBJECT = IMAGE
/* MAP OBJECT DEFINITIONS */
OBJECT = IMAGE_MAP_PROJECTION
  ^DATA_SET_MAP_PROJECTION_CATALOG= "DSMAP.CAT"
  A_AXIS_RADIUS = 3396.0
  B_AXIS_RADIUS = 3396.0
  C_AXIS_RADIUS = 3396.0
  CENTER_LATITUDE = 0.0
  CENTER_LONGITUDE = 354.0
  COORDINATE_SYSTEM_NAME = PLANETOGRAPHIC
  COORDINATE_SYSTEM_TYPE = "BODY-FIXED ROTATING"
  EASTERNMOST_LONGITUDE = 357.75
  FIRST_STANDARD_PARALLEL = "N/A"
  LINE_FIRST_PIXEL = 1
  LINE_LAST_PIXEL = 40264
  LINE_PROJECTION_OFFSET = 364241.0
  MAP_PROJECTION_ROTATION = 0.0
  MAP_PROJECTION_TYPE = SINUSOIDAL
  MAP_RESOLUTION = 4741.71043093333
  MAP_SCALE = 0.0125
  MAXIMUM_LATITUDE = 76.81270000000001
  MINIMUM_LATITUDE = 68.325
  POSITIVE_LONGITUDE_DIRECTION = EAST
  REFERENCE_LATITUDE = "N/A"
  REFERENCE_LONGITUDE = "N/A"
  SAMPLE_FIRST_PIXEL = 1
  SAMPLE_LAST_PIXEL = 12541
  SAMPLE_PROJECTION_OFFSET = 6020.0
  SECOND_STANDARD_PARALLEL = "N/A"
  WESTERNMOST_LONGITUDE = 348.545
END_OBJECT = IMAGE_MAP_PROJECTION
END
