PDS_VERSION_ID = PDS3
/* FILE DATA ELEMENTS */
RECORD_TYPE = UNDEFINED
/* POINTERS TO DATA OBJECTS */
^IMAGE = ("H5534_0000_P24.TIF")
/* IDENTIFICATION DATA ELEMENTS */
DATA_SET_ID = "MEX-M-HRSC-4-REFDR-MAPPROJECT-EXT2-V4.0"
DATA_SET_NAME = "MARS EXPRESS HRSC MAP PROJECTED REFDR EXTENSION2 V4.0"
DETECTOR_ID = MEX_HRSC_P2
EVENT_TYPE = "MARS-REGIONAL-MAPPING-Gl-La-Ts"
INSTRUMENT_HOST_ID = MEX
INSTRUMENT_HOST_NAME = "MARS EXPRESS"
INSTRUMENT_ID = HRSC
INSTRUMENT_NAME = "HIGH RESOLUTION STEREO CAMERA"
MISSION_NAME = "MARS EXPRESS"
MISSION_PHASE_NAME = ME_Phase_12
PROCESSING_LEVEL_ID = 4
PRODUCT_CREATION_TIME = 2023-02-03T16:04:45.000Z
PRODUCT_ID = "H5534_0000_P24.TIF"
RELEASE_ID = 0003
REVISION_ID = 0000
/* QUALITY DATA ELEMENTS */
DATA_QUALITY_ID = 1
DATA_QUALITY_DESC = "Data calculated based on original SPICE kernels"
/* TIME DATA ELEMENTS */
SPACECRAFT_CLOCK_START_COUNT = "1/0157054979.08424"
SPACECRAFT_CLOCK_STOP_COUNT = "1/0157055220.24692"
START_TIME = 2008-04-23T18:23:58.449Z
STOP_TIME = 2008-04-23T18:26:50.451Z
/* ORBITAL DATA ELEMENTS */
ASCENDING_NODE_LONGITUDE = 113.2
MAXIMUM_RESOLUTION = 0.0297
FOOTPRINT_POINT_LATITUDE = (80.9871,80.8811,80.7097,80.5814, 80.5768,80.6454,80.3386,80.0302,79.8233 ,79.6159,79.4077,79.1987,78.8841, 78.6737,78.4628,78.2514,78.0397,77.7212 ,77.5085,77.2955,76.9751,76.6544, 76.4402,76.2257,76.011,75.796,75.5809, 75.3656,75.0423,74.8257,74.6107,74.3946 ,74.1784,73.9623,73.7461,73.5297, 73.3134,73.0969,72.8805,72.664,72.4474, 72.2308,72.0142,71.7977,71.3645,70.9315 ,70.4986,70.0658,69.9577,69.9552, 70.0024,70.039,70.0999,70.1384,70.1399, 70.1408,70.5781,71.0159,71.2349,71.454, 71.6732,71.8925,72.2216,72.441,72.6605, 72.8801,73.0998,73.3195,73.5393,73.8692 ,74.0891,74.309,74.529,74.8589,75.1888, 75.4087,75.6286,75.8485,76.0686,76.2888 ,76.5083,76.728,77.0574,77.2771,77.4964 ,77.7154,77.9351,78.1543,78.3731,78.701 ,79.0287,79.3561,79.574,79.7916,80.1171 ,80.4415,80.6582,80.9822,81.0905, 80.9871)
FOOTPRINT_POINT_LONGITUDE = (288.787,286.674,283.733,281.81,281.744 ,281.248,282.068,282.834,283.32,283.785 ,284.232,284.662,285.275,285.664, 286.038,286.398,286.745,287.242,287.558 ,287.863,288.301,288.716,288.982, 289.238,289.486,289.727,289.96,290.185, 290.509,290.72,290.92,291.116,291.306, 291.49,291.669,291.843,292.011,292.176, 292.335,292.49,292.641,292.787,292.93, 293.068,293.335,293.587,293.827,294.055 ,294.11,294.111,294.942,295.632,296.908 ,297.824,297.861,297.874,297.716, 297.551,297.465,297.376,297.286,297.193 ,297.05,296.951,296.849,296.745,296.637 ,296.527,296.414,296.238,296.116, 295.991,295.862,295.661,295.451,295.305 ,295.154,294.999,294.839,294.674, 294.502,294.325,294.047,293.854,293.653 ,293.445,293.23,293.007,292.774,292.408 ,292.02,291.607,291.317,291.015,290.535 ,290.022,289.66,289.084,288.883, 288.787)
ORBIT_NUMBER = 5534
ORBITAL_ECCENTRICITY = 0.568
ORBITAL_INCLINATION = 86.75
ORBITAL_SEMIMAJOR_AXIS = 8638.94
PERIAPSIS_ALTITUDE = 356.73
PERIAPSIS_ARGUMENT_ANGLE = 104.82
PERIAPSIS_TIME = 2008-04-23T18:25:13.000Z
SPACECRAFT_ORIENTATION = (0.0,-1.0,0.0)
^MEX_ORIENTATION_DESC = "MEX_ORIENTATION_DESC.TXT"
SPACECRAFT_POINTING_MODE = NADIR
^MEX_POINTING_DESC = "MEX_POINTING_DESC.TXT"
RIGHT_ASCENSION = -1e+32
DECLINATION = -1e+32
OFFSET_ANGLE = -1e+32
SPACECRAFT_SOLAR_DISTANCE = 2.48945e+08
TARGET_NAME = MARS
/* CAMERA DATA ELEMENTS */
DETECTOR_TEMPERATURE = 17.9627
FOCAL_PLANE_TEMPERATURE = 6.9521
INST_CMPRS_NAME = "DISCRETE COSINE TRANSFORMATION (DCT)"
INST_CMPRS_RATIO = 7.32038
INST_CMPRS_QUALITY = 0
INST_CMPRS_QUANTZ_TBL_ID = 0
INSTRUMENT_TEMPERATURE = 10.2145
LENS_TEMPERATURE = 7.5638
MACROPIXEL_SIZE = 2
MISSING_FRAMES = 0
PIXEL_SUBSAMPLING_FLAG = N
SIGNAL_CHAIN_ID = 3
/* RADIOMETRIC DATA ELEMENTS */
BANDWIDTH = 177.0
CENTER_FILTER_WAVELENGTH = 676.5
RADIANCE_OFFSET = 2.83954
RADIANCE_SCALING_FACTOR = 0.0318474
REFLECTANCE_SCALING_FACTOR = 0.00104649
MEX:REFLECTANCE_OFFSET = 0.093306
/* IMAGE OBJECT DEFINITIONS */
OBJECT = IMAGE
  INTERCHANGE_FORMAT = BINARY
  LINES = 26426
  LINE_SAMPLES = 8446
  SAMPLE_TYPE = UNSIGNED_INTEGER
  SAMPLE_BITS = 8
  BANDS = 1
  BAND_STORAGE_TYPE = BAND_SEQUENTIAL
  MAXIMUM = 255
  MEAN = 130.273
  MINIMUM = 1
  STANDARD_DEVIATION = 80.2125
END_OBJECT = IMAGE
/* MAP OBJECT DEFINITIONS */
OBJECT = IMAGE_MAP_PROJECTION
  ^DATA_SET_MAP_PROJECTION_CATALOG= "DSMAP.CAT"
  A_AXIS_RADIUS = 3396.0
  B_AXIS_RADIUS = 3396.0
  C_AXIS_RADIUS = 3396.0
  CENTER_LATITUDE = 0.0
  CENTER_LONGITUDE = 293.0
  COORDINATE_SYSTEM_NAME = PLANETOGRAPHIC
  COORDINATE_SYSTEM_TYPE = "BODY-FIXED ROTATING"
  EASTERNMOST_LONGITUDE = 297.874
  FIRST_STANDARD_PARALLEL = "N/A"
  LINE_FIRST_PIXEL = 1
  LINE_LAST_PIXEL = 26426
  LINE_PROJECTION_OFFSET = 192250.25
  MAP_PROJECTION_ROTATION = 0.0
  MAP_PROJECTION_TYPE = SINUSOIDAL
  MAP_RESOLUTION = 2370.85521546667
  MAP_SCALE = 0.025
  MAXIMUM_LATITUDE = 81.09050000000001
  MINIMUM_LATITUDE = 69.9552
  POSITIVE_LONGITUDE_DIRECTION = EAST
  REFERENCE_LATITUDE = "N/A"
  REFERENCE_LONGITUDE = "N/A"
  SAMPLE_FIRST_PIXEL = 1
  SAMPLE_LAST_PIXEL = 8446
  SAMPLE_PROJECTION_OFFSET = 4536.25
  SECOND_STANDARD_PARALLEL = "N/A"
  WESTERNMOST_LONGITUDE = 281.248
END_OBJECT = IMAGE_MAP_PROJECTION
END
