PDS_VERSION_ID = PDS3
/* FILE DATA ELEMENTS */
RECORD_TYPE = UNDEFINED
/* POINTERS TO DATA OBJECTS */
^IMAGE = ("H5522_0000_ND4.TIF")
/* IDENTIFICATION DATA ELEMENTS */
DATA_SET_ID = "MEX-M-HRSC-4-REFDR-MAPPROJECT-EXT2-V4.0"
DATA_SET_NAME = "MARS EXPRESS HRSC MAP PROJECTED REFDR EXTENSION2 V4.0"
DETECTOR_ID = MEX_HRSC_NADIR
EVENT_TYPE = "MARS-REGIONAL-MAPPING-Gl-Eo-La"
INSTRUMENT_HOST_ID = MEX
INSTRUMENT_HOST_NAME = "MARS EXPRESS"
INSTRUMENT_ID = HRSC
INSTRUMENT_NAME = "HIGH RESOLUTION STEREO CAMERA"
MISSION_NAME = "MARS EXPRESS"
MISSION_PHASE_NAME = ME_Phase_12
PROCESSING_LEVEL_ID = 4
PRODUCT_CREATION_TIME = 2023-02-03T16:04:45.000Z
PRODUCT_ID = "H5522_0000_ND4.TIF"
RELEASE_ID = 0003
REVISION_ID = 0000
/* QUALITY DATA ELEMENTS */
DATA_QUALITY_ID = 1
DATA_QUALITY_DESC = "Data calculated based on original SPICE kernels"
/* TIME DATA ELEMENTS */
SPACECRAFT_CLOCK_START_COUNT = "1/0156759289.07287"
SPACECRAFT_CLOCK_STOP_COUNT = "1/0156759500.55732"
START_TIME = 2008-04-20T08:15:31.187Z
STOP_TIME = 2008-04-20T08:17:50.181Z
/* ORBITAL DATA ELEMENTS */
ASCENDING_NODE_LONGITUDE = 113.43
MAXIMUM_RESOLUTION = 0.0145
FOOTPRINT_POINT_LATITUDE = (86.0113,85.7226,85.5838,85.4024, 85.0733,85.0631,85.0273,84.9111,84.7906 ,84.6659,84.5375,84.4055,84.2702, 84.1319,83.9906,83.8466,83.7001,83.5513 ,83.4002,83.2471,83.092,82.9352,82.7766 ,82.6164,82.4547,82.2915,82.1267, 81.9613,81.7944,81.6262,81.372,81.2011, 81.0299,80.8578,80.6847,80.5105,80.3404 ,80.0462,79.7502,79.4526,79.1534, 78.8529,78.551,78.2479,77.9437,77.4853, 77.4087,77.4059,77.4606,77.5162,77.5624 ,77.6273,77.6677,77.7213,77.7239, 77.7254,77.9621,78.1198,78.2774,78.4348 ,78.5921,78.9063,79.2199,79.5328, 79.8449,80.1563,80.4669,80.7766,80.9558 ,81.1398,81.3234,81.5061,81.689,81.871, 82.0527,82.2338,82.4147,82.5946,82.774, 82.9525,83.1305,83.3077,83.484,83.6594, 83.8339,84.0074,84.1797,84.3508,84.5205 ,84.6888,84.8555,85.0204,85.1834, 85.3443,85.5029,85.659,85.8122,85.9624, 86.0361,86.0113)
FOOTPRINT_POINT_LONGITUDE = (26.5529,22.1531,20.3478,18.2221, 14.9055,14.8119,14.461,16.1504,17.7638, 19.3029,20.7713,22.1714,23.5065,24.7793 ,25.9932,27.1507,28.2549,29.3084,30.314 ,31.2741,32.1911,33.0676,33.9057, 34.7073,35.4744,36.2069,36.9054,37.5838 ,38.2313,38.8485,39.7297,40.2841, 40.8274,41.3493,41.8483,42.3245,42.7796 ,43.5184,44.2141,44.8708,45.4908, 46.0765,46.6308,47.1557,47.6532,48.3521 ,48.4636,48.4677,49.2992,50.1939, 50.9823,52.1763,52.9789,54.1347,54.1928 ,54.2211,53.9917,53.8333,53.671,53.5045 ,53.3332,52.9757,52.597,52.195,51.7674, 51.3129,50.8289,50.3132,49.9955,49.657, 49.306,48.9283,48.5491,48.1418,47.7211, 47.2802,46.8224,46.337,45.8298,45.2915, 44.7304,44.1393,43.5154,42.858,42.1635, 41.4289,40.6507,39.8254,38.9488,38.0166 ,37.0239,35.9656,34.8354,33.6269, 32.3331,30.946,29.4567,27.8591,27.0131, 26.5529)
ORBIT_NUMBER = 5522
ORBITAL_ECCENTRICITY = 0.568
ORBITAL_INCLINATION = 86.76
ORBITAL_SEMIMAJOR_AXIS = 8643.12
PERIAPSIS_ALTITUDE = 355.39
PERIAPSIS_ARGUMENT_ANGLE = 106.91
PERIAPSIS_TIME = 2008-04-20T08:19:05.000Z
SPACECRAFT_ORIENTATION = (0.0,-1.0,0.0)
^MEX_ORIENTATION_DESC = "MEX_ORIENTATION_DESC.TXT"
SPACECRAFT_POINTING_MODE = NADIR
^MEX_POINTING_DESC = "MEX_POINTING_DESC.TXT"
RIGHT_ASCENSION = -1e+32
DECLINATION = -1e+32
OFFSET_ANGLE = -1e+32
SPACECRAFT_SOLAR_DISTANCE = 2.48838e+08
TARGET_NAME = MARS
/* CAMERA DATA ELEMENTS */
DETECTOR_TEMPERATURE = 17.9627
FOCAL_PLANE_TEMPERATURE = 6.9521
INST_CMPRS_NAME = "DISCRETE COSINE TRANSFORMATION (DCT)"
INST_CMPRS_RATIO = 6.8501
INST_CMPRS_QUALITY = 0
INST_CMPRS_QUANTZ_TBL_ID = 0
INSTRUMENT_TEMPERATURE = 10.6223
LENS_TEMPERATURE = 7.7677
MACROPIXEL_SIZE = 1
MISSING_FRAMES = 0
PIXEL_SUBSAMPLING_FLAG = N
SIGNAL_CHAIN_ID = 0
/* RADIOMETRIC DATA ELEMENTS */
BANDWIDTH = 177.0
CENTER_FILTER_WAVELENGTH = 677.5
RADIANCE_OFFSET = 4.57606
RADIANCE_SCALING_FACTOR = 0.0312893
REFLECTANCE_SCALING_FACTOR = 0.00102923
MEX:REFLECTANCE_OFFSET = 0.150524
/* IMAGE OBJECT DEFINITIONS */
OBJECT = IMAGE
  INTERCHANGE_FORMAT = BINARY
  LINES = 40934
  LINE_SAMPLES = 22446
  SAMPLE_TYPE = UNSIGNED_INTEGER
  SAMPLE_BITS = 8
  BANDS = 1
  BAND_STORAGE_TYPE = BAND_SEQUENTIAL
  MAXIMUM = 255
  MEAN = 122.322
  MINIMUM = 1
  STANDARD_DEVIATION = 19.523
END_OBJECT = IMAGE
/* MAP OBJECT DEFINITIONS */
OBJECT = IMAGE_MAP_PROJECTION
  ^DATA_SET_MAP_PROJECTION_CATALOG= "DSMAP.CAT"
  A_AXIS_RADIUS = 3396.0
  B_AXIS_RADIUS = 3396.0
  C_AXIS_RADIUS = 3396.0
  CENTER_LATITUDE = 0.0
  CENTER_LONGITUDE = 44.0
  COORDINATE_SYSTEM_NAME = PLANETOGRAPHIC
  COORDINATE_SYSTEM_TYPE = "BODY-FIXED ROTATING"
  EASTERNMOST_LONGITUDE = 54.2211
  FIRST_STANDARD_PARALLEL = "N/A"
  LINE_FIRST_PIXEL = 1
  LINE_LAST_PIXEL = 40934
  LINE_PROJECTION_OFFSET = 407970.0
  MAP_PROJECTION_ROTATION = 0.0
  MAP_PROJECTION_TYPE = SINUSOIDAL
  MAP_RESOLUTION = 4741.71043093333
  MAP_SCALE = 0.0125
  MAXIMUM_LATITUDE = 86.0361
  MINIMUM_LATITUDE = 77.4059
  POSITIVE_LONGITUDE_DIRECTION = EAST
  REFERENCE_LATITUDE = "N/A"
  REFERENCE_LONGITUDE = "N/A"
  SAMPLE_FIRST_PIXEL = 1
  SAMPLE_LAST_PIXEL = 22446
  SAMPLE_PROJECTION_OFFSET = 12141.0
  SECOND_STANDARD_PARALLEL = "N/A"
  WESTERNMOST_LONGITUDE = 14.461
END_OBJECT = IMAGE_MAP_PROJECTION
END
