PDS_VERSION_ID = PDS3
/* FILE DATA ELEMENTS */
RECORD_TYPE = UNDEFINED
/* POINTERS TO DATA OBJECTS */
^IMAGE = ("H5508_0000_GR4.TIF")
/* IDENTIFICATION DATA ELEMENTS */
DATA_SET_ID = "MEX-M-HRSC-4-REFDR-MAPPROJECT-EXT2-V4.0"
DATA_SET_NAME = "MARS EXPRESS HRSC MAP PROJECTED REFDR EXTENSION2 V4.0"
DETECTOR_ID = MEX_HRSC_GREEN
EVENT_TYPE = "MARS-REGIONAL-MAPPING-Im-Gl-Eo"
INSTRUMENT_HOST_ID = MEX
INSTRUMENT_HOST_NAME = "MARS EXPRESS"
INSTRUMENT_ID = HRSC
INSTRUMENT_NAME = "HIGH RESOLUTION STEREO CAMERA"
MISSION_NAME = "MARS EXPRESS"
MISSION_PHASE_NAME = ME_Phase_12
PROCESSING_LEVEL_ID = 4
PRODUCT_CREATION_TIME = 2023-02-03T16:04:45.000Z
PRODUCT_ID = "H5508_0000_GR4.TIF"
RELEASE_ID = 0003
REVISION_ID = 0000
/* QUALITY DATA ELEMENTS */
DATA_QUALITY_ID = 1
DATA_QUALITY_DESC = "Data calculated based on original SPICE kernels"
/* TIME DATA ELEMENTS */
SPACECRAFT_CLOCK_START_COUNT = "1/0156414531.08405"
SPACECRAFT_CLOCK_STOP_COUNT = "1/0156414770.48278"
START_TIME = 2008-04-16T08:29:24.338Z
STOP_TIME = 2008-04-16T08:32:14.581Z
/* ORBITAL DATA ELEMENTS */
ASCENDING_NODE_LONGITUDE = 113.71
MAXIMUM_RESOLUTION = 0.0573
FOOTPRINT_POINT_LATITUDE = (79.8471,79.7537,79.6384,79.4689, 79.4647,79.4275,79.0757,78.8396,78.6022 ,78.3645,78.1259,77.8867,77.6561, 77.2526,76.8472,76.4402,76.0317,75.6218 ,75.2106,74.7982,74.5916,74.3847, 74.1775,73.9701,73.7625,73.5546,73.3465 ,73.1381,72.9296,72.7208,72.5119, 72.3028,72.0935,71.8773,71.6677,71.4579 ,71.248,71.0379,70.8277,70.5054,70.2949 ,70.0842,69.8734,69.6626,69.4515, 69.1349,68.9236,68.818,68.8163,68.859, 68.8918,68.9316,68.986,68.9873,68.9886, 69.3088,69.6289,70.0555,70.2687,70.4819 ,70.695,70.9148,71.1278,71.3407,71.5536 ,71.7663,72.0853,72.3046,72.5171, 72.7294,72.9417,73.1539,73.3659,73.5778 ,73.7897,74.0014,74.2129,74.4244, 74.6356,74.8468,75.0578,75.2687,75.4793 ,75.6899,75.9002,76.1104,76.3204, 76.5302,76.7398,77.1584,77.5761,77.9928 ,78.2313,78.4791,78.7266,79.0971, 79.3436,79.7122,79.8348,79.8471)
FOOTPRINT_POINT_LONGITUDE = (12.2447,10.3529,8.31235,5.72135,5.662, 5.47225,6.21081,6.67531,7.11792,7.5446, 7.95356,8.34653,8.71002,9.31039,9.87268 ,10.4002,10.8958,11.362,11.801,12.2153, 12.4136,12.6064,12.7936,12.976,13.1532, 13.3254,13.4934,13.6567,13.8157,13.9706 ,14.1215,14.2685,14.4119,14.556,14.6922 ,14.8248,14.9545,15.0807,15.204,15.3872 ,15.5031,15.6164,15.7269,15.8348, 15.9403,16.094,16.1935,16.2424,16.2432, 16.9766,17.5851,18.3882,19.6461,19.6785 ,19.689,19.5891,19.4859,19.343,19.269, 19.1933,19.1159,19.0341,18.953,18.8699, 18.7847,18.6975,18.5627,18.4669,18.3718 ,18.2744,18.1742,18.0714,17.9659, 17.8579,17.7466,17.6324,17.5152,17.3947 ,17.2708,17.1432,17.0124,16.8772, 16.7383,16.5948,16.4477,16.2957,16.139, 15.9773,15.8105,15.46,15.0858,14.6851, 14.4419,14.1793,13.9022,13.4637,13.1519 ,12.6624,12.4905,12.2447)
ORBIT_NUMBER = 5508
ORBITAL_ECCENTRICITY = 0.568
ORBITAL_INCLINATION = 86.74
ORBITAL_SEMIMAJOR_AXIS = 8645.01
PERIAPSIS_ALTITUDE = 355.34
PERIAPSIS_ARGUMENT_ANGLE = 109.35
PERIAPSIS_TIME = 2008-04-16T08:31:57.000Z
SPACECRAFT_ORIENTATION = (0.0,-1.0,0.0)
^MEX_ORIENTATION_DESC = "MEX_ORIENTATION_DESC.TXT"
SPACECRAFT_POINTING_MODE = ACROSSTRACK
^MEX_POINTING_DESC = "MEX_POINTING_DESC.TXT"
RIGHT_ASCENSION = -1e+32
DECLINATION = -1e+32
OFFSET_ANGLE = -0.03
SPACECRAFT_SOLAR_DISTANCE = 2.48692e+08
TARGET_NAME = MARS
/* CAMERA DATA ELEMENTS */
DETECTOR_TEMPERATURE = 17.7588
FOCAL_PLANE_TEMPERATURE = 7.7677
INST_CMPRS_NAME = "DISCRETE COSINE TRANSFORMATION (DCT)"
INST_CMPRS_RATIO = 13.346
INST_CMPRS_QUALITY = 0
INST_CMPRS_QUANTZ_TBL_ID = 0
INSTRUMENT_TEMPERATURE = 10.8262
LENS_TEMPERATURE = 7.9716
MACROPIXEL_SIZE = 4
PIXEL_SUBSAMPLING_FLAG = N
SIGNAL_CHAIN_ID = 2
/* RADIOMETRIC DATA ELEMENTS */
BANDWIDTH = 88.0
CENTER_FILTER_WAVELENGTH = 538.0
RADIANCE_OFFSET = 1.64657
RADIANCE_SCALING_FACTOR = 0.0140133
REFLECTANCE_SCALING_FACTOR = 0.000746192
MEX:REFLECTANCE_OFFSET = 0.0876776
/* IMAGE OBJECT DEFINITIONS */
OBJECT = IMAGE
  INTERCHANGE_FORMAT = BINARY
  LINES = 13077
  LINE_SAMPLES = 4071
  SAMPLE_TYPE = UNSIGNED_INTEGER
  SAMPLE_BITS = 8
  BANDS = 1
  BAND_STORAGE_TYPE = BAND_SEQUENTIAL
  MAXIMUM = 255
  MEAN = 156.834
  MINIMUM = 2
  STANDARD_DEVIATION = 46.124
END_OBJECT = IMAGE
/* MAP OBJECT DEFINITIONS */
OBJECT = IMAGE_MAP_PROJECTION
  ^DATA_SET_MAP_PROJECTION_CATALOG= "DSMAP.CAT"
  A_AXIS_RADIUS = 3396.0
  B_AXIS_RADIUS = 3396.0
  C_AXIS_RADIUS = 3396.0
  CENTER_LATITUDE = 0.0
  CENTER_LONGITUDE = 15.0
  COORDINATE_SYSTEM_NAME = PLANETOGRAPHIC
  COORDINATE_SYSTEM_TYPE = "BODY-FIXED ROTATING"
  EASTERNMOST_LONGITUDE = 19.689
  FIRST_STANDARD_PARALLEL = "N/A"
  LINE_FIRST_PIXEL = 1
  LINE_LAST_PIXEL = 13077
  LINE_PROJECTION_OFFSET = 94652.625
  MAP_PROJECTION_ROTATION = 0.0
  MAP_PROJECTION_TYPE = SINUSOIDAL
  MAP_RESOLUTION = 1185.42760773333
  MAP_SCALE = 0.05
  MAXIMUM_LATITUDE = 79.8471
  MINIMUM_LATITUDE = 68.8163
  POSITIVE_LONGITUDE_DIRECTION = EAST
  REFERENCE_LATITUDE = "N/A"
  REFERENCE_LONGITUDE = "N/A"
  SAMPLE_FIRST_PIXEL = 1
  SAMPLE_LAST_PIXEL = 4071
  SAMPLE_PROJECTION_OFFSET = 2071.375
  SECOND_STANDARD_PARALLEL = "N/A"
  WESTERNMOST_LONGITUDE = 5.47225
END_OBJECT = IMAGE_MAP_PROJECTION
END
