PDS_VERSION_ID = PDS3
/* FILE DATA ELEMENTS */
RECORD_TYPE = UNDEFINED
/* POINTERS TO DATA OBJECTS */
^IMAGE = ("H5504_0009_RE4.TIF")
/* IDENTIFICATION DATA ELEMENTS */
DATA_SET_ID = "MEX-M-HRSC-4-REFDR-MAPPROJECT-EXT2-V4.0"
DATA_SET_NAME = "MARS EXPRESS HRSC MAP PROJECTED REFDR EXTENSION2 V4.0"
DETECTOR_ID = MEX_HRSC_RED
EVENT_TYPE = "MARS-REGIONAL-MAPPING-Gl-Pf-Eo"
INSTRUMENT_HOST_ID = MEX
INSTRUMENT_HOST_NAME = "MARS EXPRESS"
INSTRUMENT_ID = HRSC
INSTRUMENT_NAME = "HIGH RESOLUTION STEREO CAMERA"
MISSION_NAME = "MARS EXPRESS"
MISSION_PHASE_NAME = ME_Phase_12
PROCESSING_LEVEL_ID = 4
PRODUCT_CREATION_TIME = 2023-02-03T16:04:45.000Z
PRODUCT_ID = "H5504_0009_RE4.TIF"
RELEASE_ID = 0003
REVISION_ID = 0000
/* QUALITY DATA ELEMENTS */
DATA_QUALITY_ID = 1
DATA_QUALITY_DESC = "Data calculated based on original SPICE kernels"
/* TIME DATA ELEMENTS */
SPACECRAFT_CLOCK_START_COUNT = "1/0156316021.07280"
SPACECRAFT_CLOCK_STOP_COUNT = "1/0156316247.16015"
START_TIME = 2008-04-15T05:08:07.457Z
STOP_TIME = 2008-04-15T05:10:43.316Z
/* ORBITAL DATA ELEMENTS */
ASCENDING_NODE_LONGITUDE = 113.79
MAXIMUM_RESOLUTION = 0.0598
FOOTPRINT_POINT_LATITUDE = (78.4947,78.4421,78.3527,78.2439, 78.1709,78.1673,78.2599,78.0694,77.783, 77.5916,77.3998,77.2077,77.0153,76.7259 ,76.436,76.1457,75.9518,75.7577,75.4658 ,75.1739,74.979,74.6863,74.3933,74.1977 ,74.0021,73.8061,73.6104,73.4145, 73.1202,72.924,72.6294,72.3347,72.1382, 71.8433,71.6464,71.4497,71.2529,71.0564 ,70.8598,70.663,70.368,70.0729,69.7777, 69.3842,69.0891,68.5975,68.4991,68.4302 ,68.4629,68.4953,68.5426,68.5879, 68.5891,68.5904,69.0871,69.2858,69.4844 ,69.6838,69.9823,70.1814,70.3804, 70.5795,70.7792,70.9785,71.1777,71.3768 ,71.5762,71.7758,71.9753,72.2747, 72.5739,72.8733,73.0728,73.3724,73.6718 ,73.8715,74.0711,74.2707,74.4703, 74.7696,74.9692,75.1687,75.368,75.5673, 75.7666,75.9658,76.1651,76.3642,76.5632 ,76.7622,76.9611,77.2592,77.4577, 77.6561,77.8543,78.0524,78.2502,78.4484 ,78.5473,78.4947)
FOOTPRINT_POINT_LONGITUDE = (53.4424,52.3433,50.655,48.8257,47.7055 ,47.6523,47.1949,47.5302,48.0116, 48.3199,48.6184,48.9074,49.1874,49.592, 49.9781,50.3466,50.5833,50.8133,51.147, 51.4653,51.6704,51.968,52.2531,52.4369, 52.616,52.7908,52.9599,53.1252,53.3656, 53.5207,53.7463,53.9636,54.1039,54.3084 ,54.4412,54.57,54.6962,54.8187,54.9385, 55.056,55.2268,55.3919,55.5516,55.7565, 55.9042,56.1399,56.1856,56.2174,56.8223 ,57.4597,58.4796,59.5945,59.6263, 59.6367,59.4758,59.4091,59.3409,59.2715 ,59.1644,59.091,59.016,58.9394,58.8613, 58.7812,58.6993,58.6154,58.5297,58.4421 ,58.3524,58.2138,58.0701,57.9211, 57.8187,57.6602,57.4956,57.3824,57.2661 ,57.1467,57.0242,56.8341,56.7029, 56.5681,56.4295,56.2868,56.1401,55.989, 55.8334,55.6731,55.5079,55.3377,55.162, 54.8879,54.6977,54.5013,54.2983,54.0883 ,53.8711,53.6464,53.531,53.4424)
ORBIT_NUMBER = 5504
ORBITAL_ECCENTRICITY = 0.568
ORBITAL_INCLINATION = 86.76
ORBITAL_SEMIMAJOR_AXIS = 8646.63
PERIAPSIS_ALTITUDE = 354.24
PERIAPSIS_ARGUMENT_ANGLE = 110.06
PERIAPSIS_TIME = 2008-04-15T05:09:58.000Z
SPACECRAFT_ORIENTATION = (0.0,-1.0,0.0)
^MEX_ORIENTATION_DESC = "MEX_ORIENTATION_DESC.TXT"
SPACECRAFT_POINTING_MODE = ACROSSTRACK
^MEX_POINTING_DESC = "MEX_POINTING_DESC.TXT"
RIGHT_ASCENSION = -1e+32
DECLINATION = -1e+32
OFFSET_ANGLE = -0.18
SPACECRAFT_SOLAR_DISTANCE = 2.48645e+08
TARGET_NAME = MARS
/* CAMERA DATA ELEMENTS */
DETECTOR_TEMPERATURE = 18.9822
FOCAL_PLANE_TEMPERATURE = 8.3794
INST_CMPRS_NAME = "DISCRETE COSINE TRANSFORMATION (DCT)"
INST_CMPRS_RATIO = 17.8407
INST_CMPRS_QUALITY = 0
INST_CMPRS_QUANTZ_TBL_ID = 0
INSTRUMENT_TEMPERATURE = 12.4574
LENS_TEMPERATURE = 8.5833
MACROPIXEL_SIZE = 4
MISSING_FRAMES = 0
PIXEL_SUBSAMPLING_FLAG = N
SIGNAL_CHAIN_ID = 2
/* RADIOMETRIC DATA ELEMENTS */
BANDWIDTH = 48.0
CENTER_FILTER_WAVELENGTH = 748.0
RADIANCE_OFFSET = 1.1831
RADIANCE_SCALING_FACTOR = 0.00701335
REFLECTANCE_SCALING_FACTOR = 0.000989494
MEX:REFLECTANCE_OFFSET = 0.16692
/* IMAGE OBJECT DEFINITIONS */
OBJECT = IMAGE
  INTERCHANGE_FORMAT = BINARY
  LINES = 12105
  LINE_SAMPLES = 3893
  SAMPLE_TYPE = UNSIGNED_INTEGER
  SAMPLE_BITS = 8
  BANDS = 1
  BAND_STORAGE_TYPE = BAND_SEQUENTIAL
  MAXIMUM = 255
  MEAN = 148.347
  MINIMUM = 1
  STANDARD_DEVIATION = 47.9451
END_OBJECT = IMAGE
/* MAP OBJECT DEFINITIONS */
OBJECT = IMAGE_MAP_PROJECTION
  ^DATA_SET_MAP_PROJECTION_CATALOG= "DSMAP.CAT"
  A_AXIS_RADIUS = 3396.0
  B_AXIS_RADIUS = 3396.0
  C_AXIS_RADIUS = 3396.0
  CENTER_LATITUDE = 0.0
  CENTER_LONGITUDE = 55.0
  COORDINATE_SYSTEM_NAME = PLANETOGRAPHIC
  COORDINATE_SYSTEM_TYPE = "BODY-FIXED ROTATING"
  EASTERNMOST_LONGITUDE = 59.6367
  FIRST_STANDARD_PARALLEL = "N/A"
  LINE_FIRST_PIXEL = 1
  LINE_LAST_PIXEL = 12105
  LINE_PROJECTION_OFFSET = 93194.375
  MAP_PROJECTION_ROTATION = 0.0
  MAP_PROJECTION_TYPE = SINUSOIDAL
  MAP_RESOLUTION = 1185.42760773333
  MAP_SCALE = 0.05
  MAXIMUM_LATITUDE = 78.54730000000001
  MINIMUM_LATITUDE = 68.4302
  POSITIVE_LONGITUDE_DIRECTION = EAST
  REFERENCE_LATITUDE = "N/A"
  REFERENCE_LONGITUDE = "N/A"
  SAMPLE_FIRST_PIXEL = 1
  SAMPLE_LAST_PIXEL = 3893
  SAMPLE_PROJECTION_OFFSET = 1891.125
  SECOND_STANDARD_PARALLEL = "N/A"
  WESTERNMOST_LONGITUDE = 47.1949
END_OBJECT = IMAGE_MAP_PROJECTION
END
