PDS_VERSION_ID = PDS3
/* FILE DATA ELEMENTS */
RECORD_TYPE = UNDEFINED
/* POINTERS TO DATA OBJECTS */
^IMAGE = ("H5496_0000_RE4.TIF")
/* IDENTIFICATION DATA ELEMENTS */
DATA_SET_ID = "MEX-M-HRSC-4-REFDR-MAPPROJECT-EXT2-V4.0"
DATA_SET_NAME = "MARS EXPRESS HRSC MAP PROJECTED REFDR EXTENSION2 V4.0"
DETECTOR_ID = MEX_HRSC_RED
EVENT_TYPE = "MARS-REGIONAL-MAPPING-Gl-La"
INSTRUMENT_HOST_ID = MEX
INSTRUMENT_HOST_NAME = "MARS EXPRESS"
INSTRUMENT_ID = HRSC
INSTRUMENT_NAME = "HIGH RESOLUTION STEREO CAMERA"
MISSION_NAME = "MARS EXPRESS"
MISSION_PHASE_NAME = ME_Phase_12
PROCESSING_LEVEL_ID = 4
PRODUCT_CREATION_TIME = 2023-02-02T05:41:08.000Z
PRODUCT_ID = "H5496_0000_RE4.TIF"
RELEASE_ID = 0002
REVISION_ID = 0000
/* QUALITY DATA ELEMENTS */
DATA_QUALITY_ID = 1
DATA_QUALITY_DESC = "Data calculated based on original SPICE kernels"
/* TIME DATA ELEMENTS */
SPACECRAFT_CLOCK_START_COUNT = "1/0156118677.07292"
SPACECRAFT_CLOCK_STOP_COUNT = "1/0156118927.31725"
START_TIME = 2008-04-12T22:19:33.632Z
STOP_TIME = 2008-04-12T22:22:02.849Z
/* ORBITAL DATA ELEMENTS */
ASCENDING_NODE_LONGITUDE = 113.96
MAXIMUM_RESOLUTION = 0.0681
FOOTPRINT_POINT_LATITUDE = (84.3783,84.191,84.0377,83.8984,83.7867 ,83.6431,83.5218,83.5123,83.3907, 83.5571,83.7971,83.9535,84.1071,84.3303 ,84.4716,84.6111,84.7452,84.8744, 84.9981,85.1142,85.2254,85.3305,85.476, 85.5644,85.644,85.7162,85.7803,85.8362, 85.8835,85.9379,85.9629,85.9784,85.9851 ,85.9828,85.9714,85.951,85.9225,85.8857 ,85.8156,85.7282,85.6609,85.5866, 85.5073,85.2854,85.1365,84.9218,84.6932 ,84.393,84.1404,84.0754,84.0158,84.1596 ,84.2761,84.4202,84.5347,84.6752, 84.8297,84.8358,84.8389,85.0725,85.4483 ,85.8136,86.1004,86.3071,86.5689,86.868 ,86.9774,87.1277,87.2172,87.333,87.4246 ,87.4699,87.502,87.5198,87.523,87.5008, 87.4681,87.4208,87.3242,87.2443,87.1533 ,87.0523,86.9416,86.8207,86.6921, 86.5566,86.4145,86.2683,86.1158,85.9568 ,85.7931,85.6276,85.3701,85.1955, 85.0161,84.8319,84.6501,84.4661,84.3716 ,84.3783)
FOOTPRINT_POINT_LONGITUDE = (354.459,358.099,360.637,362.688,364.19 ,365.966,367.353,367.457,367.127, 368.254,370.023,371.28,372.607,374.723, 376.2,377.767,379.409,381.136,382.944, 384.804,386.76,388.806,392.045,394.319, 396.631,399.026,401.497,404.037,406.639 ,410.626,413.3,415.984,418.689,421.4, 424.104,426.788,429.383,431.924,435.643 ,439.226,441.529,443.758,445.874, 450.793,453.522,456.895,459.948,463.346 ,465.791,466.374,466.892,468.595, 470.039,471.984,473.689,475.936,478.83, 478.96,478.998,477.516,474.726,471.427, 468.275,465.591,461.519,455.491,452.716 ,448.162,444.862,439.52,433.718,429.602 ,425.327,420.968,416.572,410.0,405.719, 401.521,395.499,391.741,388.222,384.929 ,381.833,378.943,376.26,373.778,371.468 ,369.372,367.414,365.578,363.868, 362.315,360.139,358.846,357.619,356.445 ,355.401,354.421,353.945,354.459)
ORBIT_NUMBER = 5496
ORBITAL_ECCENTRICITY = 0.568
ORBITAL_INCLINATION = 86.74
ORBITAL_SEMIMAJOR_AXIS = 8646.93
PERIAPSIS_ALTITUDE = 354.84
PERIAPSIS_ARGUMENT_ANGLE = 111.47
PERIAPSIS_TIME = 2008-04-12T22:25:54.000Z
SPACECRAFT_ORIENTATION = (0.0,-1.0,0.0)
^MEX_ORIENTATION_DESC = "MEX_ORIENTATION_DESC.TXT"
SPACECRAFT_POINTING_MODE = NADIR
^MEX_POINTING_DESC = "MEX_POINTING_DESC.TXT"
RIGHT_ASCENSION = -1e+32
DECLINATION = -1e+32
OFFSET_ANGLE = -1e+32
SPACECRAFT_SOLAR_DISTANCE = 2.48548e+08
TARGET_NAME = MARS
/* CAMERA DATA ELEMENTS */
DETECTOR_TEMPERATURE = 18.5744
FOCAL_PLANE_TEMPERATURE = 7.9716
INST_CMPRS_NAME = "DISCRETE COSINE TRANSFORMATION (DCT)"
INST_CMPRS_RATIO = 18.5918
INST_CMPRS_QUALITY = 0
INST_CMPRS_QUANTZ_TBL_ID = 0
INSTRUMENT_TEMPERATURE = 11.234
LENS_TEMPERATURE = 8.3794
MACROPIXEL_SIZE = 4
MISSING_FRAMES = 0
PIXEL_SUBSAMPLING_FLAG = N
SIGNAL_CHAIN_ID = 2
/* RADIOMETRIC DATA ELEMENTS */
BANDWIDTH = 48.0
CENTER_FILTER_WAVELENGTH = 748.0
RADIANCE_OFFSET = 0.570867
RADIANCE_SCALING_FACTOR = 0.00907057
REFLECTANCE_SCALING_FACTOR = 0.00127873
MEX:REFLECTANCE_OFFSET = 0.0804785
/* IMAGE OBJECT DEFINITIONS */
OBJECT = IMAGE
  INTERCHANGE_FORMAT = BINARY
  LINES = 10792
  LINE_SAMPLES = 7628
  SAMPLE_TYPE = UNSIGNED_INTEGER
  SAMPLE_BITS = 8
  BANDS = 1
  BAND_STORAGE_TYPE = BAND_SEQUENTIAL
  MAXIMUM = 255
  MEAN = 141.098
  MINIMUM = 1
  STANDARD_DEVIATION = 33.0195
END_OBJECT = IMAGE
/* MAP OBJECT DEFINITIONS */
OBJECT = IMAGE_MAP_PROJECTION
  ^DATA_SET_MAP_PROJECTION_CATALOG= "DSMAP.CAT"
  A_AXIS_RADIUS = 3396.0
  B_AXIS_RADIUS = 3396.0
  C_AXIS_RADIUS = 3396.0
  CENTER_LATITUDE = 90.0
  CENTER_LONGITUDE = 0.0
  COORDINATE_SYSTEM_NAME = PLANETOGRAPHIC
  COORDINATE_SYSTEM_TYPE = "BODY-FIXED ROTATING"
  EASTERNMOST_LONGITUDE = 118.998
  FIRST_STANDARD_PARALLEL = "N/A"
  LINE_FIRST_PIXEL = 1
  LINE_LAST_PIXEL = 10792
  LINE_PROJECTION_OFFSET = 2986.625
  MAP_PROJECTION_ROTATION = 0.0
  MAP_PROJECTION_TYPE = STEREOGRAPHIC
  MAP_RESOLUTION = 1185.42760773333
  MAP_SCALE = 0.05
  MAXIMUM_LATITUDE = 87.523
  MINIMUM_LATITUDE = 83.3907
  POSITIVE_LONGITUDE_DIRECTION = EAST
  REFERENCE_LATITUDE = "N/A"
  REFERENCE_LONGITUDE = "N/A"
  SAMPLE_FIRST_PIXEL = 1
  SAMPLE_LAST_PIXEL = 7628
  SAMPLE_PROJECTION_OFFSET = 797.125
  SECOND_STANDARD_PARALLEL = "N/A"
  WESTERNMOST_LONGITUDE = -6.055
END_OBJECT = IMAGE_MAP_PROJECTION
END
