PDS_VERSION_ID = PDS3
/* FILE DATA ELEMENTS */
RECORD_TYPE = UNDEFINED
/* POINTERS TO DATA OBJECTS */
^IMAGE = ("H5496_0000_ND4.TIF")
/* IDENTIFICATION DATA ELEMENTS */
DATA_SET_ID = "MEX-M-HRSC-4-REFDR-MAPPROJECT-EXT2-V4.0"
DATA_SET_NAME = "MARS EXPRESS HRSC MAP PROJECTED REFDR EXTENSION2 V4.0"
DETECTOR_ID = MEX_HRSC_NADIR
EVENT_TYPE = "MARS-REGIONAL-MAPPING-Gl-La"
INSTRUMENT_HOST_ID = MEX
INSTRUMENT_HOST_NAME = "MARS EXPRESS"
INSTRUMENT_ID = HRSC
INSTRUMENT_NAME = "HIGH RESOLUTION STEREO CAMERA"
MISSION_NAME = "MARS EXPRESS"
MISSION_PHASE_NAME = ME_Phase_12
PROCESSING_LEVEL_ID = 4
PRODUCT_CREATION_TIME = 2023-02-02T05:41:08.000Z
PRODUCT_ID = "H5496_0000_ND4.TIF"
RELEASE_ID = 0002
REVISION_ID = 0000
/* QUALITY DATA ELEMENTS */
DATA_QUALITY_ID = 1
DATA_QUALITY_DESC = "Data calculated based on original SPICE kernels"
/* TIME DATA ELEMENTS */
SPACECRAFT_CLOCK_START_COUNT = "1/0156118677.07292"
SPACECRAFT_CLOCK_STOP_COUNT = "1/0156118927.31725"
START_TIME = 2008-04-12T22:18:54.720Z
STOP_TIME = 2008-04-12T22:21:31.707Z
/* ORBITAL DATA ELEMENTS */
ASCENDING_NODE_LONGITUDE = 113.96
MAXIMUM_RESOLUTION = 0.0168
FOOTPRINT_POINT_LATITUDE = (84.2878,84.0361,83.9085,83.7362, 83.5327,83.4106,83.4002,83.3673,83.5325 ,83.7756,83.9339,84.0862,84.2351, 84.3807,84.5911,84.7238,84.8519,84.9751 ,85.1494,85.2565,85.3575,85.452,85.5395 ,85.6191,85.6902,85.7534,85.8082, 85.8545,85.8916,85.9197,85.9387,85.9485 ,85.9491,85.933,85.9115,85.8813,85.8426 ,85.7957,85.7409,85.6788,85.536,85.3676 ,85.2747,85.1258,84.9147,84.6864, 84.3178,84.0627,83.9972,83.987,84.1288, 84.3007,84.4893,84.6112,84.8284,84.8355 ,84.8392,85.0724,85.3795,85.684,85.9771 ,86.2582,86.463,86.5944,86.7207,86.8408 ,87.0594,87.1587,87.2495,87.3304, 87.3992,87.4564,87.4998,87.5397,87.5479 ,87.5413,87.5192,87.483,87.4011,87.3295 ,87.2459,87.1512,86.9898,86.8694, 86.7412,86.6063,86.4656,86.2403,86.0837 ,85.9232,85.7592,85.5033,85.3291, 85.1513,84.972,84.788,84.601,84.4126, 84.3179,84.2878)
FOOTPRINT_POINT_LONGITUDE = (353.631,358.49,360.559,363.053,365.652 ,367.066,367.182,367.511,368.634, 370.433,371.713,373.035,374.43,375.899, 378.24,379.876,381.6,383.413,386.295, 388.294,390.387,392.573,394.851,397.194 ,399.591,402.068,404.618,407.233, 409.879,412.532,415.218,417.926,420.644 ,424.693,427.318,429.911,432.463, 434.965,437.409,439.77,444.208,448.352, 450.31,453.091,456.468,459.564,463.724, 466.143,466.716,466.803,468.409,470.545 ,473.179,475.082,478.996,479.138, 479.205,477.743,475.532,472.982,470.038 ,466.657,463.721,461.561,459.233, 456.723,451.113,447.957,444.554,440.939 ,437.113,433.105,428.935,422.347, 417.853,413.36,408.926,404.595,398.296, 394.32,390.57,387.059,382.209,379.228, 376.478,373.943,371.604,368.393,366.456 ,364.669,363.02,360.751,359.35,358.085, 356.899,355.762,354.724,353.753,353.292 ,353.631)
ORBIT_NUMBER = 5496
ORBITAL_ECCENTRICITY = 0.568
ORBITAL_INCLINATION = 86.74
ORBITAL_SEMIMAJOR_AXIS = 8646.93
PERIAPSIS_ALTITUDE = 354.84
PERIAPSIS_ARGUMENT_ANGLE = 111.47
PERIAPSIS_TIME = 2008-04-12T22:25:54.000Z
SPACECRAFT_ORIENTATION = (0.0,-1.0,0.0)
^MEX_ORIENTATION_DESC = "MEX_ORIENTATION_DESC.TXT"
SPACECRAFT_POINTING_MODE = NADIR
^MEX_POINTING_DESC = "MEX_POINTING_DESC.TXT"
RIGHT_ASCENSION = -1e+32
DECLINATION = -1e+32
OFFSET_ANGLE = -1e+32
SPACECRAFT_SOLAR_DISTANCE = 2.48548e+08
TARGET_NAME = MARS
/* CAMERA DATA ELEMENTS */
DETECTOR_TEMPERATURE = 18.1666
FOCAL_PLANE_TEMPERATURE = 7.9716
INST_CMPRS_NAME = "DISCRETE COSINE TRANSFORMATION (DCT)"
INST_CMPRS_RATIO = 7.16196
INST_CMPRS_QUALITY = 0
INST_CMPRS_QUANTZ_TBL_ID = 0
INSTRUMENT_TEMPERATURE = 11.234
LENS_TEMPERATURE = 8.3794
MACROPIXEL_SIZE = 1
MISSING_FRAMES = 0
PIXEL_SUBSAMPLING_FLAG = N
SIGNAL_CHAIN_ID = 0
/* RADIOMETRIC DATA ELEMENTS */
BANDWIDTH = 177.0
CENTER_FILTER_WAVELENGTH = 677.5
RADIANCE_OFFSET = 1.76687
RADIANCE_SCALING_FACTOR = 0.0354364
REFLECTANCE_SCALING_FACTOR = 0.00116292
MEX:REFLECTANCE_OFFSET = 0.0579838
/* IMAGE OBJECT DEFINITIONS */
OBJECT = IMAGE
  INTERCHANGE_FORMAT = BINARY
  LINES = 43166
  LINE_SAMPLES = 30510
  SAMPLE_TYPE = UNSIGNED_INTEGER
  SAMPLE_BITS = 8
  BANDS = 1
  BAND_STORAGE_TYPE = BAND_SEQUENTIAL
  MAXIMUM = 255
  MEAN = 132.907
  MINIMUM = 1
  STANDARD_DEVIATION = 29.8815
END_OBJECT = IMAGE
/* MAP OBJECT DEFINITIONS */
OBJECT = IMAGE_MAP_PROJECTION
  ^DATA_SET_MAP_PROJECTION_CATALOG= "DSMAP.CAT"
  A_AXIS_RADIUS = 3396.0
  B_AXIS_RADIUS = 3396.0
  C_AXIS_RADIUS = 3396.0
  CENTER_LATITUDE = 90.0
  CENTER_LONGITUDE = 0.0
  COORDINATE_SYSTEM_NAME = PLANETOGRAPHIC
  COORDINATE_SYSTEM_TYPE = "BODY-FIXED ROTATING"
  EASTERNMOST_LONGITUDE = 119.205
  FIRST_STANDARD_PARALLEL = "N/A"
  LINE_FIRST_PIXEL = 1
  LINE_LAST_PIXEL = 43166
  LINE_PROJECTION_OFFSET = 11948.0
  MAP_PROJECTION_ROTATION = 0.0
  MAP_PROJECTION_TYPE = STEREOGRAPHIC
  MAP_RESOLUTION = 4741.71043093333
  MAP_SCALE = 0.0125
  MAXIMUM_LATITUDE = 87.5479
  MINIMUM_LATITUDE = 83.3673
  POSITIVE_LONGITUDE_DIRECTION = EAST
  REFERENCE_LATITUDE = "N/A"
  REFERENCE_LONGITUDE = "N/A"
  SAMPLE_FIRST_PIXEL = 1
  SAMPLE_LAST_PIXEL = 30510
  SAMPLE_PROJECTION_OFFSET = 3190.0
  SECOND_STANDARD_PARALLEL = "N/A"
  WESTERNMOST_LONGITUDE = -6.708
END_OBJECT = IMAGE_MAP_PROJECTION
END
