PDS_VERSION_ID = PDS3
/* FILE DATA ELEMENTS */
RECORD_TYPE = UNDEFINED
/* POINTERS TO DATA OBJECTS */
^IMAGE = ("H5486_0000_IR4.TIF")
/* IDENTIFICATION DATA ELEMENTS */
DATA_SET_ID = "MEX-M-HRSC-4-REFDR-MAPPROJECT-EXT2-V4.0"
DATA_SET_NAME = "MARS EXPRESS HRSC MAP PROJECTED REFDR EXTENSION2 V4.0"
DETECTOR_ID = MEX_HRSC_IR
EVENT_TYPE = "MARS-REGIONAL-MAPPING-Gl-Pf-Eo"
INSTRUMENT_HOST_ID = MEX
INSTRUMENT_HOST_NAME = "MARS EXPRESS"
INSTRUMENT_ID = HRSC
INSTRUMENT_NAME = "HIGH RESOLUTION STEREO CAMERA"
MISSION_NAME = "MARS EXPRESS"
MISSION_PHASE_NAME = ME_Phase_12
PROCESSING_LEVEL_ID = 4
PRODUCT_CREATION_TIME = 2023-02-02T05:41:08.000Z
PRODUCT_ID = "H5486_0000_IR4.TIF"
RELEASE_ID = 0002
REVISION_ID = 0000
/* QUALITY DATA ELEMENTS */
DATA_QUALITY_ID = 1
DATA_QUALITY_DESC = "Data calculated based on original SPICE kernels"
/* TIME DATA ELEMENTS */
SPACECRAFT_CLOCK_START_COUNT = "1/0155872624.08261"
SPACECRAFT_CLOCK_STOP_COUNT = "1/0155872860.64627"
START_TIME = 2008-04-10T01:57:14.473Z
STOP_TIME = 2008-04-10T02:00:03.838Z
/* ORBITAL DATA ELEMENTS */
ASCENDING_NODE_LONGITUDE = 114.15
MAXIMUM_RESOLUTION = 0.0598
FOOTPRINT_POINT_LATITUDE = (78.8065,78.7508,78.7121,78.6249, 78.5252,78.5219,78.4077,78.1903,77.9717 ,77.6433,77.4229,77.0918,76.7594, 76.5372,76.2027,75.9792,75.7552,75.5305 ,75.3055,74.967,74.6277,74.2873,74.06, 73.8322,73.6041,73.3755,73.1467,72.8348 ,72.4498,72.0635,71.6764,71.2885, 70.9965,70.8017,70.6073,70.4121,70.1191 ,69.9235,69.7278,69.532,69.3359,69.0415 ,68.8451,68.6483,68.353,68.0573,67.9586 ,67.9501,67.9802,67.9996,68.0238, 68.0382,68.055,68.0556,68.0567,68.2557, 68.4548,68.6535,68.8521,69.1498,69.348, 69.5463,69.7442,70.0411,70.2388,70.4364 ,70.6338,70.8313,71.0285,71.2253, 71.5203,71.7166,71.913,72.1091,72.5011, 72.7947,73.0881,73.4222,73.6546,74.0028 ,74.2347,74.4664,74.6978,74.9287, 75.2748,75.6202,75.965,76.1944,76.4236, 76.6524,76.8811,77.1092,77.3369,77.564, 77.791,78.1313,78.3572,78.5829,78.6958, 78.8065)
FOOTPRINT_POINT_LONGITUDE = (57.9048,56.254,55.2536,53.2917,51.381, 51.3221,51.4158,51.7454,52.0633,52.518, 52.8083,53.2242,53.6188,53.8707,54.233, 54.4646,54.6887,54.9057,55.1157,55.4185 ,55.7073,55.9831,56.16,56.3318,56.4984, 56.6603,56.8174,57.024,57.2677,57.5002, 57.7222,57.9342,58.0871,58.1862,58.2829 ,58.3777,58.516,58.6057,58.6935,58.7794 ,58.8635,58.9863,59.066,59.144,59.2581, 59.3687,59.4048,59.4079,60.1454,60.6736 ,61.4594,61.9989,62.7348,62.767,62.7776 ,62.7367,62.6947,62.6524,62.6094,62.543 ,62.4978,62.4512,62.4041,62.3312, 62.2812,62.2302,62.1783,62.1247,62.0704 ,62.0153,61.9303,61.8727,61.8129,61.752 ,61.6256,61.5269,61.424,61.3028,61.2159 ,61.0806,60.9866,60.8896,60.7898, 60.6876,60.5272,60.3592,60.1826,60.0602 ,59.9332,59.802,59.6658,59.5255,59.3801 ,59.2308,59.0749,58.828,58.6571,58.4793 ,58.3866,57.9048)
ORBIT_NUMBER = 5486
ORBITAL_ECCENTRICITY = 0.569
ORBITAL_INCLINATION = 86.76
ORBITAL_SEMIMAJOR_AXIS = 8650.5
PERIAPSIS_ALTITUDE = 352.99
PERIAPSIS_ARGUMENT_ANGLE = 113.22
PERIAPSIS_TIME = 2008-04-10T02:00:51.000Z
SPACECRAFT_ORIENTATION = (0.0,-1.0,0.0)
^MEX_ORIENTATION_DESC = "MEX_ORIENTATION_DESC.TXT"
SPACECRAFT_POINTING_MODE = ACROSSTRACK
^MEX_POINTING_DESC = "MEX_POINTING_DESC.TXT"
RIGHT_ASCENSION = -1e+32
DECLINATION = -1e+32
OFFSET_ANGLE = 0.458
SPACECRAFT_SOLAR_DISTANCE = 2.48415e+08
TARGET_NAME = MARS
/* CAMERA DATA ELEMENTS */
DETECTOR_TEMPERATURE = 17.1471
FOCAL_PLANE_TEMPERATURE = 7.7677
INST_CMPRS_NAME = "DISCRETE COSINE TRANSFORMATION (DCT)"
INST_CMPRS_RATIO = 17.4264
INST_CMPRS_QUALITY = 0
INST_CMPRS_QUANTZ_TBL_ID = 0
INSTRUMENT_TEMPERATURE = 10.8262
LENS_TEMPERATURE = 8.1755
MACROPIXEL_SIZE = 4
MISSING_FRAMES = 0
PIXEL_SUBSAMPLING_FLAG = N
SIGNAL_CHAIN_ID = 2
/* RADIOMETRIC DATA ELEMENTS */
BANDWIDTH = 81.0
CENTER_FILTER_WAVELENGTH = 955.5
RADIANCE_OFFSET = 1.37517
RADIANCE_SCALING_FACTOR = 0.00580767
REFLECTANCE_SCALING_FACTOR = 0.000773187
MEX:REFLECTANCE_OFFSET = 0.18308
/* IMAGE OBJECT DEFINITIONS */
OBJECT = IMAGE
  INTERCHANGE_FORMAT = BINARY
  LINES = 12801
  LINE_SAMPLES = 3456
  SAMPLE_TYPE = UNSIGNED_INTEGER
  SAMPLE_BITS = 8
  BANDS = 1
  BAND_STORAGE_TYPE = BAND_SEQUENTIAL
  MAXIMUM = 255
  MEAN = 123.342
  MINIMUM = 1
  STANDARD_DEVIATION = 61.1937
END_OBJECT = IMAGE
/* MAP OBJECT DEFINITIONS */
OBJECT = IMAGE_MAP_PROJECTION
  ^DATA_SET_MAP_PROJECTION_CATALOG= "DSMAP.CAT"
  A_AXIS_RADIUS = 3396.0
  B_AXIS_RADIUS = 3396.0
  C_AXIS_RADIUS = 3396.0
  CENTER_LATITUDE = 0.0
  CENTER_LONGITUDE = 59.0
  COORDINATE_SYSTEM_NAME = PLANETOGRAPHIC
  COORDINATE_SYSTEM_TYPE = "BODY-FIXED ROTATING"
  EASTERNMOST_LONGITUDE = 62.7776
  FIRST_STANDARD_PARALLEL = "N/A"
  LINE_FIRST_PIXEL = 1
  LINE_LAST_PIXEL = 12801
  LINE_PROJECTION_OFFSET = 93338.125
  MAP_PROJECTION_ROTATION = 0.0
  MAP_PROJECTION_TYPE = SINUSOIDAL
  MAP_RESOLUTION = 1185.42760773333
  MAP_SCALE = 0.05
  MAXIMUM_LATITUDE = 78.8065
  MINIMUM_LATITUDE = 67.95010000000001
  POSITIVE_LONGITUDE_DIRECTION = EAST
  REFERENCE_LATITUDE = "N/A"
  REFERENCE_LONGITUDE = "N/A"
  SAMPLE_FIRST_PIXEL = 1
  SAMPLE_LAST_PIXEL = 3456
  SAMPLE_PROJECTION_OFFSET = 1795.875
  SECOND_STANDARD_PARALLEL = "N/A"
  WESTERNMOST_LONGITUDE = 51.3221
END_OBJECT = IMAGE_MAP_PROJECTION
END
