PDS_VERSION_ID = PDS3
/* FILE DATA ELEMENTS */
RECORD_TYPE = UNDEFINED
/* POINTERS TO DATA OBJECTS */
^IMAGE = ("H5485_0000_IR4.TIF")
/* IDENTIFICATION DATA ELEMENTS */
DATA_SET_ID = "MEX-M-HRSC-4-REFDR-MAPPROJECT-EXT2-V4.0"
DATA_SET_NAME = "MARS EXPRESS HRSC MAP PROJECTED REFDR EXTENSION2 V4.0"
DETECTOR_ID = MEX_HRSC_IR
EVENT_TYPE = "MARS-REGIONAL-COLOR-Vo-Pf-Eo"
INSTRUMENT_HOST_ID = MEX
INSTRUMENT_HOST_NAME = "MARS EXPRESS"
INSTRUMENT_ID = HRSC
INSTRUMENT_NAME = "HIGH RESOLUTION STEREO CAMERA"
MISSION_NAME = "MARS EXPRESS"
MISSION_PHASE_NAME = ME_Phase_12
PROCESSING_LEVEL_ID = 4
PRODUCT_CREATION_TIME = 2023-02-02T05:41:08.000Z
PRODUCT_ID = "H5485_0000_IR4.TIF"
RELEASE_ID = 0002
REVISION_ID = 0000
/* QUALITY DATA ELEMENTS */
DATA_QUALITY_ID = 1
DATA_QUALITY_DESC = "Data calculated based on original SPICE kernels"
/* TIME DATA ELEMENTS */
SPACECRAFT_CLOCK_START_COUNT = "1/0155847886.09068"
SPACECRAFT_CLOCK_STOP_COUNT = "1/0155848116.50376"
START_TIME = 2008-04-09T19:04:57.483Z
STOP_TIME = 2008-04-09T19:07:35.630Z
/* ORBITAL DATA ELEMENTS */
ASCENDING_NODE_LONGITUDE = 114.17
MAXIMUM_RESOLUTION = 0.0642
FOOTPRINT_POINT_LATITUDE = (85.0686,84.9423,84.8532,84.7562,84.652 ,84.5411,84.4241,84.4166,84.3193, 84.0681,83.8997,83.7286,83.5572,83.3831 ,83.2089,83.036,82.8615,82.6857,82.5086 ,82.3302,82.1521,81.976,81.7988,81.6206 ,81.4416,81.2616,80.9913,80.8141, 80.6362,80.4576,80.2784,80.0985,79.9182 ,79.7373,79.3832,79.0272,78.6695, 78.4002,78.0392,77.6766,77.3127,76.9473 ,76.7641,76.5806,76.3047,76.1206, 75.9358,75.6584,75.4731,75.3803,75.2971 ,75.3276,75.3607,75.3974,75.4289, 75.4506,75.4514,75.4527,75.6421,75.8312 ,76.0201,76.2086,76.3971,76.5853, 76.7735,76.9615,77.1492,77.4305,77.6176 ,77.9912,78.4569,78.8284,79.1067, 79.4765,79.8454,80.1242,80.313,80.5014, 80.7838,80.9715,81.1588,81.3459,81.6321 ,81.8231,82.0137,82.2038,82.3936, 82.5829,82.8718,83.0647,83.2571,83.545, 83.7361,84.0274,84.2217,84.4152,84.6076 ,84.7982,84.8949,85.0686)
FOOTPRINT_POINT_LONGITUDE = (149.341,145.26,142.882,140.61,138.443, 136.379,134.413,134.294,134.973,136.641 ,137.665,138.637,139.548,140.417, 141.234,141.999,142.726,143.419,144.08, 144.71,145.307,145.868,146.405,146.92, 147.413,147.886,148.558,148.974,149.375 ,149.76,150.132,150.489,150.834,151.167 ,151.781,152.356,152.894,153.275, 153.756,154.209,154.634,155.036,155.228 ,155.414,155.685,155.858,156.028, 156.273,156.431,156.509,156.577,157.353 ,158.292,159.499,160.782,161.931, 161.984,162.001,161.927,161.851,161.773 ,161.693,161.611,161.527,161.439, 161.349,161.257,161.112,161.013,160.805 ,160.526,160.286,160.094,159.824, 159.534,159.3,159.132,158.959,158.683, 158.491,158.291,158.083,157.745,157.506 ,157.257,156.996,156.722,156.434, 155.965,155.63,155.275,154.702,154.292, 153.615,153.124,152.599,152.043,151.462 ,151.135,149.341)
ORBIT_NUMBER = 5485
ORBITAL_ECCENTRICITY = 0.568
ORBITAL_INCLINATION = 86.75
ORBITAL_SEMIMAJOR_AXIS = 8647.57
PERIAPSIS_ALTITUDE = 354.15
PERIAPSIS_ARGUMENT_ANGLE = 113.4
PERIAPSIS_TIME = 2008-04-09T19:10:23.000Z
SPACECRAFT_ORIENTATION = (0.0,-1.0,0.0)
^MEX_ORIENTATION_DESC = "MEX_ORIENTATION_DESC.TXT"
SPACECRAFT_POINTING_MODE = ACROSSTRACK
^MEX_POINTING_DESC = "MEX_POINTING_DESC.TXT"
RIGHT_ASCENSION = -1e+32
DECLINATION = -1e+32
OFFSET_ANGLE = 0.8
SPACECRAFT_SOLAR_DISTANCE = 2.48401e+08
TARGET_NAME = MARS
/* CAMERA DATA ELEMENTS */
DETECTOR_TEMPERATURE = 17.1471
FOCAL_PLANE_TEMPERATURE = 8.1755
INST_CMPRS_NAME = "DISCRETE COSINE TRANSFORMATION (DCT)"
INST_CMPRS_RATIO = 8.58457
INST_CMPRS_QUALITY = 0
INST_CMPRS_QUANTZ_TBL_ID = 0
INSTRUMENT_TEMPERATURE = 11.234
LENS_TEMPERATURE = 8.5833
MACROPIXEL_SIZE = 4
MISSING_FRAMES = 0
PIXEL_SUBSAMPLING_FLAG = N
SIGNAL_CHAIN_ID = 2
/* RADIOMETRIC DATA ELEMENTS */
BANDWIDTH = 81.0
CENTER_FILTER_WAVELENGTH = 955.5
RADIANCE_OFFSET = 1.34194
RADIANCE_SCALING_FACTOR = 0.00635888
REFLECTANCE_SCALING_FACTOR = 0.000846476
MEX:REFLECTANCE_OFFSET = 0.178636
/* IMAGE OBJECT DEFINITIONS */
OBJECT = IMAGE
  INTERCHANGE_FORMAT = BINARY
  LINES = 11530
  LINE_SAMPLES = 4368
  SAMPLE_TYPE = UNSIGNED_INTEGER
  SAMPLE_BITS = 8
  BANDS = 1
  BAND_STORAGE_TYPE = BAND_SEQUENTIAL
  MAXIMUM = 255
  MEAN = 143.41
  MINIMUM = 1
  STANDARD_DEVIATION = 50.3085
END_OBJECT = IMAGE
/* MAP OBJECT DEFINITIONS */
OBJECT = IMAGE_MAP_PROJECTION
  ^DATA_SET_MAP_PROJECTION_CATALOG= "DSMAP.CAT"
  A_AXIS_RADIUS = 3396.0
  B_AXIS_RADIUS = 3396.0
  C_AXIS_RADIUS = 3396.0
  CENTER_LATITUDE = 0.0
  CENTER_LONGITUDE = 155.0
  COORDINATE_SYSTEM_NAME = PLANETOGRAPHIC
  COORDINATE_SYSTEM_TYPE = "BODY-FIXED ROTATING"
  EASTERNMOST_LONGITUDE = 162.001
  FIRST_STANDARD_PARALLEL = "N/A"
  LINE_FIRST_PIXEL = 1
  LINE_LAST_PIXEL = 11530
  LINE_PROJECTION_OFFSET = 100772.375
  MAP_PROJECTION_ROTATION = 0.0
  MAP_PROJECTION_TYPE = SINUSOIDAL
  MAP_RESOLUTION = 1185.42760773333
  MAP_SCALE = 0.05
  MAXIMUM_LATITUDE = 85.0686
  MINIMUM_LATITUDE = 75.2971
  POSITIVE_LONGITUDE_DIRECTION = EAST
  REFERENCE_LATITUDE = "N/A"
  REFERENCE_LONGITUDE = "N/A"
  SAMPLE_FIRST_PIXEL = 1
  SAMPLE_LAST_PIXEL = 4368
  SAMPLE_PROJECTION_OFFSET = 2311.125
  SECOND_STANDARD_PARALLEL = "N/A"
  WESTERNMOST_LONGITUDE = 134.294
END_OBJECT = IMAGE_MAP_PROJECTION
END
