PDS_VERSION_ID = PDS3
/* FILE DATA ELEMENTS */
RECORD_TYPE = UNDEFINED
/* POINTERS TO DATA OBJECTS */
^IMAGE = ("H5480_0000_ND4.TIF")
/* IDENTIFICATION DATA ELEMENTS */
DATA_SET_ID = "MEX-M-HRSC-4-REFDR-MAPPROJECT-EXT2-V4.0"
DATA_SET_NAME = "MARS EXPRESS HRSC MAP PROJECTED REFDR EXTENSION2 V4.0"
DETECTOR_ID = MEX_HRSC_NADIR
EVENT_TYPE = "MARS-REGIONAL-MAPPING-Gl-La-Ts"
INSTRUMENT_HOST_ID = MEX
INSTRUMENT_HOST_NAME = "MARS EXPRESS"
INSTRUMENT_ID = HRSC
INSTRUMENT_NAME = "HIGH RESOLUTION STEREO CAMERA"
MISSION_NAME = "MARS EXPRESS"
MISSION_PHASE_NAME = ME_Phase_12
PROCESSING_LEVEL_ID = 4
PRODUCT_CREATION_TIME = 2023-02-02T05:41:08.000Z
PRODUCT_ID = "H5480_0000_ND4.TIF"
RELEASE_ID = 0002
REVISION_ID = 0000
/* QUALITY DATA ELEMENTS */
DATA_QUALITY_ID = 1
DATA_QUALITY_DESC = "Data calculated based on original SPICE kernels"
/* TIME DATA ELEMENTS */
SPACECRAFT_CLOCK_START_COUNT = "1/0155724570.09051"
SPACECRAFT_CLOCK_STOP_COUNT = "1/0155724796.09268"
START_TIME = 2008-04-08T08:50:30.644Z
STOP_TIME = 2008-04-08T08:52:37.630Z
/* ORBITAL DATA ELEMENTS */
ASCENDING_NODE_LONGITUDE = 114.28
MAXIMUM_RESOLUTION = 0.0177
FOOTPRINT_POINT_LATITUDE = (86.2537,86.1298,86.0111,85.8775,85.731 ,85.5733,85.4058,85.3951,85.3985, 85.5277,85.6542,85.7784,85.9593,86.129, 86.2382,86.3435,86.4445,86.5849,86.6717 ,86.753,86.8637,86.9289,86.9862,87.0362 ,87.0787,87.113,87.1391,87.1567,87.1655 ,87.1659,87.1578,87.1413,87.1166, 87.0838,87.0442,86.9973,86.9435,86.8831 ,86.8164,86.7058,86.5438,86.3641, 86.0671,85.8583,85.6394,85.4118,85.2363 ,85.0611,85.002,84.9826,85.1125,85.1976 ,85.2784,85.3884,85.5288,85.6445, 85.6489,85.6513,85.9293,86.1405,86.4218 ,86.7002,86.9753,87.3879,87.6562, 87.9157,88.1056,88.228,88.3452,88.4562, 88.5596,88.6536,88.7374,88.8076,88.8606 ,88.8947,88.9073,88.8977,88.8665, 88.8149,88.7462,88.6615,88.5645,88.4575 ,88.2793,88.1524,88.0211,87.8857, 87.7473,87.6036,87.4572,87.3089,87.1599 ,87.0094,86.8553,86.6991,86.5423, 86.3848,86.3061,86.2537)
FOOTPRINT_POINT_LONGITUDE = (147.195,152.36,156.186,159.735,163.011 ,166.03,168.809,168.975,168.879,170.169 ,171.545,173.0,175.335,177.861,179.664, 181.576,183.601,186.82,189.096,191.494, 195.317,198.015,200.765,203.619,206.565 ,209.594,212.689,215.82,218.928,222.049 ,225.165,228.256,231.305,234.286, 237.141,239.916,242.601,245.189,247.675 ,251.193,255.438,259.287,264.362, 267.268,269.891,272.259,273.883,275.358 ,275.827,275.978,278.383,280.131, 281.948,284.736,289.048,293.708,293.919 ,294.022,293.015,292.124,290.804, 289.251,287.408,283.837,280.773,276.936 ,273.32,270.473,267.215,263.478,259.189 ,254.271,248.578,242.107,234.938, 227.211,219.157,211.088,203.207,195.823 ,189.141,183.258,178.129,173.684, 168.013,164.859,162.103,159.705,157.599 ,155.714,154.047,152.566,151.202,149.99 ,148.904,147.925,147.026,146.208, 145.814,147.195)
ORBIT_NUMBER = 5480
ORBITAL_ECCENTRICITY = 0.568
ORBITAL_INCLINATION = 86.75
ORBITAL_SEMIMAJOR_AXIS = 8648.37
PERIAPSIS_ALTITUDE = 353.22
PERIAPSIS_ARGUMENT_ANGLE = 114.29
PERIAPSIS_TIME = 2008-04-08T08:57:50.000Z
SPACECRAFT_ORIENTATION = (0.0,-1.0,0.0)
^MEX_ORIENTATION_DESC = "MEX_ORIENTATION_DESC.TXT"
SPACECRAFT_POINTING_MODE = ACROSSTRACK
^MEX_POINTING_DESC = "MEX_POINTING_DESC.TXT"
RIGHT_ASCENSION = -1e+32
DECLINATION = -1e+32
OFFSET_ANGLE = 1.2
SPACECRAFT_SOLAR_DISTANCE = 2.48329e+08
TARGET_NAME = MARS
/* CAMERA DATA ELEMENTS */
DETECTOR_TEMPERATURE = 17.9627
FOCAL_PLANE_TEMPERATURE = 7.7677
INST_CMPRS_NAME = "DISCRETE COSINE TRANSFORMATION (DCT)"
INST_CMPRS_RATIO = 6.86707
INST_CMPRS_QUALITY = 0
INST_CMPRS_QUANTZ_TBL_ID = 0
INSTRUMENT_TEMPERATURE = 11.0301
LENS_TEMPERATURE = 8.1755
MACROPIXEL_SIZE = 1
MISSING_FRAMES = 0
PIXEL_SUBSAMPLING_FLAG = N
SIGNAL_CHAIN_ID = 0
/* RADIOMETRIC DATA ELEMENTS */
BANDWIDTH = 177.0
CENTER_FILTER_WAVELENGTH = 677.5
RADIANCE_OFFSET = 3.23198
RADIANCE_SCALING_FACTOR = 0.0264839
REFLECTANCE_SCALING_FACTOR = 0.000867605
MEX:REFLECTANCE_OFFSET = 0.105879
/* IMAGE OBJECT DEFINITIONS */
OBJECT = IMAGE
  INTERCHANGE_FORMAT = BINARY
  LINES = 29825
  LINE_SAMPLES = 33625
  SAMPLE_TYPE = UNSIGNED_INTEGER
  SAMPLE_BITS = 8
  BANDS = 1
  BAND_STORAGE_TYPE = BAND_SEQUENTIAL
  MAXIMUM = 255
  MEAN = 134.222
  MINIMUM = 1
  STANDARD_DEVIATION = 33.9959
END_OBJECT = IMAGE
/* MAP OBJECT DEFINITIONS */
OBJECT = IMAGE_MAP_PROJECTION
  ^DATA_SET_MAP_PROJECTION_CATALOG= "DSMAP.CAT"
  A_AXIS_RADIUS = 3396.0
  B_AXIS_RADIUS = 3396.0
  C_AXIS_RADIUS = 3396.0
  CENTER_LATITUDE = 90.0
  CENTER_LONGITUDE = 0.0
  COORDINATE_SYSTEM_NAME = PLANETOGRAPHIC
  COORDINATE_SYSTEM_TYPE = "BODY-FIXED ROTATING"
  EASTERNMOST_LONGITUDE = 294.022
  FIRST_STANDARD_PARALLEL = "N/A"
  LINE_FIRST_PIXEL = 1
  LINE_LAST_PIXEL = 29825
  LINE_PROJECTION_OFFSET = 21421.0
  MAP_PROJECTION_ROTATION = 0.0
  MAP_PROJECTION_TYPE = STEREOGRAPHIC
  MAP_RESOLUTION = 4741.71043093333
  MAP_SCALE = 0.0125
  MAXIMUM_LATITUDE = 88.90730000000001
  MINIMUM_LATITUDE = 84.98260000000001
  POSITIVE_LONGITUDE_DIRECTION = EAST
  REFERENCE_LATITUDE = "N/A"
  REFERENCE_LONGITUDE = "N/A"
  SAMPLE_FIRST_PIXEL = 1
  SAMPLE_LAST_PIXEL = 33625
  SAMPLE_PROJECTION_OFFSET = 23675.0
  SECOND_STANDARD_PARALLEL = "N/A"
  WESTERNMOST_LONGITUDE = 145.814
END_OBJECT = IMAGE_MAP_PROJECTION
END
