PDS_VERSION_ID = PDS3
/* FILE DATA ELEMENTS */
RECORD_TYPE = UNDEFINED
/* POINTERS TO DATA OBJECTS */
^IMAGE = ("H5465_0000_ND4.TIF")
/* IDENTIFICATION DATA ELEMENTS */
DATA_SET_ID = "MEX-M-HRSC-4-REFDR-MAPPROJECT-EXT2-V4.0"
DATA_SET_NAME = "MARS EXPRESS HRSC MAP PROJECTED REFDR EXTENSION2 V4.0"
DETECTOR_ID = MEX_HRSC_NADIR
EVENT_TYPE = "MARS-REGIONAL-MAPPING-Te-Im-Pf"
INSTRUMENT_HOST_ID = MEX
INSTRUMENT_HOST_NAME = "MARS EXPRESS"
INSTRUMENT_ID = HRSC
INSTRUMENT_NAME = "HIGH RESOLUTION STEREO CAMERA"
MISSION_NAME = "MARS EXPRESS"
MISSION_PHASE_NAME = ME_Phase_11
PROCESSING_LEVEL_ID = 4
PRODUCT_CREATION_TIME = 2023-02-02T05:41:08.000Z
PRODUCT_ID = "H5465_0000_ND4.TIF"
RELEASE_ID = 0002
REVISION_ID = 0000
/* QUALITY DATA ELEMENTS */
DATA_QUALITY_ID = 1
DATA_QUALITY_DESC = "Data calculated based on original SPICE kernels"
/* TIME DATA ELEMENTS */
SPACECRAFT_CLOCK_START_COUNT = "1/0155355474.09082"
SPACECRAFT_CLOCK_STOP_COUNT = "1/0155355720.58262"
START_TIME = 2008-04-04T02:18:31.625Z
STOP_TIME = 2008-04-04T02:21:29.610Z
/* ORBITAL DATA ELEMENTS */
ASCENDING_NODE_LONGITUDE = 114.58
MAXIMUM_RESOLUTION = 0.0128
FOOTPRINT_POINT_LATITUDE = (69.506,69.4551,69.3955,69.3175,69.3152 ,69.3037,68.8533,68.4022,67.9503, 67.4979,67.0448,66.5911,66.137,65.9097, 65.6824,65.4549,65.2273,64.9996,64.7718 ,64.5439,64.3159,63.9737,63.7456, 63.5173,63.2891,63.0607,62.845,62.4897, 62.2611,62.0325,61.8039,61.5752,61.3466 ,61.1179,60.8891,60.6603,60.3172, 60.0884,59.8596,59.6308,59.402,58.9444, 58.4868,58.0293,57.915,57.9103,57.9404, 57.9781,58.0175,58.0183,58.019,58.2489, 58.4788,58.7088,58.9388,59.1688,59.3989 ,59.629,59.8591,60.0893,60.3195,60.5497 ,60.7799,61.0101,61.2403,61.4705, 61.7008,61.931,62.1612,62.5065,62.8518, 63.0819,63.4272,63.6573,63.8873,64.1174 ,64.3474,64.5773,64.8073,65.0371,65.267 ,65.4967,65.7264,65.9561,66.1857, 66.4152,66.6447,66.874,67.1033,67.3326, 67.5617,67.7907,68.0197,68.2485,68.4773 ,68.7059,68.9345,69.3912,69.5053, 69.506)
FOOTPRINT_POINT_LONGITUDE = (361.014,359.978,358.904,357.655, 357.621,357.418,357.664,357.899,358.122 ,358.336,358.541,358.736,358.923, 359.013,359.102,359.188,359.273,359.356 ,359.437,359.516,359.594,359.705, 359.779,359.851,359.922,359.991,360.349 ,360.161,360.225,360.288,360.35,360.411 ,360.47,360.529,360.586,360.641,360.723 ,360.777,360.829,360.88,360.93,361.028, 361.121,361.211,361.233,361.234,361.804 ,362.604,363.583,363.607,363.618, 363.586,363.554,363.522,363.489,363.455 ,363.421,363.386,363.35,363.314,363.277 ,363.24,363.202,363.163,363.124,363.083 ,363.043,363.001,362.959,362.894, 362.827,362.781,362.711,362.663,362.615 ,362.565,362.514,362.463,362.41,362.356 ,362.302,362.246,362.189,362.131, 362.071,362.011,361.949,361.885,361.821 ,361.755,361.688,361.619,361.549, 361.477,361.403,361.328,361.252,361.093 ,361.052,361.014)
ORBIT_NUMBER = 5465
ORBITAL_ECCENTRICITY = 0.569
ORBITAL_INCLINATION = 86.75
ORBITAL_SEMIMAJOR_AXIS = 8652.76
PERIAPSIS_ALTITUDE = 352.17
PERIAPSIS_ARGUMENT_ANGLE = 116.88
PERIAPSIS_TIME = 2008-04-04T02:20:13.000Z
SPACECRAFT_ORIENTATION = (0.0,-1.0,0.0)
^MEX_ORIENTATION_DESC = "MEX_ORIENTATION_DESC.TXT"
SPACECRAFT_POINTING_MODE = ACROSSTRACK
^MEX_POINTING_DESC = "MEX_POINTING_DESC.TXT"
RIGHT_ASCENSION = -1e+32
DECLINATION = -1e+32
OFFSET_ANGLE = -0.4
SPACECRAFT_SOLAR_DISTANCE = 2.48097e+08
TARGET_NAME = MARS
/* CAMERA DATA ELEMENTS */
DETECTOR_TEMPERATURE = 17.9627
FOCAL_PLANE_TEMPERATURE = 8.1755
INST_CMPRS_NAME = "DISCRETE COSINE TRANSFORMATION (DCT)"
INST_CMPRS_RATIO = 6.78006
INST_CMPRS_QUALITY = 0
INST_CMPRS_QUANTZ_TBL_ID = 0
INSTRUMENT_TEMPERATURE = 11.0301
LENS_TEMPERATURE = 8.3794
MACROPIXEL_SIZE = 1
MISSING_FRAMES = 0
PIXEL_SUBSAMPLING_FLAG = N
SIGNAL_CHAIN_ID = 0
/* RADIOMETRIC DATA ELEMENTS */
BANDWIDTH = 177.0
CENTER_FILTER_WAVELENGTH = 677.5
RADIANCE_OFFSET = 3.85115
RADIANCE_SCALING_FACTOR = 0.0189468
REFLECTANCE_SCALING_FACTOR = 0.000619533
MEX:REFLECTANCE_OFFSET = 0.125927
/* IMAGE OBJECT DEFINITIONS */
OBJECT = IMAGE
  INTERCHANGE_FORMAT = BINARY
  LINES = 55002
  LINE_SAMPLES = 12578
  SAMPLE_TYPE = UNSIGNED_INTEGER
  SAMPLE_BITS = 8
  BANDS = 1
  BAND_STORAGE_TYPE = BAND_SEQUENTIAL
  MAXIMUM = 255
  MEAN = 117.073
  MINIMUM = 1
  STANDARD_DEVIATION = 30.0704
END_OBJECT = IMAGE
/* MAP OBJECT DEFINITIONS */
OBJECT = IMAGE_MAP_PROJECTION
  ^DATA_SET_MAP_PROJECTION_CATALOG= "DSMAP.CAT"
  A_AXIS_RADIUS = 3396.0
  B_AXIS_RADIUS = 3396.0
  C_AXIS_RADIUS = 3396.0
  CENTER_LATITUDE = 0.0
  CENTER_LONGITUDE = 1.0
  COORDINATE_SYSTEM_NAME = PLANETOGRAPHIC
  COORDINATE_SYSTEM_TYPE = "BODY-FIXED ROTATING"
  EASTERNMOST_LONGITUDE = 3.618
  FIRST_STANDARD_PARALLEL = "N/A"
  LINE_FIRST_PIXEL = 1
  LINE_LAST_PIXEL = 55002
  LINE_PROJECTION_OFFSET = 329596.0
  MAP_PROJECTION_ROTATION = 0.0
  MAP_PROJECTION_TYPE = SINUSOIDAL
  MAP_RESOLUTION = 4741.71043093333
  MAP_SCALE = 0.0125
  MAXIMUM_LATITUDE = 69.506
  MINIMUM_LATITUDE = 57.9103
  POSITIVE_LONGITUDE_DIRECTION = EAST
  REFERENCE_LATITUDE = "N/A"
  REFERENCE_LONGITUDE = "N/A"
  SAMPLE_FIRST_PIXEL = 1
  SAMPLE_LAST_PIXEL = 12578
  SAMPLE_PROJECTION_OFFSET = 6002.0
  SECOND_STANDARD_PARALLEL = "N/A"
  WESTERNMOST_LONGITUDE = -2.582
END_OBJECT = IMAGE_MAP_PROJECTION
END
