PDS_VERSION_ID = PDS3
/* FILE DATA ELEMENTS */
RECORD_TYPE = UNDEFINED
/* POINTERS TO DATA OBJECTS */
^IMAGE = ("H5464_0000_BL4.TIF")
/* IDENTIFICATION DATA ELEMENTS */
DATA_SET_ID = "MEX-M-HRSC-4-REFDR-MAPPROJECT-EXT2-V4.0"
DATA_SET_NAME = "MARS EXPRESS HRSC MAP PROJECTED REFDR EXTENSION2 V4.0"
DETECTOR_ID = MEX_HRSC_BLUE
EVENT_TYPE = "MARS-REGIONAL-MAPPING-Te-Im-Pf"
INSTRUMENT_HOST_ID = MEX
INSTRUMENT_HOST_NAME = "MARS EXPRESS"
INSTRUMENT_ID = HRSC
INSTRUMENT_NAME = "HIGH RESOLUTION STEREO CAMERA"
MISSION_NAME = "MARS EXPRESS"
MISSION_PHASE_NAME = ME_Phase_11
PROCESSING_LEVEL_ID = 4
PRODUCT_CREATION_TIME = 2023-02-02T05:41:08.000Z
PRODUCT_ID = "H5464_0000_BL4.TIF"
RELEASE_ID = 0002
REVISION_ID = 0000
/* QUALITY DATA ELEMENTS */
DATA_QUALITY_ID = 1
DATA_QUALITY_DESC = "Data calculated based on original SPICE kernels"
/* TIME DATA ELEMENTS */
SPACECRAFT_CLOCK_START_COUNT = "1/0155330901.07297"
SPACECRAFT_CLOCK_STOP_COUNT = "1/0155331152.32261"
START_TIME = 2008-04-03T19:29:02.468Z
STOP_TIME = 2008-04-03T19:32:05.840Z
/* ORBITAL DATA ELEMENTS */
ASCENDING_NODE_LONGITUDE = 114.6
MAXIMUM_RESOLUTION = 0.0566
FOOTPRINT_POINT_LATITUDE = (65.8858,65.8315,65.7923,65.7628, 65.7614,65.7794,65.4267,65.1916,64.9564 ,64.6034,64.3681,64.015,63.7795,63.5441 ,63.3086,63.073,62.8375,62.6019,62.2485 ,62.013,61.7774,61.5418,61.3062,61.0707 ,60.7174,60.4819,60.1286,59.8932, 59.6577,59.4224,59.187,58.9517,58.5989, 58.3637,58.1286,57.8936,57.6586,57.4237 ,57.1889,56.9541,56.7194,56.4848, 56.0158,55.5473,55.0791,54.6114,54.1441 ,54.0273,53.9749,54.0023,54.0247, 54.0461,54.0466,54.0476,54.5163,54.9855 ,55.4552,55.9254,56.1606,56.3959, 56.6314,56.8669,57.1025,57.3383,57.574, 57.8099,58.0459,58.282,58.5181,58.7543, 58.9906,59.2269,59.4633,59.6998,59.9363 ,60.1729,60.4096,60.6462,60.883,61.1198 ,61.3566,61.5934,61.8303,62.1857, 62.4226,62.7781,63.0151,63.2521,63.4891 ,63.7262,63.9632,64.2,64.4372,64.6742, 64.9112,65.1482,65.3852,65.7406,65.8591 ,65.8858)
FOOTPRINT_POINT_LONGITUDE = (103.672,102.282,101.437,100.858, 100.832,100.763,100.874,100.946,101.016 ,101.119,101.186,101.282,101.345, 101.407,101.467,101.526,101.583,101.639 ,101.721,101.774,101.827,101.877, 101.927,101.976,102.047,102.093,102.161 ,102.204,102.247,102.289,102.33,102.37, 102.429,102.467,102.504,102.541,102.576 ,102.611,102.645,102.679,102.712, 102.744,102.806,102.865,102.922,102.977 ,103.029,103.041,103.047,103.756, 104.429,105.21,105.231,105.238,105.202, 105.164,105.125,105.085,105.065,105.044 ,105.022,105.001,104.979,104.956, 104.933,104.91,104.886,104.862,104.838, 104.813,104.788,104.762,104.735,104.709 ,104.681,104.654,104.625,104.596, 104.567,104.537,104.507,104.476,104.444 ,104.395,104.362,104.311,104.276,104.24 ,104.204,104.167,104.129,104.09,104.051 ,104.011,103.97,103.928,103.885,103.819 ,103.797,103.672)
ORBIT_NUMBER = 5464
ORBITAL_ECCENTRICITY = 0.569
ORBITAL_INCLINATION = 86.75
ORBITAL_SEMIMAJOR_AXIS = 8656.34
PERIAPSIS_ALTITUDE = 351.12
PERIAPSIS_ARGUMENT_ANGLE = 117.06
PERIAPSIS_TIME = 2008-04-03T19:29:44.000Z
SPACECRAFT_ORIENTATION = (0.0,-1.0,0.0)
^MEX_ORIENTATION_DESC = "MEX_ORIENTATION_DESC.TXT"
SPACECRAFT_POINTING_MODE = ACROSSTRACK
^MEX_POINTING_DESC = "MEX_POINTING_DESC.TXT"
RIGHT_ASCENSION = -1e+32
DECLINATION = -1e+32
OFFSET_ANGLE = 0.2
SPACECRAFT_SOLAR_DISTANCE = 2.48081e+08
TARGET_NAME = MARS
/* CAMERA DATA ELEMENTS */
DETECTOR_TEMPERATURE = 18.1666
FOCAL_PLANE_TEMPERATURE = 7.9716
INST_CMPRS_NAME = "DISCRETE COSINE TRANSFORMATION (DCT)"
INST_CMPRS_RATIO = 12.3257
INST_CMPRS_QUALITY = 0
INST_CMPRS_QUANTZ_TBL_ID = 0
INSTRUMENT_TEMPERATURE = 11.234
LENS_TEMPERATURE = 8.7872
MACROPIXEL_SIZE = 4
MISSING_FRAMES = 0
PIXEL_SUBSAMPLING_FLAG = N
SIGNAL_CHAIN_ID = 2
/* RADIOMETRIC DATA ELEMENTS */
BANDWIDTH = 76.0
CENTER_FILTER_WAVELENGTH = 444.0
RADIANCE_OFFSET = 0.602618
RADIANCE_SCALING_FACTOR = 0.000996978
REFLECTANCE_SCALING_FACTOR = 6.30416e-05
MEX:REFLECTANCE_OFFSET = 0.0381052
/* IMAGE OBJECT DEFINITIONS */
OBJECT = IMAGE
  INTERCHANGE_FORMAT = BINARY
  LINES = 14139
  LINE_SAMPLES = 2652
  SAMPLE_TYPE = UNSIGNED_INTEGER
  SAMPLE_BITS = 8
  BANDS = 1
  BAND_STORAGE_TYPE = BAND_SEQUENTIAL
  MAXIMUM = 254
  MEAN = 123.218
  MINIMUM = 1
  STANDARD_DEVIATION = 29.6934
END_OBJECT = IMAGE
/* MAP OBJECT DEFINITIONS */
OBJECT = IMAGE_MAP_PROJECTION
  ^DATA_SET_MAP_PROJECTION_CATALOG= "DSMAP.CAT"
  A_AXIS_RADIUS = 3396.0
  B_AXIS_RADIUS = 3396.0
  C_AXIS_RADIUS = 3396.0
  CENTER_LATITUDE = 0.0
  CENTER_LONGITUDE = 103.0
  COORDINATE_SYSTEM_NAME = PLANETOGRAPHIC
  COORDINATE_SYSTEM_TYPE = "BODY-FIXED ROTATING"
  EASTERNMOST_LONGITUDE = 105.238
  FIRST_STANDARD_PARALLEL = "N/A"
  LINE_FIRST_PIXEL = 1
  LINE_LAST_PIXEL = 14139
  LINE_PROJECTION_OFFSET = 78127.375
  MAP_PROJECTION_ROTATION = 0.0
  MAP_PROJECTION_TYPE = SINUSOIDAL
  MAP_RESOLUTION = 1185.42760773333
  MAP_SCALE = 0.05
  MAXIMUM_LATITUDE = 65.8858
  MINIMUM_LATITUDE = 53.9749
  POSITIVE_LONGITUDE_DIRECTION = EAST
  REFERENCE_LATITUDE = "N/A"
  REFERENCE_LONGITUDE = "N/A"
  SAMPLE_FIRST_PIXEL = 1
  SAMPLE_LAST_PIXEL = 2652
  SAMPLE_PROJECTION_OFFSET = 1097.375
  SECOND_STANDARD_PARALLEL = "N/A"
  WESTERNMOST_LONGITUDE = 100.763
END_OBJECT = IMAGE_MAP_PROJECTION
END
