PDS_VERSION_ID = PDS3
/* FILE DATA ELEMENTS */
RECORD_TYPE = UNDEFINED
/* POINTERS TO DATA OBJECTS */
^IMAGE = ("H5463_0000_IR4.TIF")
/* IDENTIFICATION DATA ELEMENTS */
DATA_SET_ID = "MEX-M-HRSC-4-REFDR-MAPPROJECT-EXT2-V4.0"
DATA_SET_NAME = "MARS EXPRESS HRSC MAP PROJECTED REFDR EXTENSION2 V4.0"
DETECTOR_ID = MEX_HRSC_IR
EVENT_TYPE = "MARS-REGIONAL-MAPPING-Te-Im-Pf"
INSTRUMENT_HOST_ID = MEX
INSTRUMENT_HOST_NAME = "MARS EXPRESS"
INSTRUMENT_ID = HRSC
INSTRUMENT_NAME = "HIGH RESOLUTION STEREO CAMERA"
MISSION_NAME = "MARS EXPRESS"
MISSION_PHASE_NAME = ME_Phase_11
PROCESSING_LEVEL_ID = 4
PRODUCT_CREATION_TIME = 2023-02-02T05:41:08.000Z
PRODUCT_ID = "H5463_0000_IR4.TIF"
RELEASE_ID = 0002
REVISION_ID = 0000
/* QUALITY DATA ELEMENTS */
DATA_QUALITY_ID = 1
DATA_QUALITY_DESC = "Data calculated based on original SPICE kernels"
/* TIME DATA ELEMENTS */
SPACECRAFT_CLOCK_START_COUNT = "1/0155306183.08382"
SPACECRAFT_CLOCK_STOP_COUNT = "1/0155306456.14349"
START_TIME = 2008-04-03T12:36:32.989Z
STOP_TIME = 2008-04-03T12:39:58.921Z
/* ORBITAL DATA ELEMENTS */
ASCENDING_NODE_LONGITUDE = 114.61
MAXIMUM_RESOLUTION = 0.0591
FOOTPRINT_POINT_LATITUDE = (71.1055,71.0443,70.9759,70.913,70.9108 ,70.7941,70.4969,70.1988,69.9001, 69.4713,68.8427,68.3384,68.0818,67.6981 ,67.444,67.0627,66.808,66.5529,66.1697, 65.9138,65.5295,65.2733,65.0164,64.6311 ,64.2443,63.8573,63.5991,63.2111, 62.9524,62.6934,62.4342,62.1747,61.9151 ,61.6553,61.2647,61.004,60.7435,60.4829 ,60.2215,59.9604,59.5683,59.3068, 59.0452,58.7832,58.5213,58.1281,57.8658 ,57.7345,57.7191,57.7555,57.7879, 57.8125,57.8133,57.8143,58.078,58.3416, 58.6047,58.8681,59.2628,59.5258,59.7886 ,60.1827,60.4453,60.8387,61.2323, 61.6247,61.8865,62.2786,62.54,62.8009, 63.0618,63.453,63.7133,63.9732,64.2335, 64.6229,64.8825,65.1415,65.4001,65.6589 ,65.9184,66.1761,66.4343,66.6921, 66.9495,67.2073,67.4641,67.721,67.9776, 68.2337,68.4965,68.7522,69.0076,69.5175 ,69.7732,70.0764,70.3792,70.8328, 70.9839,71.1055)
FOOTPRINT_POINT_LONGITUDE = (201.848,200.461,199.154,198.101, 198.066,198.0,198.175,198.343,198.507, 198.731,199.043,199.278,199.389,199.557 ,199.663,199.817,199.917,200.014, 200.155,200.246,200.378,200.464,200.548 ,200.67,200.788,200.901,200.975,201.082 ,201.151,201.219,201.285,201.35,201.413 ,201.475,201.565,201.623,201.68,201.736 ,201.79,201.843,201.921,201.971,202.02, 202.068,202.116,202.184,202.229,202.251 ,202.253,203.01,203.813,204.553,204.574 ,204.581,204.553,204.524,204.494, 204.464,204.417,204.386,204.353,204.304 ,204.27,204.217,204.163,204.108,204.07, 204.012,203.972,203.931,203.89,203.826, 203.782,203.737,203.691,203.621,203.573 ,203.524,203.474,203.423,203.369, 203.316,203.26,203.204,203.146,203.087, 203.027,202.965,202.901,202.837,202.768 ,202.7,202.63,202.485,202.409,202.317, 202.221,202.072,202.021,201.848)
ORBIT_NUMBER = 5463
ORBITAL_ECCENTRICITY = 0.569
ORBITAL_INCLINATION = 86.76
ORBITAL_SEMIMAJOR_AXIS = 8650.64
PERIAPSIS_ALTITUDE = 351.42
PERIAPSIS_ARGUMENT_ANGLE = 117.25
PERIAPSIS_TIME = 2008-04-03T12:39:11.000Z
SPACECRAFT_ORIENTATION = (0.0,-1.0,0.0)
^MEX_ORIENTATION_DESC = "MEX_ORIENTATION_DESC.TXT"
SPACECRAFT_POINTING_MODE = NADIR
^MEX_POINTING_DESC = "MEX_POINTING_DESC.TXT"
RIGHT_ASCENSION = -1e+32
DECLINATION = -1e+32
OFFSET_ANGLE = -1e+32
SPACECRAFT_SOLAR_DISTANCE = 2.48064e+08
TARGET_NAME = MARS
/* CAMERA DATA ELEMENTS */
DETECTOR_TEMPERATURE = 17.351
FOCAL_PLANE_TEMPERATURE = 8.1755
INST_CMPRS_NAME = "DISCRETE COSINE TRANSFORMATION (DCT)"
INST_CMPRS_RATIO = 20.83
INST_CMPRS_QUALITY = 0
INST_CMPRS_QUANTZ_TBL_ID = 0
INSTRUMENT_TEMPERATURE = 10.6223
LENS_TEMPERATURE = 8.5833
MACROPIXEL_SIZE = 4
MISSING_FRAMES = 1
PIXEL_SUBSAMPLING_FLAG = N
SIGNAL_CHAIN_ID = 2
/* RADIOMETRIC DATA ELEMENTS */
BANDWIDTH = 81.0
CENTER_FILTER_WAVELENGTH = 955.5
RADIANCE_OFFSET = 0.668705
RADIANCE_SCALING_FACTOR = 0.00530302
REFLECTANCE_SCALING_FACTOR = 0.000704012
MEX:REFLECTANCE_OFFSET = 0.0887751
/* IMAGE OBJECT DEFINITIONS */
OBJECT = IMAGE
  INTERCHANGE_FORMAT = BINARY
  LINES = 15746
  LINE_SAMPLES = 3185
  SAMPLE_TYPE = UNSIGNED_INTEGER
  SAMPLE_BITS = 8
  BANDS = 1
  BAND_STORAGE_TYPE = BAND_SEQUENTIAL
  MAXIMUM = 255
  MEAN = 114.883
  MINIMUM = 1
  STANDARD_DEVIATION = 33.4187
END_OBJECT = IMAGE
/* MAP OBJECT DEFINITIONS */
OBJECT = IMAGE_MAP_PROJECTION
  ^DATA_SET_MAP_PROJECTION_CATALOG= "DSMAP.CAT"
  A_AXIS_RADIUS = 3396.0
  B_AXIS_RADIUS = 3396.0
  C_AXIS_RADIUS = 3396.0
  CENTER_LATITUDE = 0.0
  CENTER_LONGITUDE = 202.0
  COORDINATE_SYSTEM_NAME = PLANETOGRAPHIC
  COORDINATE_SYSTEM_TYPE = "BODY-FIXED ROTATING"
  EASTERNMOST_LONGITUDE = 204.581
  FIRST_STANDARD_PARALLEL = "N/A"
  LINE_FIRST_PIXEL = 1
  LINE_LAST_PIXEL = 15746
  LINE_PROJECTION_OFFSET = 84186.875
  MAP_PROJECTION_ROTATION = 0.0
  MAP_PROJECTION_TYPE = SINUSOIDAL
  MAP_RESOLUTION = 1185.42760773333
  MAP_SCALE = 0.05
  MAXIMUM_LATITUDE = 71.10550000000001
  MINIMUM_LATITUDE = 57.7191
  POSITIVE_LONGITUDE_DIRECTION = EAST
  REFERENCE_LATITUDE = "N/A"
  REFERENCE_LONGITUDE = "N/A"
  SAMPLE_FIRST_PIXEL = 1
  SAMPLE_LAST_PIXEL = 3185
  SAMPLE_PROJECTION_OFFSET = 1555.125
  SECOND_STANDARD_PARALLEL = "N/A"
  WESTERNMOST_LONGITUDE = 198.0
END_OBJECT = IMAGE_MAP_PROJECTION
END
