PDS_VERSION_ID = PDS3
/* FILE DATA ELEMENTS */
RECORD_TYPE = UNDEFINED
/* POINTERS TO DATA OBJECTS */
^IMAGE = ("H5456_0000_ND4.TIF")
/* IDENTIFICATION DATA ELEMENTS */
DATA_SET_ID = "MEX-M-HRSC-4-REFDR-MAPPROJECT-EXT2-V4.0"
DATA_SET_NAME = "MARS EXPRESS HRSC MAP PROJECTED REFDR EXTENSION2 V4.0"
DETECTOR_ID = MEX_HRSC_NADIR
EVENT_TYPE = "MARS-REGIONAL-MAPPING-Te-Im-Pf"
INSTRUMENT_HOST_ID = MEX
INSTRUMENT_HOST_NAME = "MARS EXPRESS"
INSTRUMENT_ID = HRSC
INSTRUMENT_NAME = "HIGH RESOLUTION STEREO CAMERA"
MISSION_NAME = "MARS EXPRESS"
MISSION_PHASE_NAME = ME_Phase_11
PROCESSING_LEVEL_ID = 4
PRODUCT_CREATION_TIME = 2023-02-02T05:41:08.000Z
PRODUCT_ID = "H5456_0000_ND4.TIF"
RELEASE_ID = 0002
REVISION_ID = 0000
/* QUALITY DATA ELEMENTS */
DATA_QUALITY_ID = 1
DATA_QUALITY_DESC = "Data calculated based on original SPICE kernels"
/* TIME DATA ELEMENTS */
SPACECRAFT_CLOCK_START_COUNT = "1/0155133798.09040"
SPACECRAFT_CLOCK_STOP_COUNT = "1/0155134031.08607"
START_TIME = 2008-04-01T12:43:55.497Z
STOP_TIME = 2008-04-01T12:46:40.493Z
/* ORBITAL DATA ELEMENTS */
ASCENDING_NODE_LONGITUDE = 114.75
MAXIMUM_RESOLUTION = 0.0142
FOOTPRINT_POINT_LATITUDE = (68.3115,68.2674,68.228,68.1575,68.1556 ,68.1506,67.7311,67.311,66.8905,66.4694 ,66.0479,65.626,65.2037,64.7811,64.3581 ,63.9348,63.723,63.5112,63.2993,63.0874 ,62.8754,62.6633,62.4512,62.2391, 62.0269,61.8146,61.6023,61.39,61.0715, 60.8591,60.6467,60.4342,60.2218,60.0093 ,59.7968,59.5843,59.3718,59.1592, 58.9467,58.7342,58.5217,58.3092,58.0967 ,57.6717,57.5654,57.5454,57.5775, 57.6048,57.6217,57.6348,57.6355,57.636, 57.8495,58.0629,58.2764,58.49,58.7035, 58.9171,59.1307,59.3442,59.5579,59.7715 ,59.9851,60.3056,60.5192,60.7329, 60.9465,61.1601,61.3738,61.5874,61.801, 62.0146,62.2281,62.4417,62.6553,62.8688 ,63.0823,63.2957,63.5092,63.7226, 63.9359,64.1493,64.3625,64.5758,64.789, 65.0021,65.2152,65.4282,65.6412,65.8541 ,66.067,66.2798,66.4925,66.7052,66.9178 ,67.3427,67.7674,68.1917,68.2977, 68.3115)
FOOTPRINT_POINT_LONGITUDE = (183.087,182.031,181.202,179.9,179.868, 179.749,179.931,180.105,180.272,180.432 ,180.586,180.734,180.874,181.01,181.141 ,181.266,181.327,181.386,181.445, 181.502,181.559,181.614,181.668,181.721 ,181.773,181.824,181.874,181.923, 181.995,182.042,182.088,182.133,182.177 ,182.221,182.263,182.305,182.346, 182.386,182.426,182.464,182.503,182.54, 182.577,182.648,182.666,182.669,183.379 ,184.067,184.55,184.964,184.987,184.999 ,184.976,184.952,184.928,184.904,184.88 ,184.855,184.829,184.803,184.777, 184.751,184.723,184.682,184.654,184.625 ,184.596,184.567,184.537,184.506, 184.475,184.443,184.41,184.378,184.345, 184.311,184.276,184.241,184.205,184.169 ,184.132,184.094,184.056,184.017, 183.977,183.937,183.895,183.853,183.81, 183.766,183.722,183.676,183.63,183.583, 183.534,183.435,183.332,183.224,183.197 ,183.087)
ORBIT_NUMBER = 5456
ORBITAL_ECCENTRICITY = 0.569
ORBITAL_INCLINATION = 86.75
ORBITAL_SEMIMAJOR_AXIS = 8652.27
PERIAPSIS_ALTITUDE = 351.35
PERIAPSIS_ARGUMENT_ANGLE = 118.48
PERIAPSIS_TIME = 2008-04-01T12:45:42.000Z
SPACECRAFT_ORIENTATION = (0.0,-1.0,0.0)
^MEX_ORIENTATION_DESC = "MEX_ORIENTATION_DESC.TXT"
SPACECRAFT_POINTING_MODE = NADIR
^MEX_POINTING_DESC = "MEX_POINTING_DESC.TXT"
RIGHT_ASCENSION = -1e+32
DECLINATION = -1e+32
OFFSET_ANGLE = -1e+32
SPACECRAFT_SOLAR_DISTANCE = 2.47945e+08
TARGET_NAME = MARS
/* CAMERA DATA ELEMENTS */
DETECTOR_TEMPERATURE = 17.9627
FOCAL_PLANE_TEMPERATURE = 8.3794
INST_CMPRS_NAME = "DISCRETE COSINE TRANSFORMATION (DCT)"
INST_CMPRS_RATIO = 6.87105
INST_CMPRS_QUALITY = 0
INST_CMPRS_QUANTZ_TBL_ID = 0
INSTRUMENT_TEMPERATURE = 11.0301
LENS_TEMPERATURE = 8.5833
MACROPIXEL_SIZE = 1
MISSING_FRAMES = 0
PIXEL_SUBSAMPLING_FLAG = N
SIGNAL_CHAIN_ID = 0
/* RADIOMETRIC DATA ELEMENTS */
BANDWIDTH = 177.0
CENTER_FILTER_WAVELENGTH = 677.5
RADIANCE_OFFSET = 2.17065
RADIANCE_SCALING_FACTOR = 0.0123566
REFLECTANCE_SCALING_FACTOR = 0.000403548
MEX:REFLECTANCE_OFFSET = 0.0708899
/* IMAGE OBJECT DEFINITIONS */
OBJECT = IMAGE
  INTERCHANGE_FORMAT = BINARY
  LINES = 51079
  LINE_SAMPLES = 10810
  SAMPLE_TYPE = UNSIGNED_INTEGER
  SAMPLE_BITS = 8
  BANDS = 1
  BAND_STORAGE_TYPE = BAND_SEQUENTIAL
  MAXIMUM = 255
  MEAN = 158.099
  MINIMUM = 1
  STANDARD_DEVIATION = 22.5388
END_OBJECT = IMAGE
/* MAP OBJECT DEFINITIONS */
OBJECT = IMAGE_MAP_PROJECTION
  ^DATA_SET_MAP_PROJECTION_CATALOG= "DSMAP.CAT"
  A_AXIS_RADIUS = 3396.0
  B_AXIS_RADIUS = 3396.0
  C_AXIS_RADIUS = 3396.0
  CENTER_LATITUDE = 0.0
  CENTER_LONGITUDE = 183.0
  COORDINATE_SYSTEM_NAME = PLANETOGRAPHIC
  COORDINATE_SYSTEM_TYPE = "BODY-FIXED ROTATING"
  EASTERNMOST_LONGITUDE = 184.999
  FIRST_STANDARD_PARALLEL = "N/A"
  LINE_FIRST_PIXEL = 1
  LINE_LAST_PIXEL = 51079
  LINE_PROJECTION_OFFSET = 323942.0
  MAP_PROJECTION_ROTATION = 0.0
  MAP_PROJECTION_TYPE = SINUSOIDAL
  MAP_RESOLUTION = 4741.71043093333
  MAP_SCALE = 0.0125
  MAXIMUM_LATITUDE = 68.3115
  MINIMUM_LATITUDE = 57.5454
  POSITIVE_LONGITUDE_DIRECTION = EAST
  REFERENCE_LATITUDE = "N/A"
  REFERENCE_LONGITUDE = "N/A"
  SAMPLE_FIRST_PIXEL = 1
  SAMPLE_LAST_PIXEL = 10810
  SAMPLE_PROJECTION_OFFSET = 5736.0
  SECOND_STANDARD_PARALLEL = "N/A"
  WESTERNMOST_LONGITUDE = 179.749
END_OBJECT = IMAGE_MAP_PROJECTION
END
