PDS_VERSION_ID = PDS3
/* FILE DATA ELEMENTS */
RECORD_TYPE = UNDEFINED
/* POINTERS TO DATA OBJECTS */
^IMAGE = ("H5456_0000_IR4.TIF")
/* IDENTIFICATION DATA ELEMENTS */
DATA_SET_ID = "MEX-M-HRSC-4-REFDR-MAPPROJECT-EXT2-V4.0"
DATA_SET_NAME = "MARS EXPRESS HRSC MAP PROJECTED REFDR EXTENSION2 V4.0"
DETECTOR_ID = MEX_HRSC_IR
EVENT_TYPE = "MARS-REGIONAL-MAPPING-Te-Im-Pf"
INSTRUMENT_HOST_ID = MEX
INSTRUMENT_HOST_NAME = "MARS EXPRESS"
INSTRUMENT_ID = HRSC
INSTRUMENT_NAME = "HIGH RESOLUTION STEREO CAMERA"
MISSION_NAME = "MARS EXPRESS"
MISSION_PHASE_NAME = ME_Phase_11
PROCESSING_LEVEL_ID = 4
PRODUCT_CREATION_TIME = 2023-02-02T05:41:08.000Z
PRODUCT_ID = "H5456_0000_IR4.TIF"
RELEASE_ID = 0002
REVISION_ID = 0000
/* QUALITY DATA ELEMENTS */
DATA_QUALITY_ID = 1
DATA_QUALITY_DESC = "Data calculated based on original SPICE kernels"
/* TIME DATA ELEMENTS */
SPACECRAFT_CLOCK_START_COUNT = "1/0155133798.09040"
SPACECRAFT_CLOCK_STOP_COUNT = "1/0155134031.08607"
START_TIME = 2008-04-01T12:43:27.767Z
STOP_TIME = 2008-04-01T12:46:14.314Z
/* ORBITAL DATA ELEMENTS */
ASCENDING_NODE_LONGITUDE = 114.75
MAXIMUM_RESOLUTION = 0.0592
FOOTPRINT_POINT_LATITUDE = (68.4041,68.353,68.2957,68.2429,68.241, 68.1292,67.82,67.4074,66.9939,66.5791, 66.3716,66.0598,65.7478,65.5395,65.3305 ,65.0168,64.8075,64.4936,64.2836, 64.0735,63.8638,63.6533,63.443,63.2324, 62.9166,62.7055,62.3889,62.1777,61.966, 61.6485,61.3306,61.1185,60.9062,60.6937 ,60.4811,60.2682,60.0555,59.8426, 59.6297,59.4165,59.2033,58.9897,58.6695 ,58.3493,58.1355,57.9217,57.7076, 57.6005,57.5235,57.5563,57.5796,57.598, 57.6154,57.6161,57.6171,57.8323,58.0472 ,58.3696,58.6918,58.9065,59.1211, 59.3356,59.5501,59.8716,60.0859,60.2998 ,60.5138,60.7276,60.9412,61.1547, 61.3682,61.5819,61.7948,62.0083,62.2215 ,62.434,62.7526,63.0714,63.3897,63.6019 ,63.8138,64.0255,64.2372,64.4487,64.66, 64.9767,65.2932,65.6092,65.8196,66.0299 ,66.2401,66.45,66.7647,67.079,67.2881, 67.4972,67.7061,68.1233,68.2275, 68.4041)
FOOTPRINT_POINT_LONGITUDE = (183.102,181.897,180.76,179.842,179.812 ,179.747,179.882,180.057,180.224, 180.385,180.463,180.577,180.688,180.761 ,180.831,180.934,181.002,181.1,181.164, 181.227,181.289,181.35,181.409,181.467, 181.553,181.608,181.69,181.743,181.795, 181.872,181.946,181.994,182.042,182.088 ,182.134,182.179,182.223,182.266, 182.309,182.351,182.392,182.432,182.491 ,182.549,182.586,182.623,182.659, 182.677,182.689,183.377,183.937,184.434 ,184.974,184.995,185.002,184.98,184.957 ,184.922,184.885,184.861,184.836, 184.811,184.785,184.746,184.719,184.692 ,184.664,184.636,184.608,184.579, 184.549,184.519,184.489,184.458,184.426 ,184.395,184.346,184.296,184.245,184.21 ,184.174,184.138,184.101,184.064, 184.025,183.967,183.907,183.845,183.803 ,183.76,183.716,183.672,183.603,183.533 ,183.485,183.436,183.386,183.284, 183.258,183.102)
ORBIT_NUMBER = 5456
ORBITAL_ECCENTRICITY = 0.569
ORBITAL_INCLINATION = 86.75
ORBITAL_SEMIMAJOR_AXIS = 8652.27
PERIAPSIS_ALTITUDE = 351.35
PERIAPSIS_ARGUMENT_ANGLE = 118.48
PERIAPSIS_TIME = 2008-04-01T12:45:42.000Z
SPACECRAFT_ORIENTATION = (0.0,-1.0,0.0)
^MEX_ORIENTATION_DESC = "MEX_ORIENTATION_DESC.TXT"
SPACECRAFT_POINTING_MODE = NADIR
^MEX_POINTING_DESC = "MEX_POINTING_DESC.TXT"
RIGHT_ASCENSION = -1e+32
DECLINATION = -1e+32
OFFSET_ANGLE = -1e+32
SPACECRAFT_SOLAR_DISTANCE = 2.47945e+08
TARGET_NAME = MARS
/* CAMERA DATA ELEMENTS */
DETECTOR_TEMPERATURE = 16.9432
FOCAL_PLANE_TEMPERATURE = 8.3794
INST_CMPRS_NAME = "DISCRETE COSINE TRANSFORMATION (DCT)"
INST_CMPRS_RATIO = 22.6754
INST_CMPRS_QUALITY = 0
INST_CMPRS_QUANTZ_TBL_ID = 0
INSTRUMENT_TEMPERATURE = 11.0301
LENS_TEMPERATURE = 8.5833
MACROPIXEL_SIZE = 4
MISSING_FRAMES = 0
PIXEL_SUBSAMPLING_FLAG = N
SIGNAL_CHAIN_ID = 2
/* RADIOMETRIC DATA ELEMENTS */
BANDWIDTH = 81.0
CENTER_FILTER_WAVELENGTH = 955.5
RADIANCE_OFFSET = 0.532077
RADIANCE_SCALING_FACTOR = 0.00333852
REFLECTANCE_SCALING_FACTOR = 0.000442786
MEX:REFLECTANCE_OFFSET = 0.070569
/* IMAGE OBJECT DEFINITIONS */
OBJECT = IMAGE
  INTERCHANGE_FORMAT = BINARY
  LINES = 12770
  LINE_SAMPLES = 2703
  SAMPLE_TYPE = UNSIGNED_INTEGER
  SAMPLE_BITS = 8
  BANDS = 1
  BAND_STORAGE_TYPE = BAND_SEQUENTIAL
  MAXIMUM = 255
  MEAN = 145.753
  MINIMUM = 1
  STANDARD_DEVIATION = 29.1476
END_OBJECT = IMAGE
/* MAP OBJECT DEFINITIONS */
OBJECT = IMAGE_MAP_PROJECTION
  ^DATA_SET_MAP_PROJECTION_CATALOG= "DSMAP.CAT"
  A_AXIS_RADIUS = 3396.0
  B_AXIS_RADIUS = 3396.0
  C_AXIS_RADIUS = 3396.0
  CENTER_LATITUDE = 0.0
  CENTER_LONGITUDE = 183.0
  COORDINATE_SYSTEM_NAME = PLANETOGRAPHIC
  COORDINATE_SYSTEM_TYPE = "BODY-FIXED ROTATING"
  EASTERNMOST_LONGITUDE = 185.002
  FIRST_STANDARD_PARALLEL = "N/A"
  LINE_FIRST_PIXEL = 1
  LINE_LAST_PIXEL = 12770
  LINE_PROJECTION_OFFSET = 80985.125
  MAP_PROJECTION_ROTATION = 0.0
  MAP_PROJECTION_TYPE = SINUSOIDAL
  MAP_RESOLUTION = 1185.42760773333
  MAP_SCALE = 0.05
  MAXIMUM_LATITUDE = 68.4041
  MINIMUM_LATITUDE = 57.5235
  POSITIVE_LONGITUDE_DIRECTION = EAST
  REFERENCE_LATITUDE = "N/A"
  REFERENCE_LONGITUDE = "N/A"
  SAMPLE_FIRST_PIXEL = 1
  SAMPLE_LAST_PIXEL = 2703
  SAMPLE_PROJECTION_OFFSET = 1433.625
  SECOND_STANDARD_PARALLEL = "N/A"
  WESTERNMOST_LONGITUDE = 179.747
END_OBJECT = IMAGE_MAP_PROJECTION
END
