PDS_VERSION_ID = PDS3
/* FILE DATA ELEMENTS */
RECORD_TYPE = UNDEFINED
/* POINTERS TO DATA OBJECTS */
^IMAGE = ("H5437_0000_S24.TIF")
/* IDENTIFICATION DATA ELEMENTS */
DATA_SET_ID = "MEX-M-HRSC-4-REFDR-MAPPROJECT-EXT2-V4.0"
DATA_SET_NAME = "MARS EXPRESS HRSC MAP PROJECTED REFDR EXTENSION2 V4.0"
DETECTOR_ID = MEX_HRSC_S2
EVENT_TYPE = "MARS-REGIONAL-MAPPING-Te-Gl-Pf"
INSTRUMENT_HOST_ID = MEX
INSTRUMENT_HOST_NAME = "MARS EXPRESS"
INSTRUMENT_ID = HRSC
INSTRUMENT_NAME = "HIGH RESOLUTION STEREO CAMERA"
MISSION_NAME = "MARS EXPRESS"
MISSION_PHASE_NAME = ME_Phase_11
PROCESSING_LEVEL_ID = 4
PRODUCT_CREATION_TIME = 2023-02-02T05:41:08.000Z
PRODUCT_ID = "H5437_0000_S24.TIF"
RELEASE_ID = 0002
REVISION_ID = 0000
/* QUALITY DATA ELEMENTS */
DATA_QUALITY_ID = 1
DATA_QUALITY_DESC = "Data calculated based on original SPICE kernels"
/* TIME DATA ELEMENTS */
SPACECRAFT_CLOCK_START_COUNT = "1/0154665946.09067"
SPACECRAFT_CLOCK_STOP_COUNT = "1/0154666173.41757"
START_TIME = 2008-03-27T02:46:53.131Z
STOP_TIME = 2008-03-27T02:49:35.415Z
/* ORBITAL DATA ELEMENTS */
ASCENDING_NODE_LONGITUDE = 115.14
MAXIMUM_RESOLUTION = 0.0301
FOOTPRINT_POINT_LATITUDE = (57.2388,57.2211,57.1943,57.1503, 57.1493,57.2537,57.0538,56.8538,56.6542 ,56.4546,56.2548,56.0554,55.8564, 55.5577,55.3585,55.1591,54.7696,54.4703 ,54.2653,53.9698,53.772,53.5744,53.2779 ,53.0806,52.8834,52.6864,52.4896,52.293 ,52.0965,51.9,51.7039,51.4096,51.214, 51.0183,50.8229,50.4325,50.0426,49.8455 ,49.5553,49.3425,49.111,48.8801,48.6466 ,48.3008,48.0649,47.8358,47.6006, 47.3702,47.1421,47.0273,46.9953,47.0059 ,47.016,47.0325,47.0445,47.0524,47.053, 47.0536,47.3989,47.63,47.9779,48.3276, 48.6782,48.9112,49.2608,49.4941,49.6965 ,50.0868,50.3797,50.7707,51.0646, 51.2607,51.457,51.6537,51.8503,52.1459, 52.3429,52.5401,52.8366,53.0342,53.3311 ,53.5293,53.7273,54.0252,54.2239, 54.4225,54.7211,54.9201,55.2193,55.4187 ,55.7184,55.9182,56.2183,56.4185, 56.6188,56.8195,57.0201,57.2208,57.3212 ,57.2388)
FOOTPRINT_POINT_LONGITUDE = (286.498,286.008,285.329,284.34,284.319 ,284.258,284.288,284.317,284.346, 284.374,284.402,284.429,284.455,284.494 ,284.52,284.545,284.59,284.626,284.652, 284.685,284.707,284.729,284.76,284.781, 284.801,284.821,284.84,284.859,284.878, 284.897,284.915,284.941,284.958,284.975 ,284.992,285.024,285.055,285.071, 285.092,285.108,285.124,285.141,285.158 ,285.181,285.198,285.212,285.228, 285.242,285.256,285.262,285.264,285.569 ,285.895,286.413,286.894,287.223, 287.242,287.249,287.233,287.222,287.206 ,287.19,287.174,287.163,287.145,287.133 ,287.122,287.1,287.083,287.06,287.042, 287.03,287.018,287.005,286.993,286.974, 286.961,286.948,286.928,286.914,286.893 ,286.879,286.865,286.844,286.829, 286.814,286.791,286.775,286.752,286.736 ,286.711,286.695,286.669,286.652, 286.635,286.617,286.599,286.581,286.572 ,286.498)
ORBIT_NUMBER = 5437
ORBITAL_ECCENTRICITY = 0.569
ORBITAL_INCLINATION = 86.74
ORBITAL_SEMIMAJOR_AXIS = 8660.32
PERIAPSIS_ALTITUDE = 349.46
PERIAPSIS_ARGUMENT_ANGLE = 121.82
PERIAPSIS_TIME = 2008-03-27T02:46:09.000Z
SPACECRAFT_ORIENTATION = (0.0,-1.0,0.0)
^MEX_ORIENTATION_DESC = "MEX_ORIENTATION_DESC.TXT"
SPACECRAFT_POINTING_MODE = ACROSSTRACK
^MEX_POINTING_DESC = "MEX_POINTING_DESC.TXT"
RIGHT_ASCENSION = -1e+32
DECLINATION = -1e+32
OFFSET_ANGLE = 0.2
SPACECRAFT_SOLAR_DISTANCE = 2.47594e+08
TARGET_NAME = MARS
/* CAMERA DATA ELEMENTS */
DETECTOR_TEMPERATURE = 18.1666
FOCAL_PLANE_TEMPERATURE = 7.7677
INST_CMPRS_NAME = "DISCRETE COSINE TRANSFORMATION (DCT)"
INST_CMPRS_RATIO = 12.6247
INST_CMPRS_QUALITY = 0
INST_CMPRS_QUANTZ_TBL_ID = 0
INSTRUMENT_TEMPERATURE = 11.0301
LENS_TEMPERATURE = 8.1755
MACROPIXEL_SIZE = 2
MISSING_FRAMES = 0
PIXEL_SUBSAMPLING_FLAG = N
SIGNAL_CHAIN_ID = 1
/* RADIOMETRIC DATA ELEMENTS */
BANDWIDTH = 178.0
CENTER_FILTER_WAVELENGTH = 679.0
RADIANCE_OFFSET = 3.34032
RADIANCE_SCALING_FACTOR = 0.0275537
REFLECTANCE_SCALING_FACTOR = 0.000894518
MEX:REFLECTANCE_OFFSET = 0.108442
/* IMAGE OBJECT DEFINITIONS */
OBJECT = IMAGE
  INTERCHANGE_FORMAT = BINARY
  LINES = 24505
  LINE_SAMPLES = 4172
  SAMPLE_TYPE = UNSIGNED_INTEGER
  SAMPLE_BITS = 8
  BANDS = 1
  BAND_STORAGE_TYPE = BAND_SEQUENTIAL
  MAXIMUM = 255
  MEAN = 157.834
  MINIMUM = 1
  STANDARD_DEVIATION = 27.6953
END_OBJECT = IMAGE
/* MAP OBJECT DEFINITIONS */
OBJECT = IMAGE_MAP_PROJECTION
  ^DATA_SET_MAP_PROJECTION_CATALOG= "DSMAP.CAT"
  A_AXIS_RADIUS = 3396.0
  B_AXIS_RADIUS = 3396.0
  C_AXIS_RADIUS = 3396.0
  CENTER_LATITUDE = 0.0
  CENTER_LONGITUDE = 286.0
  COORDINATE_SYSTEM_NAME = PLANETOGRAPHIC
  COORDINATE_SYSTEM_TYPE = "BODY-FIXED ROTATING"
  EASTERNMOST_LONGITUDE = 287.249
  FIRST_STANDARD_PARALLEL = "N/A"
  LINE_FIRST_PIXEL = 1
  LINE_LAST_PIXEL = 24505
  LINE_PROJECTION_OFFSET = 135941.25
  MAP_PROJECTION_ROTATION = 0.0
  MAP_PROJECTION_TYPE = SINUSOIDAL
  MAP_RESOLUTION = 2370.85521546667
  MAP_SCALE = 0.025
  MAXIMUM_LATITUDE = 57.3212
  MINIMUM_LATITUDE = 46.9953
  POSITIVE_LONGITUDE_DIRECTION = EAST
  REFERENCE_LATITUDE = "N/A"
  REFERENCE_LONGITUDE = "N/A"
  SAMPLE_FIRST_PIXEL = 1
  SAMPLE_LAST_PIXEL = 4172
  SAMPLE_PROJECTION_OFFSET = 2221.75
  SECOND_STANDARD_PARALLEL = "N/A"
  WESTERNMOST_LONGITUDE = 284.258
END_OBJECT = IMAGE_MAP_PROJECTION
END
