PDS_VERSION_ID = PDS3
/* FILE DATA ELEMENTS */
RECORD_TYPE = UNDEFINED
/* POINTERS TO DATA OBJECTS */
^IMAGE = ("H5431_0000_BL4.TIF")
/* IDENTIFICATION DATA ELEMENTS */
DATA_SET_ID = "MEX-M-HRSC-4-REFDR-MAPPROJECT-EXT2-V4.0"
DATA_SET_NAME = "MARS EXPRESS HRSC MAP PROJECTED REFDR EXTENSION2 V4.0"
DETECTOR_ID = MEX_HRSC_BLUE
EVENT_TYPE = "MARS-REGIONAL-MAPPING-Te-Im-Pf"
INSTRUMENT_HOST_ID = MEX
INSTRUMENT_HOST_NAME = "MARS EXPRESS"
INSTRUMENT_ID = HRSC
INSTRUMENT_NAME = "HIGH RESOLUTION STEREO CAMERA"
MISSION_NAME = "MARS EXPRESS"
MISSION_PHASE_NAME = ME_Phase_11
PROCESSING_LEVEL_ID = 4
PRODUCT_CREATION_TIME = 2023-02-02T05:41:08.000Z
PRODUCT_ID = "H5431_0000_BL4.TIF"
RELEASE_ID = 0002
REVISION_ID = 0000
/* QUALITY DATA ELEMENTS */
DATA_QUALITY_ID = 1
DATA_QUALITY_DESC = "Data calculated based on original SPICE kernels"
/* TIME DATA ELEMENTS */
SPACECRAFT_CLOCK_START_COUNT = "1/0154517986.09046"
SPACECRAFT_CLOCK_STOP_COUNT = "1/0154518215.07024"
START_TIME = 2008-03-25T09:40:31.087Z
STOP_TIME = 2008-03-25T09:43:10.625Z
/* ORBITAL DATA ELEMENTS */
ASCENDING_NODE_LONGITUDE = 115.26
MAXIMUM_RESOLUTION = 0.0565
FOOTPRINT_POINT_LATITUDE = (67.4876,67.4574,67.418,67.3522,67.3506 ,67.371,67.1331,66.7758,66.5374,66.1049 ,65.805,65.4044,65.0035,64.6022,64.2005 ,63.7985,63.5974,63.2956,63.0943, 62.7923,62.5909,62.3894,62.1878,61.9862 ,61.6837,61.482,61.2802,61.0784,60.8766 ,60.6747,60.4727,60.1697,59.9677, 59.7657,59.5636,59.3616,59.1595,58.9573 ,58.6541,58.452,58.2498,57.9465,57.7443 ,57.5421,57.2389,57.1377,57.0846, 57.1003,57.118,57.1357,57.1478,57.1621, 57.1626,57.1637,57.3667,57.5698,57.7728 ,57.976,58.2804,58.4835,58.6867,58.8898 ,59.0929,59.296,59.4991,59.8037,60.1083 ,60.3114,60.5144,60.7174,61.0219, 61.2248,61.4278,61.6307,61.8338,62.0366 ,62.2395,62.4421,62.6449,62.8476, 63.0503,63.2529,63.5569,63.7594,63.9619 ,64.1644,64.468,64.6703,64.8725,65.0747 ,65.2769,65.58,65.782,65.9839,66.3876, 66.7322,66.9727,67.3334,67.4536, 67.4876)
FOOTPRINT_POINT_LONGITUDE = (165.937,165.082,164.115,162.749, 162.719,162.671,162.757,162.884,162.965 ,163.109,163.204,163.327,163.446,163.56 ,163.67,163.775,163.827,163.902,163.951 ,164.023,164.07,164.115,164.16,164.205, 164.27,164.312,164.353,164.394,164.434, 164.473,164.512,164.568,164.605,164.641 ,164.677,164.712,164.746,164.779, 164.829,164.861,164.892,164.939,164.969 ,164.999,165.042,165.056,165.064, 165.438,165.901,166.41,166.795,167.312, 167.334,167.341,167.325,167.31,167.293, 167.277,167.251,167.234,167.217,167.2, 167.182,167.164,167.145,167.117,167.088 ,167.069,167.049,167.028,166.997, 166.976,166.954,166.933,166.911,166.889 ,166.866,166.841,166.818,166.794, 166.769,166.744,166.706,166.68,166.653, 166.626,166.585,166.556,166.528,166.498 ,166.468,166.423,166.392,166.36,166.295 ,166.237,166.196,166.132,166.11, 165.937)
ORBIT_NUMBER = 5431
ORBITAL_ECCENTRICITY = 0.569
ORBITAL_INCLINATION = 86.75
ORBITAL_SEMIMAJOR_AXIS = 8659.22
PERIAPSIS_ALTITUDE = 349.53
PERIAPSIS_ARGUMENT_ANGLE = 122.87
PERIAPSIS_TIME = 2008-03-25T09:43:06.000Z
SPACECRAFT_ORIENTATION = (0.0,-1.0,0.0)
^MEX_ORIENTATION_DESC = "MEX_ORIENTATION_DESC.TXT"
SPACECRAFT_POINTING_MODE = ACROSSTRACK
^MEX_POINTING_DESC = "MEX_POINTING_DESC.TXT"
RIGHT_ASCENSION = -1e+32
DECLINATION = -1e+32
OFFSET_ANGLE = 0.4
SPACECRAFT_SOLAR_DISTANCE = 2.47474e+08
TARGET_NAME = MARS
/* CAMERA DATA ELEMENTS */
DETECTOR_TEMPERATURE = 17.9627
FOCAL_PLANE_TEMPERATURE = 7.9716
INST_CMPRS_NAME = "DISCRETE COSINE TRANSFORMATION (DCT)"
INST_CMPRS_RATIO = 11.8431
INST_CMPRS_QUALITY = 0
INST_CMPRS_QUANTZ_TBL_ID = 0
INSTRUMENT_TEMPERATURE = 11.234
LENS_TEMPERATURE = 9.195
MACROPIXEL_SIZE = 4
MISSING_FRAMES = 0
PIXEL_SUBSAMPLING_FLAG = N
SIGNAL_CHAIN_ID = 2
/* RADIOMETRIC DATA ELEMENTS */
BANDWIDTH = 76.0
CENTER_FILTER_WAVELENGTH = 444.0
RADIANCE_OFFSET = 0.552241
RADIANCE_SCALING_FACTOR = 0.00643508
REFLECTANCE_SCALING_FACTOR = 0.00040492
MEX:REFLECTANCE_OFFSET = 0.0347491
/* IMAGE OBJECT DEFINITIONS */
OBJECT = IMAGE
  INTERCHANGE_FORMAT = BINARY
  LINES = 12365
  LINE_SAMPLES = 2581
  SAMPLE_TYPE = UNSIGNED_INTEGER
  SAMPLE_BITS = 8
  BANDS = 1
  BAND_STORAGE_TYPE = BAND_SEQUENTIAL
  MAXIMUM = 255
  MEAN = 19.239
  MINIMUM = 1
  STANDARD_DEVIATION = 9.42519
END_OBJECT = IMAGE
/* MAP OBJECT DEFINITIONS */
OBJECT = IMAGE_MAP_PROJECTION
  ^DATA_SET_MAP_PROJECTION_CATALOG= "DSMAP.CAT"
  A_AXIS_RADIUS = 3396.0
  B_AXIS_RADIUS = 3396.0
  C_AXIS_RADIUS = 3396.0
  CENTER_LATITUDE = 0.0
  CENTER_LONGITUDE = 165.0
  COORDINATE_SYSTEM_NAME = PLANETOGRAPHIC
  COORDINATE_SYSTEM_TYPE = "BODY-FIXED ROTATING"
  EASTERNMOST_LONGITUDE = 167.341
  FIRST_STANDARD_PARALLEL = "N/A"
  LINE_FIRST_PIXEL = 1
  LINE_LAST_PIXEL = 12365
  LINE_PROJECTION_OFFSET = 80043.375
  MAP_PROJECTION_ROTATION = 0.0
  MAP_PROJECTION_TYPE = SINUSOIDAL
  MAP_RESOLUTION = 1185.42760773333
  MAP_SCALE = 0.05
  MAXIMUM_LATITUDE = 67.4876
  MINIMUM_LATITUDE = 57.0846
  POSITIVE_LONGITUDE_DIRECTION = EAST
  REFERENCE_LATITUDE = "N/A"
  REFERENCE_LONGITUDE = "N/A"
  SAMPLE_FIRST_PIXEL = 1
  SAMPLE_LAST_PIXEL = 2581
  SAMPLE_PROJECTION_OFFSET = 1076.875
  SECOND_STANDARD_PARALLEL = "N/A"
  WESTERNMOST_LONGITUDE = 162.671
END_OBJECT = IMAGE_MAP_PROJECTION
END
